{"text_format":"3","workbook":"xlsx","n_sheets":37,"sheets":["Index","GeneralInfo","Declaration","Summary","Taxonomy","Shareholding Pattern","IndHUF","CGAndSG","Banks","OtherIND","Individuals","Government","Institutions","FPIPromoter","OtherForeign","MutuaFund","VentureCap","AIF","FVC","FPI_Insti","Bank_Insti","Insurance","Pension","Other_Insti","CG&SG&PI","Indivisual(aI)","Indivisual(aII)","NBFC","EmpTrust","OD","Other_NonInsti","DRHolder","EBT","Unclaimed_Prom","TextBlock","PAC_Public","Unclaimed_Public"],"not_rendered":{"images":1,"macros":1,"defined_names":5},"read":"whole","date_system":"1900"}

{"sheet":"Index","index":0,"n_rows":52,"n_cols":10,"rows_kept":52,"merged":[[5,4,5,8],[6,5,6,8],[7,5,7,8],[8,5,8,8],[9,5,9,8],[12,3,12,9],[13,3,13,9],[14,3,14,9],[17,3,17,9],[18,3,18,9],[19,3,19,9],[20,3,20,9],[21,3,21,9],[22,3,22,9],[25,3,25,9],[26,4,26,8],[27,4,27,8],[28,4,28,8],[29,4,29,8],[32,3,32,9],[33,3,33,9],[34,3,34,9],[35,3,35,9],[36,3,36,9],[37,3,37,9],[38,3,38,9],[39,3,39,9],[42,3,42,9],[43,3,43,9],[44,3,44,9],[45,3,45,9],[46,3,46,9],[47,3,47,9],[48,3,48,9],[49,3,49,9],[50,3,50,9],[51,3,51,9]]}
[]
[]
[]
[]
[]
[{"$nulls":4},"                                      XBRL Excel Utility"]
[{"$nulls":4},"1.","Overview"]
[{"$nulls":4},"2.","Before you begin"]
[{"$nulls":4},"3.","Index"]
[{"$nulls":4},"4.","Steps for filing Shareholding Pattern"]
[]
[]
[{"$nulls":3},"1. Overview"]
[{"$nulls":3},"The excel utility can be used for creating the XBRL/XML file for efiling of shareholding pattern. "]
[{"$nulls":3},"Shareholding pattern XBRL filling consists of two processes. Firstly generation of XBRL/XML file of the Shareholding pattern, and upload of generated XBRL/XML file to BSE Listing Center."]
[]
[]
[{"$nulls":3}," 2.  Before you begin"]
[{"$nulls":3},"1. The version of Microsoft Excel in your system should be Microsoft Office Excel 2007 and above."]
[{"$nulls":3},"2. The system should have a file compression software to unzip excel utility file."]
[{"$nulls":3},"3. Make sure that you have downloaded the latest Excel Utility from BSE Website to your local system."]
[{"$nulls":3},"4. Make sure that you have downloaded the Chrome Browser to view report generated from Excel utility"]
[{"$nulls":3},"5. Please enable the Macros (if disabled) as per instructions given in manual, so that all the functionalities of  Excel Utility works fine. Please first go through Enable Macro - Manual attached with zip file."]
[]
[]
[{"$nulls":3},"3. Index "]
[{"$nulls":3},1,"Details of general information about company",{"$nulls":4},"General Info"]
[{"$nulls":3},2,"Declaration",{"$nulls":4},"Declaration"]
[{"$nulls":3},3,"Summary",{"$nulls":4},"Summary"]
[{"$nulls":3},4,"Shareholding Pattern",{"$nulls":4},"Shareholding Pattern"]
[]
[]
[{"$nulls":3},"4. Steps for Filing Shareholding Pattern"]
[{"$nulls":3},"I.  Fill up the data: Navigate to each field of every section in the sheet to provide applicable data in correct format.  (Formats will get reflected while filling data.)  \n   - Use paste special command to paste data from other sheet.\n"]
[{"$nulls":3},"II. Validating Sheets:  Click on the ''Validate \"  button to ensure that the sheet has been properly filled and also data has been furnished in proper format. If there are some errors on the sheet, excel utility will prompt you about the same."]
[{"$nulls":3},"III. Validate All Sheets:  Click on the ''Home\"  button. And then click on \"Validate All Sheet\" button to ensure that all sheets has been properly filled and validated successfully. If there are some errors on the sheet, excel utility will prompt you about the same and stop validation at the same time. After correction, once again follow the same procedure to validate all sheets."]
[{"$nulls":3},"Excel Utility will not allow you to generate XBRL/XML until you rectify all errors. "]
[{"$nulls":3},"IV. Generate XML :   Excel Utility will not allow you to generate XBRL/XML unless successful validation of all sheet is completed. Now click on 'Generate XML'' to generate XBRL/XML file. \n    - Save the XBRL/XML file in your desired folder in local system. "]
[{"$nulls":3},"V. Generate Report :   Excel Utility will allow you to generate Report. Now click on 'Generate Report'' to generate html report.   \n     - Save the HTML Report file in your desired folder in local system.     \n     - To view HTML Report open \"Chrome Web Browser\" . \n     - To print report in PDF Format, Click on print button and save as PDF. "]
[{"$nulls":3},"VI. Upload XML file to BSE Listing Center: For uploading the XBRL/XML file generated through  Utility, login to BSE Listing Center and upload generated xml file. On Upload screen provide the required information and browse to select XML file and submit the XML.\n"]
[]
[]
[{"$nulls":3},"5. Fill up the Shareholding Pattern"]
[{"$nulls":3},"1. Cells with red fonts indicate mandatory fields. "]
[{"$nulls":3},"2. If mandatory field is left empty, then Utility will not allow you to proceed further for generating XML."]
[{"$nulls":3},"3. You are not allowed to enter data in the Grey Cells."]
[{"$nulls":3},"4. If fields are not applicable to your company then leave it blank. Do not insert Zero unless it is a mandatory field."]
[{"$nulls":3},"5. Data provided must be in correct format, otherwise Utility will not allow you to proceed further for generating XML."]
[{"$nulls":3},"6. Adding new rows: Sections such as Promoters details allow you to enter as much data in a tabular form. You can Click on  \"Add\" to add more rows.\n\nTo add more than one row you must fill data in the mandatory fields of the previous row."]
[{"$nulls":3},"7. Deleting rows: Rows that has been added can be removed by clicking the button \"Delete\". A popup will ask you to provide the range of rows you want to delete. "]
[{"$nulls":3},"8. Select data from \"Dropdown list\" wherever applicable. "]
[{"$nulls":3},"9. Adding Notes:  Click on \"Add Notes\" button to add notes "]

{"sheet":"GeneralInfo","index":1,"n_rows":16,"n_cols":24,"rows_kept":16,"merged":[[7,4,7,5],[18,4,18,5]]}
[{"$nulls":7}," ",{"$nulls":9},"Equity Shares","Pre-listing","June","Yes",null,"Pre-listing"]
[{"$nulls":17},"Preference Shares","Quarterly","September","No",null,"Capital Restructuring"]
[{"$nulls":17},"Differential Voting Rights","Capital Restructuring","December",null,null,"Half yearly"]
[{"$nulls":18},"Half yearly","March",null,null,"Yearly"]
[{"$nulls":18},"Yearly"]
[]
[{"$nulls":12},"Regulation 31 (1) (a)",{"$nulls":10},"Yes"]
[{"$nulls":4},"General information about company",{"$nulls":7},"Regulation 31 (1) (b)",{"$nulls":10},"No"]
[{"$nulls":4},"Scrip code",519397,{"$nulls":6},"Regulation 31 (1) (c)"]
[{"$nulls":4},"Name of the company","SHARAT INDUSTRIES LIMITED",{"$nulls":6},"Regulation 31 (1)"]
[{"$nulls":4},"Whether company is SME","No"]
[{"$nulls":4},"Class of Security","Equity Shares"]
[{"$nulls":4},"Type of report","Quarterly"]
[{"$nulls":4},"Quarter Ended / Half year ended/Date of Report (For Prelisting / Allotment)","31-12-2017"]
[{"$nulls":4},"Date of allotment / extinguishment (in case Capital Restructuring selected) / Listing Date",""]
[{"$nulls":4},"Shareholding pattern filed under",{"$f":"IF(F13=S1,M7,IF(F13=S2,M8,IF(F13=S3,M9,IF(F13=S4,M8,IF(F13=S5,M8,\"\")))))","v":"Regulation 31 (1) (b)"}]

{"sheet":"Declaration","index":2,"n_rows":15,"n_cols":21,"rows_kept":15}
["Micro@213Vista",{"$nulls":18},"Micro@213Vista","Yes"]
[{"$nulls":20},"No"]
[]
[]
[]
[]
[]
[{"$nulls":4},"Sr. No.","Particular","Yes/No"]
[{"$nulls":4},1,"Whether the Listed Entity has issued any partly paid up shares?","No",{"$nulls":8},1,null,"Whether the listed entity has issued any partly paid up shares"]
[{"$nulls":4},2,"Whether the Listed Entity has issued any Convertible Securities ?","No",{"$nulls":8},1,null,"Whether the listed entity has issued any convertible securities"]
[{"$nulls":4},3,"Whether the Listed Entity has issued any Warrants ?","No",{"$nulls":8},1,null,"Whether the listed entity has issued any warrants"]
[{"$nulls":4},4,"Whether the Listed Entity has any shares against which depository receipts are issued?","No",{"$nulls":8},1,null,"Whether the listed entity has any shares against which depository receipts are issued"]
[{"$nulls":4},5,"Whether the Listed Entity has any shares in locked-in?","No",{"$nulls":8},1,null,"Whether the listed entity has any shares in locked-in"]
[{"$nulls":4},6,"Whether any shares held by promoters are pledge or otherwise encumbered?","No",{"$nulls":8},1,null,"Whether any shares held by promoters are pledge or otherwise encumbered"]
[{"$nulls":4},7,"Whether company has equity shares with differential voting rights?","No",{"$nulls":8},1,null,"Whether company has equity shares with differential voting rights"]

{"sheet":"Summary","index":3,"n_rows":18,"n_cols":25,"rows_kept":18,"merged":[[7,4,7,24],[8,4,8,24],[9,4,11,4],[9,5,11,5],[9,6,11,6],[9,7,11,7],[9,8,11,8],[9,9,11,9],[9,10,11,10],[9,11,11,11],[9,12,9,15],[9,16,11,16],[9,17,11,17],[9,18,11,18],[9,19,11,19],[9,20,10,21],[9,22,10,23],[9,24,11,24],[10,12,10,14],[10,15,11,15]]}
[]
[{"$nulls":6},"Number of shareholders","Number of fully paid up equity shares","Number of partly paid-up equity shares","Number of shares underlying outstanding depository receipts","Total number of shares","Shareholding as a percentage of total number of shares held by promoters and public shareholders and custodians or DR holders","Number of voting rights held by same class of securities","Number of voting rights held by differential voting rights","Total Number of voting rights","Percentage of total number of voting rights","Number of shares underlying outstanding convertible securities","Number of warrant","Total shareholding as a percentage assuming full conversion of convertible securities","Total shareholding as a percentage assuming full conversion of convertible securities","Number of the locked-in-shares ","Locked-in-shares as a percentage of total number of shares","Pledged or encumbered - number of shares","Pledged or encumbered shares held as percentage of total number of shares","Number of equity shares held in dematerialized form"]
[]
[]
[]
[]
[]
[{"$nulls":4},"Table I - Summary Statement holding of specified securities"]
[{"$nulls":4},"Note  : Data will be automatically populated from shareholding pattern sheet -  Data Entry Restricted in this sheet"]
[{"$nulls":4},"Category\n(I)","Category of shareholder\n(II)","Nos. Of shareholders\n(III)","No. of fully paid up equity shares held\n(IV)","No. Of Partly paid-up equity shares held\n(V)","No. Of shares underlying Depository Receipts\n(VI)","Total nos. shares\nheld\n(VII) = (IV)+(V)+ (VI)","Shareholding as a % of total no. of shares (calculated as per SCRR, 1957)\n(VIII)\nAs a % of (A+B+C2)","Number of Voting Rights\nheld in each class of\nsecurities\n(IX)",{"$nulls":3},"No. Of Shares Underlying Outstanding convertible securities\n(X)","No. of Shares Underlying Outstanding Warrants (Xi)","No. Of Shares Underlying Outstanding convertible securities and No. Of Warrants\n(Xi) (a)","Shareholding , as a % assuming full conversion of convertible securities ( as a percentage of diluted share capital)\n(XI)= (VII)+(X)\nAs a % of (A+B+C2)","Number of Locked in shares\n(XII)",null,"Number of Shares pledged or otherwise encumbered\n(XIII)",null,"Number of equity shares held in dematerialized form \n(XIV)"]
[{"$nulls":12},"No of Voting  (XIV)  Rights",null,null,"Total as a % of\n(A+B+C)"]
[{"$nulls":12},"Class\neg:\nX","Class\neg:y","Total",{"$nulls":5},"No.\n(a)","As a % of total Shares held\n(b)","No.\n(a)","As a % of total Shares held\n(b)"]
[{"$nulls":4},"(A)","Promoter & Promoter Group",{"$f":"+IFERROR(IF(COUNT('Shareholding Pattern'!H26),('Shareholding Pattern'!H26),\"\"),\"\")","v":384},{"$f":"+IFERROR(IF(COUNT('Shareholding Pattern'!I26),('Shareholding Pattern'!I26),\"\"),\"\")","v":11997500},{"$f":"+IFERROR(IF(COUNT('Shareholding Pattern'!J26),('Shareholding Pattern'!J26),\"\"),\"\")","v":""},{"$f":"+IFERROR(IF(COUNT('Shareholding Pattern'!K26),('Shareholding Pattern'!K26),\"\"),\"\")","v":""},{"$f":"+IFERROR(IF(COUNT('Shareholding Pattern'!L26),('Shareholding Pattern'!L26),\"\"),\"\")","v":11997500},{"$f":"+IFERROR(IF(COUNT('Shareholding Pattern'!M26),('Shareholding Pattern'!M26),\"\"),\"\")","v":{"v":54.5,"d":"54.50"}},{"$f":"+IFERROR(IF(COUNT('Shareholding Pattern'!N26),('Shareholding Pattern'!N26),\"\"),\"\")","v":{"v":11997500,"d":"11,997,500.00"}},{"$f":"+IFERROR(IF(COUNT('Shareholding Pattern'!O26),('Shareholding Pattern'!O26),\"\"),\"\")","v":""},{"$f":"+IFERROR(IF(COUNT('Shareholding Pattern'!P26),('Shareholding Pattern'!P26),\"\"),\"\")","v":{"v":11997500,"d":"11,997,500.00"}},{"$f":"+IFERROR(IF(COUNT('Shareholding Pattern'!Q26),('Shareholding Pattern'!Q26),\"\"),\"\")","v":{"v":54.5,"d":"54.50"}},{"$f":"+IFERROR(IF(COUNT('Shareholding Pattern'!R26),('Shareholding Pattern'!R26),\"\"),\"\")","v":""},{"$f":"+IFERROR(IF(COUNT('Shareholding Pattern'!S26),('Shareholding Pattern'!S26),\"\"),\"\")","v":""},{"$f":"+IFERROR(IF(COUNT('Shareholding Pattern'!T26),('Shareholding Pattern'!T26),\"\"),\"\")","v":""},{"$f":"+IFERROR(IF(COUNT('Shareholding Pattern'!U26),('Shareholding Pattern'!U26),\"\"),\"\")","v":{"v":54.5,"d":"54.50"}},{"$f":"+IFERROR(IF(COUNT('Shareholding Pattern'!V26),('Shareholding Pattern'!V26),\"\"),\"\")","v":""},{"$f":"+IFERROR(IF(COUNT('Shareholding Pattern'!W26),('Shareholding Pattern'!W26),\"\"),\"\")","v":""},{"$f":"+IFERROR(IF(COUNT('Shareholding Pattern'!X26),('Shareholding Pattern'!X26),\"\"),\"\")","v":""},{"$f":"+IFERROR(IF(COUNT('Shareholding Pattern'!Y26),('Shareholding Pattern'!Y26),\"\"),\"\")","v":""},{"$f":"+IFERROR(IF(COUNT('Shareholding Pattern'!Z26),('Shareholding Pattern'!Z26),\"\"),\"\")","v":0}]
[{"$nulls":4},"(B)","Public",{"$f":"+IFERROR(IF(COUNT('Shareholding Pattern'!H50),('Shareholding Pattern'!H50),\"\"),\"\")","v":36649},{"$f":"+IFERROR(IF(COUNT('Shareholding Pattern'!I50),('Shareholding Pattern'!I50),\"\"),\"\")","v":10015000},{"$f":"+IFERROR(IF(COUNT('Shareholding Pattern'!J50),('Shareholding Pattern'!J50),\"\"),\"\")","v":""},{"$f":"+IFERROR(IF(COUNT('Shareholding Pattern'!K50),('Shareholding Pattern'!K50),\"\"),\"\")","v":""},{"$f":"+IFERROR(IF(COUNT('Shareholding Pattern'!L50),('Shareholding Pattern'!L50),\"\"),\"\")","v":10015000},{"$f":"+IFERROR(IF(COUNT('Shareholding Pattern'!M50),('Shareholding Pattern'!M50),\"\"),\"\")","v":{"v":45.5,"d":"45.50"}},{"$f":"+IFERROR(IF(COUNT('Shareholding Pattern'!N50),('Shareholding Pattern'!N50),\"\"),\"\")","v":{"v":10015000,"d":"10015000.00"}},{"$f":"+IFERROR(IF(COUNT('Shareholding Pattern'!O50),('Shareholding Pattern'!O50),\"\"),\"\")","v":""},{"$f":"+IFERROR(IF(COUNT('Shareholding Pattern'!P50),('Shareholding Pattern'!P50),\"\"),\"\")","v":{"v":10015000,"d":"10,015,000.00"}},{"$f":"+IFERROR(IF(COUNT('Shareholding Pattern'!Q50),('Shareholding Pattern'!Q50),\"\"),\"\")","v":{"v":45.5,"d":"45.50"}},{"$f":"+IFERROR(IF(COUNT('Shareholding Pattern'!R50),('Shareholding Pattern'!R50),\"\"),\"\")","v":""},{"$f":"+IFERROR(IF(COUNT('Shareholding Pattern'!S50),('Shareholding Pattern'!S50),\"\"),\"\")","v":""},{"$f":"+IFERROR(IF(COUNT('Shareholding Pattern'!T50),('Shareholding Pattern'!T50),\"\"),\"\")","v":""},{"$f":"+IFERROR(IF(COUNT('Shareholding Pattern'!U50),('Shareholding Pattern'!U50),\"\"),\"\")","v":{"v":45.5,"d":"45.50"}},{"$f":"+IFERROR(IF(COUNT('Shareholding Pattern'!V50),('Shareholding Pattern'!V50),\"\"),\"\")","v":""},{"$f":"+IFERROR(IF(COUNT('Shareholding Pattern'!W50),('Shareholding Pattern'!W50),\"\"),\"\")","v":""},null,null,{"$f":"+IFERROR(IF(COUNT('Shareholding Pattern'!Z50),('Shareholding Pattern'!Z50),\"\"),\"\")","v":0}]
[{"$nulls":4},"(C)","Non Promoter- Non Public",{"$f":"+IFERROR(IF(COUNT('Shareholding Pattern'!H56),('Shareholding Pattern'!H56),\"\"),\"\")","v":""},{"$f":"+IFERROR(IF(COUNT('Shareholding Pattern'!I56),('Shareholding Pattern'!I56),\"\"),\"\")","v":""},{"$f":"+IFERROR(IF(COUNT('Shareholding Pattern'!J56),('Shareholding Pattern'!J56),\"\"),\"\")","v":""},{"$f":"+IFERROR(IF(COUNT('Shareholding Pattern'!K56),('Shareholding Pattern'!K56),\"\"),\"\")","v":""},{"$f":"+IFERROR(IF(COUNT('Shareholding Pattern'!L56),('Shareholding Pattern'!L56),\"\"),\"\")","v":""},null,{"$f":"+IFERROR(IF(COUNT('Shareholding Pattern'!N56),('Shareholding Pattern'!N56),\"\"),\"\")","v":""},{"$f":"+IFERROR(IF(COUNT('Shareholding Pattern'!O56),('Shareholding Pattern'!O56),\"\"),\"\")","v":""},{"$f":"+IFERROR(IF(COUNT('Shareholding Pattern'!P56),('Shareholding Pattern'!P56),\"\"),\"\")","v":""},{"$f":"+IFERROR(IF(COUNT('Shareholding Pattern'!Q56),('Shareholding Pattern'!Q56),\"\"),\"\")","v":""},{"$f":"+IFERROR(IF(COUNT('Shareholding Pattern'!R56),('Shareholding Pattern'!R56),\"\"),\"\")","v":""},{"$f":"+IFERROR(IF(COUNT('Shareholding Pattern'!S56),('Shareholding Pattern'!S56),\"\"),\"\")","v":""},{"$f":"+IFERROR(IF(COUNT('Shareholding Pattern'!T56),('Shareholding Pattern'!T56),\"\"),\"\")","v":""},null,{"$f":"+IFERROR(IF(COUNT('Shareholding Pattern'!V56),('Shareholding Pattern'!V56),\"\"),\"\")","v":""},{"$f":"+IFERROR(IF(COUNT('Shareholding Pattern'!W56),('Shareholding Pattern'!W56),\"\"),\"\")","v":""},null,null,{"$f":"+IFERROR(IF(COUNT('Shareholding Pattern'!Z56),('Shareholding Pattern'!Z56),\"\"),\"\")","v":""}]
[{"$nulls":4},"(C1)","Shares underlying DRs",{"$f":"+IFERROR(IF(COUNT('Shareholding Pattern'!H54),('Shareholding Pattern'!H54),\"\"),\"\")","v":""},{"$f":"+IFERROR(IF(COUNT('Shareholding Pattern'!I54),('Shareholding Pattern'!I54),\"\"),\"\")","v":""},{"$f":"+IFERROR(IF(COUNT('Shareholding Pattern'!J54),('Shareholding Pattern'!J54),\"\"),\"\")","v":""},{"$f":"+IFERROR(IF(COUNT('Shareholding Pattern'!K54),('Shareholding Pattern'!K54),\"\"),\"\")","v":""},{"$f":"+IFERROR(IF(COUNT('Shareholding Pattern'!L54),('Shareholding Pattern'!L54),\"\"),\"\")","v":""},null,{"$f":"+IFERROR(IF(COUNT('Shareholding Pattern'!N54),('Shareholding Pattern'!N54),\"\"),\"\")","v":""},{"$f":"+IFERROR(IF(COUNT('Shareholding Pattern'!O54),('Shareholding Pattern'!O54),\"\"),\"\")","v":""},{"$f":"+IFERROR(IF(COUNT('Shareholding Pattern'!P54),('Shareholding Pattern'!P54),\"\"),\"\")","v":""},{"$f":"+IFERROR(IF(COUNT('Shareholding Pattern'!Q54),('Shareholding Pattern'!Q54),\"\"),\"\")","v":""},{"$f":"+IFERROR(IF(COUNT('Shareholding Pattern'!R54),('Shareholding Pattern'!R54),\"\"),\"\")","v":""},{"$f":"+IFERROR(IF(COUNT('Shareholding Pattern'!S54),('Shareholding Pattern'!S54),\"\"),\"\")","v":""},{"$f":"+IFERROR(IF(COUNT('Shareholding Pattern'!T54),('Shareholding Pattern'!T54),\"\"),\"\")","v":""},null,{"$f":"+IFERROR(IF(COUNT('Shareholding Pattern'!V54),('Shareholding Pattern'!V54),\"\"),\"\")","v":""},{"$f":"+IFERROR(IF(COUNT('Shareholding Pattern'!W54),('Shareholding Pattern'!W54),\"\"),\"\")","v":""},null,null,{"$f":"+IFERROR(IF(COUNT('Shareholding Pattern'!Z54),('Shareholding Pattern'!Z54),\"\"),\"\")","v":""}]
[{"$nulls":4},"(C2)","Shares held by Employee Trusts",{"$f":"+IFERROR(IF(COUNT('Shareholding Pattern'!H55),('Shareholding Pattern'!H55),\"\"),\"\")","v":""},{"$f":"+IFERROR(IF(COUNT('Shareholding Pattern'!I55),('Shareholding Pattern'!I55),\"\"),\"\")","v":""},{"$f":"+IFERROR(IF(COUNT('Shareholding Pattern'!J55),('Shareholding Pattern'!J55),\"\"),\"\")","v":""},{"$f":"+IFERROR(IF(COUNT('Shareholding Pattern'!K55),('Shareholding Pattern'!K55),\"\"),\"\")","v":""},{"$f":"+IFERROR(IF(COUNT('Shareholding Pattern'!L55),('Shareholding Pattern'!L55),\"\"),\"\")","v":""},{"$f":"+IFERROR(IF(COUNT('Shareholding Pattern'!M55),('Shareholding Pattern'!M55),\"\"),\"\")","v":""},{"$f":"+IFERROR(IF(COUNT('Shareholding Pattern'!N55),('Shareholding Pattern'!N55),\"\"),\"\")","v":""},{"$f":"+IFERROR(IF(COUNT('Shareholding Pattern'!O55),('Shareholding Pattern'!O55),\"\"),\"\")","v":""},{"$f":"+IFERROR(IF(COUNT('Shareholding Pattern'!P55),('Shareholding Pattern'!P55),\"\"),\"\")","v":""},{"$f":"+IFERROR(IF(COUNT('Shareholding Pattern'!Q55),('Shareholding Pattern'!Q55),\"\"),\"\")","v":""},{"$f":"+IFERROR(IF(COUNT('Shareholding Pattern'!R55),('Shareholding Pattern'!R55),\"\"),\"\")","v":""},{"$f":"+IFERROR(IF(COUNT('Shareholding Pattern'!S55),('Shareholding Pattern'!S55),\"\"),\"\")","v":""},{"$f":"+IFERROR(IF(COUNT('Shareholding Pattern'!T55),('Shareholding Pattern'!T55),\"\"),\"\")","v":""},{"$f":"+IFERROR(IF(COUNT('Shareholding Pattern'!U55),('Shareholding Pattern'!U55),\"\"),\"\")","v":""},{"$f":"+IFERROR(IF(COUNT('Shareholding Pattern'!V55),('Shareholding Pattern'!V55),\"\"),\"\")","v":""},{"$f":"+IFERROR(IF(COUNT('Shareholding Pattern'!W55),('Shareholding Pattern'!W55),\"\"),\"\")","v":""},null,null,{"$f":"+IFERROR(IF(COUNT('Shareholding Pattern'!Z55),('Shareholding Pattern'!Z55),\"\"),\"\")","v":""}]
[{"$nulls":5},"Total",{"$f":"+IFERROR(IF(COUNT('Shareholding Pattern'!H58),('Shareholding Pattern'!H58),\"\"),\"\")","v":37033},{"$f":"+IFERROR(IF(COUNT('Shareholding Pattern'!I58),('Shareholding Pattern'!I58),\"\"),\"\")","v":22012500},{"$f":"+IFERROR(IF(COUNT('Shareholding Pattern'!J58),('Shareholding Pattern'!J58),\"\"),\"\")","v":""},{"$f":"+IFERROR(IF(COUNT('Shareholding Pattern'!K58),('Shareholding Pattern'!K58),\"\"),\"\")","v":""},{"$f":"+IFERROR(IF(COUNT('Shareholding Pattern'!L58),('Shareholding Pattern'!L58),\"\"),\"\")","v":22012500},{"$f":"+IFERROR(IF(COUNT('Shareholding Pattern'!M58),('Shareholding Pattern'!M58),\"\"),\"\")","v":100},{"$f":"+IFERROR(IF(COUNT('Shareholding Pattern'!N58),('Shareholding Pattern'!N58),\"\"),\"\")","v":{"v":22012500,"d":"22012500.00"}},{"$f":"+IFERROR(IF(COUNT('Shareholding Pattern'!O58),('Shareholding Pattern'!O58),\"\"),\"\")","v":""},{"$f":"+IFERROR(IF(COUNT('Shareholding Pattern'!P58),('Shareholding Pattern'!P58),\"\"),\"\")","v":{"v":22012500,"d":"22012500.00"}},{"$f":"+IFERROR(IF(COUNT('Shareholding Pattern'!Q58),('Shareholding Pattern'!Q58),\"\"),\"\")","v":{"v":100,"d":"100.00"}},{"$f":"+IFERROR(IF(COUNT('Shareholding Pattern'!R58),('Shareholding Pattern'!R58),\"\"),\"\")","v":""},{"$f":"+IFERROR(IF(COUNT('Shareholding Pattern'!S58),('Shareholding Pattern'!S58),\"\"),\"\")","v":""},{"$f":"+IFERROR(IF(COUNT('Shareholding Pattern'!T58),('Shareholding Pattern'!T58),\"\"),\"\")","v":""},{"$f":"+IFERROR(IF(COUNT('Shareholding Pattern'!U58),('Shareholding Pattern'!U58),\"\"),\"\")","v":100},{"$f":"+IFERROR(IF(COUNT('Shareholding Pattern'!V58),('Shareholding Pattern'!V58),\"\"),\"\")","v":""},{"$f":"+IFERROR(IF(COUNT('Shareholding Pattern'!W58),('Shareholding Pattern'!W58),\"\"),\"\")","v":""},{"$f":"+IFERROR(IF(COUNT('Shareholding Pattern'!X58),('Shareholding Pattern'!X58),\"\"),\"\")","v":""},{"$f":"+IFERROR(IF(COUNT('Shareholding Pattern'!Y58),('Shareholding Pattern'!Y58),\"\"),\"\")","v":""},{"$f":"+IFERROR(IF(COUNT('Shareholding Pattern'!Z58),('Shareholding Pattern'!Z58),\"\"),\"\")","v":0}]

{"sheet":"Taxonomy","index":4,"n_rows":702,"n_cols":33,"rows_kept":702,"hidden":true}
["prefix","label","name","depth","order","ID","label1","label2","ScheduleName","Type","enumerations","substitutionGroup","balance","periodType","abstract","nillable","xbrldt:typedDomainRef","Type","restriction base","role","Publisher","Name","Name","Paragraph","Paragraph","busssinesRules"]
["in-bse-shp","GeneralInformationAbstract","General information [Abstract]",null,0,"in-bse-shp_GeneralInformationAbstract",null,null,"DetailsOfGeneralInformationAboutCompany","xbrli:stringItemType",0,"xbrli:item",0,"duration","true","true"]
["in-bse-shp","ScripCode","Scrip code",null,1,"in-bse-shp_ScripCode","GeneralInformationAbstract","ScripCode","DetailsOfGeneralInformationAboutCompany","in-bse-shp-types:ScripCode",0,"xbrli:item",0,"duration","false","true",{"$nulls":9},"This is a mandatory field. Should be valid SCRIP CODE  as per BSE Scrip Code Format. "]
["in-bse-shp","NameOfTheCompany","Name of the company",null,2,"in-bse-shp_NameOfTheCompany","GeneralInformationAbstract","NameOfTheCompany","DetailsOfGeneralInformationAboutCompany","xbrli:stringItemType",0,"xbrli:item",0,"duration","true","true",{"$nulls":9},"This is a mandatory field. Please enter company name."]
["in-bse-shp","ClassOfSecurity","Class of Security",null,3,"in-bse-shp_ClassOfSecurity","GeneralInformationAbstract","ClassOfSecurity","DetailsOfGeneralInformationAboutCompany","in-bse-shp-types:ClassOfSecurity",0,"xbrli:item",0,"duration","false","true"]
["in-bse-shp","TypeOfReport","Type of report",null,4,"in-bse-shp_TypeOfReport","GeneralInformationAbstract","TypeOfReport","DetailsOfGeneralInformationAboutCompany","in-bse-shp-types:TypeOfReport","(Pre-listing)(Quarterly)(Additional)","xbrli:item",0,"duration","false","true",{"$nulls":9},"This is a mandatory field. Please select value from the drop-down."]
["in-bse-shp","DateOfReport","Quarter Ended / Half year ended/Date of Report (For Prelisting / Allotment)",null,5,"in-bse-shp_DateOfReport","GeneralInformationAbstract","DateOfReport","DetailsOfGeneralInformationAboutCompany","xbrli:dateItemType",0,"xbrli:item",0,"instant","false","true",{"$nulls":9},"This is a mandatory field if you select type of report as \"Quarterly\". Please enter date in \"dd-mm-yyyy\" format."]
["in-bse-shp","DateOfAllotment","DateOfAllotment",null,6,"in-bse-shp_DateOfAllotment","GeneralInformationAbstract","DateOfAllotment","DetailsOfGeneralInformationAboutCompany","xbrli:dateItemType",null,"xbrli:item",null,"instant","false","true",{"$nulls":9},"This is a mandatory field if you select type of report as \"Pre-listing\" or \"Capital Restructuring\". Please enter date in \"dd-mm-yyyy\" format."]
["in-bse-shp","DateOfListing","DateOfListing",{"$nulls":6},"xbrli:dateItemType",{"$nulls":3},"instant","false"]
[null,"ShareholdingPatternFiledUnder","Shareholding pattern filed under",null,8,"in-bse-shp_ShareholdingPatternFiledUnder","GeneralInformationAbstract","ShareholdingPatternFiledUnder","DetailsOfGeneralInformationAboutCompany","in-bse-shp-types:TypeOfShareholdingPattern",0,"xbrli:item",0,"duration","false","true"]
["in-bse-shp","WhetherCompanyIsSME","Whether company is SME",{"$nulls":6},"xbrli:booleanItemType",{"$nulls":3},"instant",{"$nulls":11},"This is a mandatory field. Value must be \"Yes\" or \"No\", Select from drop down list."]
["in-bse-shp","WhetherCompanyHasEquitySharesWithDifferentialVotingRights","Whether company has equity shares with differential voting rights?",null,9,"in-bse-shp_WhetherCompanyHasEquitySharesWithDifferentialVotingRights","GeneralInformationAbstract","WhetherCompanyHasEquitySharesWithDifferentialVotingRights","DetailsOfGeneralInformationAboutCompany","xbrli:booleanItemType",0,"xbrli:item",0,"instant","false","true"]
["in-bse-shp","WhetherTheListedEntityHasIssuedAnyPartlyPaidUpShares","Whether the Listed Entity has issued any partly paid up shares?",null,10,"in-bse-shp_WhetherTheListedEntityHasIssuedAnyPartlyPaidUpShares","GeneralInformationAbstract","WhetherTheListedEntityHasIssuedAnyPartlyPaidUpShares","DetailsOfGeneralInformationAboutCompany","xbrli:booleanItemType",0,"xbrli:item",0,"instant","false","true"]
["in-bse-shp","WhetherTheListedEntityHasIssuedAnyConvertibleSecurities","Whether the Listed Entity has issued any Convertible Securities ?",null,11,"in-bse-shp_WhetherTheListedEntityHasIssuedAnyConvertibleSecurities","GeneralInformationAbstract","WhetherTheListedEntityHasIssuedAnyConvertibleSecurities","DetailsOfGeneralInformationAboutCompany","xbrli:booleanItemType",0,"xbrli:item",0,"instant","false","true"]
["in-bse-shp","WhetherTheListedEntityHasIssuedAnyWarrants","Whether the Listed Entity has issued any Warrants ?",null,12,"in-bse-shp_WhetherTheListedEntityHasIssuedAnyWarrants","GeneralInformationAbstract","WhetherTheListedEntityHasIssuedAnyWarrants","DetailsOfGeneralInformationAboutCompany","xbrli:booleanItemType",0,"xbrli:item",0,"instant","false","true"]
["in-bse-shp","WhetherTheListedEntityHasAnySharesAgainstWhichDepositoryReceiptsAreIssued","Whether the Listed Entity has any shares against which depository receipts are issued?",null,13,"in-bse-shp_WhetherTheListedEntityHasAnySharesAgainstWhichDepositoryReceiptsAreIssued","GeneralInformationAbstract","WhetherTheListedEntityHasAnySharesAgainstWhichDepositoryReceiptsAreIssued","DetailsOfGeneralInformationAboutCompany","xbrli:booleanItemType",0,"xbrli:item",0,"instant","false","true"]
["in-bse-shp","WhetherTheListedEntityHasAnySharesInLockedIn","Whether the Listed Entity has any shares in locked-in?",null,14,"in-bse-shp_WhetherTheListedEntityHasAnySharesInLockedIn","GeneralInformationAbstract","WhetherTheListedEntityHasAnySharesInLockedIn","DetailsOfGeneralInformationAboutCompany","xbrli:booleanItemType",0,"xbrli:item",0,"instant","false","true"]
["in-bse-shp","WhetherAnySharesHeldByPromotersArePledgeOrOtherwiseEncumbered","Whether any shares held by promoters are pledge or otherwise encumbered?",null,15,"in-bse-shp_WhetherAnySharesHeldByPromotersArePledgeOrOtherwiseEncumbered","GeneralInformationAbstract","WhetherAnySharesHeldByPromotersArePledgeOrOtherwiseEncumbered","DetailsOfGeneralInformationAboutCompany","xbrli:booleanItemType",0,"xbrli:item",0,"instant","false","true"]
["in-bse-shp","DetailsOfSpecifiedSecuritiesAbstract","Details of specified securities [Abstract]",null,null,"in-bse-shp_DetailsOfSpecifiedSecuritiesAbstract",null,null,"SummaryStatementHoldingOfSpecifiedSecurities","xbrli:stringItemType",0,"xbrli:item",0,"duration","true","true"]
["in-bse-shp","DetailsOfSpecifiedSecuritiesTable","Details of specified securities [Table]",null,1,"in-bse-shp_DetailsOfSpecifiedSecuritiesTable","DetailsOfSpecifiedSecuritiesAbstract","DetailsOfSpecifiedSecuritiesTable","SummaryStatementHoldingOfSpecifiedSecurities","xbrli:stringItemType",0,"xbrldt:hypercubeItem",0,"duration","true","true"]
["in-bse-shp","CategoryOfShareholdersAxis","Category of shareholders [Axis]",null,1,"in-bse-shp_CategoryOfShareholdersAxis","DetailsOfSpecifiedSecuritiesTable","CategoryOfShareholdersAxis","SummaryStatementHoldingOfSpecifiedSecurities","xbrli:stringItemType",0,"xbrldt:dimensionItem",0,"duration","true","true"]
["in-bse-shp","ShareholdingPatternMember","Shareholding pattern [Member]",null,1,"in-bse-shp_ShareholdingPatternMember","CategoryOfShareholdersAxis","ShareholdingPatternMember","SummaryStatementHoldingOfSpecifiedSecurities","nonnum:domainItemType",0,"xbrli:item",0,"duration","true","true"]
["in-bse-shp","ShareholdingOfPromoterAndPromoterGroupMember","Shareholding of promoter and promoter group [Member]",null,1,"in-bse-shp_ShareholdingOfPromoterAndPromoterGroupMember","ShareholdingPatternMember","ShareholdingOfPromoterAndPromoterGroupMember","SummaryStatementHoldingOfSpecifiedSecurities","nonnum:domainItemType",0,"xbrli:item",0,"duration","true","true"]
["in-bse-shp","PublicShareholdingMember","Public shareholding [Member]",null,2,"in-bse-shp_PublicShareholdingMember","ShareholdingPatternMember","PublicShareholdingMember","SummaryStatementHoldingOfSpecifiedSecurities","nonnum:domainItemType",0,"xbrli:item",0,"duration","true","true"]
["in-bse-shp","CustodianOrDRHolderMember","Custodian or DR holder [Member]",null,3,"in-bse-shp_CustodianOrDRHolderMember","ShareholdingPatternMember","CustodianOrDRHolderMember","SummaryStatementHoldingOfSpecifiedSecurities","nonnum:domainItemType",0,"xbrli:item",0,"duration","true","true"]
["in-bse-shp","EmployeeBenefitsTrustsMember","Employee benefits trusts [Member]",null,4,"in-bse-shp_EmployeeBenefitsTrustsMember","ShareholdingPatternMember","EmployeeBenefitsTrustsMember","SummaryStatementHoldingOfSpecifiedSecurities","nonnum:domainItemType",0,"xbrli:item",0,"duration","true","true"]
["in-bse-shp","DetailsOfSpecifiedSecuritiesLineItems","Details of specified securities [Line items]",null,2,"in-bse-shp_DetailsOfSpecifiedSecuritiesLineItems","DetailsOfSpecifiedSecuritiesAbstract","DetailsOfSpecifiedSecuritiesLineItems","SummaryStatementHoldingOfSpecifiedSecurities","xbrli:stringItemType",0,"xbrli:item",0,"duration","true","true"]
["in-bse-shp","NumberOfShareholders","Number of shareholders",null,1,"in-bse-shp_NumberOfShareholders","DetailsOfSpecifiedSecuritiesLineItems","NumberOfShareholders","SummaryStatementHoldingOfSpecifiedSecurities","xbrli:decimalItemType",0,"xbrli:item",0,"instant","false","true"]
["in-bse-shp","NumberOfFullyPaidUpEquityShares","Number of fully paid up equity shares",null,2,"in-bse-shp_NumberOfFullyPaidUpEquityShares","DetailsOfSpecifiedSecuritiesLineItems","NumberOfFullyPaidUpEquityShares","SummaryStatementHoldingOfSpecifiedSecurities","xbrli:sharesItemType",0,"xbrli:item",0,"instant","false","true"]
["in-bse-shp","NumberOfPartlyPaidUpEquityShares","Number of partly paid-up equity shares",null,3,"in-bse-shp_NumberOfPartlyPaidUpEquityShares","DetailsOfSpecifiedSecuritiesLineItems","NumberOfPartlyPaidUpEquityShares","SummaryStatementHoldingOfSpecifiedSecurities","xbrli:sharesItemType",0,"xbrli:item",0,"instant","false","true"]
["in-bse-shp","NumberOfSharesUnderlyingOutstandingDepositoryReceipts","Number of shares underlying outstanding depository receipts",null,4,"in-bse-shp_NumberOfSharesUnderlyingOutstandingDepositoryReceipts","DetailsOfSpecifiedSecuritiesLineItems","NumberOfSharesUnderlyingOutstandingDepositoryReceipts","SummaryStatementHoldingOfSpecifiedSecurities","xbrli:sharesItemType",0,"xbrli:item",0,"instant","false","true"]
["in-bse-shp","NumberOfShares","Total number of shares",null,5,"in-bse-shp_NumberOfShares","DetailsOfSpecifiedSecuritiesLineItems","NumberOfShares","SummaryStatementHoldingOfSpecifiedSecurities","xbrli:sharesItemType",0,"xbrli:item",0,"instant","false","true",{"$nulls":16},1]
["in-bse-shp","ShareholdingAsAPercentageOfTotalNumberOfShares","Shareholding as a percentage of total number of shares held by promoters and public shareholders and custodians or DR holders",null,6,"in-bse-shp_ShareholdingAsAPercentageOfTotalNumberOfShares","DetailsOfSpecifiedSecuritiesLineItems","ShareholdingAsAPercentageOfTotalNumberOfShares","SummaryStatementHoldingOfSpecifiedSecurities","num:percentItemType",0,"xbrli:item",0,"instant","false","true",{"$nulls":9},"In case of public share holding percentage can not be less than one percentage."]
["in-bse-shp","NumberOfVotingRightsHeldInEachClassOfSecuritiesAbstract","Number of voting rights held in each class of securities [Abstract]",null,7,"in-bse-shp_NumberOfVotingRightsHeldInEachClassOfSecuritiesAbstract","DetailsOfSpecifiedSecuritiesLineItems","NumberOfVotingRightsHeldInEachClassOfSecuritiesAbstract","SummaryStatementHoldingOfSpecifiedSecurities","xbrli:stringItemType",0,"xbrli:item",0,"duration","true","true"]
["in-bse-shp","NumberOfVotingRightsHeldBySameClassOfSecurities","Number of voting rights held by same class of securities",null,1,"in-bse-shp_NumberOfVotingRightsHeldBySameClassOfSecurities","NumberOfVotingRightsHeldInEachClassOfSecuritiesAbstract","NumberOfVotingRightsHeldBySameClassOfSecurities","SummaryStatementHoldingOfSpecifiedSecurities","xbrli:decimalItemType",0,"xbrli:item",0,"instant","false","true",{"$nulls":9},"Value must be equal to Fully paid up shares"]
["in-bse-shp","NumberOfVotingRightsHeldByDifferentialVotingRights","Number of voting rights held by differential voting rights",null,2,"in-bse-shp_NumberOfVotingRightsHeldByDifferentialVotingRights","NumberOfVotingRightsHeldInEachClassOfSecuritiesAbstract","NumberOfVotingRightsHeldByDifferentialVotingRights","SummaryStatementHoldingOfSpecifiedSecurities","xbrli:decimalItemType",0,"xbrli:item",0,"instant","false","true"]
["in-bse-shp","NumberOfVotingRights","Total number of voting rights",null,3,"in-bse-shp_NumberOfVotingRights","NumberOfVotingRightsHeldInEachClassOfSecuritiesAbstract","NumberOfVotingRights","SummaryStatementHoldingOfSpecifiedSecurities","xbrli:decimalItemType",0,"xbrli:item",0,"instant","false","true"]
["in-bse-shp","PercentageOfTotalVotingRights","Percentage of total number of voting rights",null,4,"in-bse-shp_PercentageOfTotalVotingRights","NumberOfVotingRightsHeldInEachClassOfSecuritiesAbstract","PercentageOfTotalVotingRights","SummaryStatementHoldingOfSpecifiedSecurities","num:percentItemType",0,"xbrli:item",0,"instant","false","true",{"$nulls":9},"Percentage of total number of voting rights"]
["in-bse-shp","NumberOfSharesUnderlyingOutstandingConvertibleSecurities","Number of shares underlying outstanding convertible securities",null,8,"in-bse-shp_NumberOfSharesUnderlyingOutstandingConvertibleSecurities","DetailsOfSpecifiedSecuritiesLineItems","NumberOfSharesUnderlyingOutstandingConvertibleSecurities","SummaryStatementHoldingOfSpecifiedSecurities","xbrli:sharesItemType",0,"xbrli:item",0,"instant","false","true"]
["in-bse-shp","NumberOfWarrants","Number of warrant",null,9,"in-bse-shp_NumberOfWarrants","DetailsOfSpecifiedSecuritiesLineItems","NumberOfWarrants","SummaryStatementHoldingOfSpecifiedSecurities","xbrli:sharesItemType",0,"xbrli:item",0,"instant","false","true"]
["in-bse-shp","NumberOfConvertibleSecuritiesAndWarrants","Number of warrant and convertible securities",null,10,"in-bse-shp_NumberOfConvertibleSecuritiesAndWarrants","DetailsOfSpecifiedSecuritiesLineItems","NumberOfConvertibleSecuritiesAndWarrants","SummaryStatementHoldingOfSpecifiedSecurities","xbrli:sharesItemType",0,"xbrli:item",0,"instant","false","true"]
["in-bse-shp","ShareholdingAsAPercentageAssumingFullConversionOfConvertibleSecuritiesAndWarrants","Total shareholding as a percentage assuming full conversion of convertible securities",null,11,"in-bse-shp_ShareholdingAsAPercentageAssumingFullConversionOfConvertibleSecuritiesAndWarrants","DetailsOfSpecifiedSecuritiesLineItems","ShareholdingAsAPercentageAssumingFullConversionOfConvertibleSecuritiesAndWarrants","SummaryStatementHoldingOfSpecifiedSecurities","num:percentItemType",0,"xbrli:item",0,"instant","false","true",{"$nulls":9},"Total shareholding as a percentage assuming full conversion of convertible securities"]
["in-bse-shp","DetailsOfTheLockedInSharesAbstract","Details of the locked-in-shares [Abstract]",null,12,"in-bse-shp_DetailsOfTheLockedInSharesAbstract","DetailsOfSpecifiedSecuritiesLineItems","DetailsOfTheLockedInSharesAbstract","SummaryStatementHoldingOfSpecifiedSecurities","xbrli:stringItemType",0,"xbrli:item",0,"duration","true","true"]
["in-bse-shp","NumberOfTheLockedInShares","Number of the locked-in-shares ",null,1,"in-bse-shp_NumberOfTheLockedInShares","DetailsOfTheLockedInSharesAbstract","NumberOfTheLockedInShares","SummaryStatementHoldingOfSpecifiedSecurities","xbrli:sharesItemType",0,"xbrli:item",0,"instant","false","true",{"$nulls":9},"Value should be less than or equal to fully paid up shares"]
["in-bse-shp","LockedInSharesAsAPercentageOfTotalNumberOfShares","Locked-in-shares as a percentage of total number of shares",null,2,"in-bse-shp_","DetailsOfTheLockedInSharesAbstract","LockedInSharesAsAPercentageOfTotalNumberOfShares","SummaryStatementHoldingOfSpecifiedSecurities","num:percentItemType",0,"xbrli:item",0,"instant","false","true",{"$nulls":9},"Locked-in-shares as a percentage of total number of shares"]
["in-bse-shp","NumberOfSharesPledgedOrOtherwiseEncumberedAbstract","Number of Shares pledged or otherwise encumbered [Abstract]",null,13,"in-bse-shp_NumberOfSharesPledgedOrOtherwiseEncumberedAbstract","DetailsOfSpecifiedSecuritiesLineItems","NumberOfSharesPledgedOrOtherwiseEncumberedAbstract","SummaryStatementHoldingOfSpecifiedSecurities","xbrli:stringItemType",0,"xbrli:item",0,"duration","true","true"]
["in-bse-shp","PledgedOrEncumberedNumberOfShares","Pledged or encumbered - number of shares",null,1,"in-bse-shp_PledgedOrEncumberedNumberOfShares","NumberOfSharesPledgedOrOtherwiseEncumberedAbstract","PledgedOrEncumberedNumberOfShares","SummaryStatementHoldingOfSpecifiedSecurities","xbrli:sharesItemType",0,"xbrli:item",0,"instant","false","true",{"$nulls":9},"Value should be less than or equal to fully paid up shares"]
["in-bse-shp","PledgedOrEncumberedSharesHeldAsPercentageOfTotalNumberOfShares","Pledged or encumbered shares held as percentage of total number of shares",null,2,"in-bse-shp_PledgedOrEncumberedSharesHeldAsPercentageOfTotalNumberOfShares","NumberOfSharesPledgedOrOtherwiseEncumberedAbstract","PledgedOrEncumberedSharesHeldAsPercentageOfTotalNumberOfShares","SummaryStatementHoldingOfSpecifiedSecurities","num:percentItemType",0,"xbrli:item",0,"instant","false","true",{"$nulls":9},"Pledged or encumbered shares held as percentage of total number of shares","Value should be less than or equal to total no of shares."]
["in-bse-shp","NumberOfEquitySharesHeldInDematerializedForm","Number of equity shares held in dematerialized form",null,14,"in-bse-shp_NumberOfEquitySharesHeldInDematerializedForm","DetailsOfSpecifiedSecuritiesLineItems","NumberOfEquitySharesHeldInDematerializedForm","SummaryStatementHoldingOfSpecifiedSecurities","xbrli:sharesItemType",0,"xbrli:item",0,"instant","false","true",{"$nulls":9},"Value should be less than or equal to total no of shares."]
["in-bse-shp","DetailsOfShareholdingPatternAbstract","Details of shareholding pattern [Abstract]",null,1,"in-bse-shp_DetailsOfShareholdingPatternAbstract",null,null,"StatementShowingShareholdingPattern","xbrli:stringItemType",0,"xbrli:item",0,"duration","true","true"]
["in-bse-shp","DetailsOfShareholdingPatternTable","Details of shareholding pattern [Table]",null,1,"in-bse-shp_DetailsOfShareholdingPatternTable","DetailsOfShareholdingPatternAbstract","DetailsOfShareholdingPatternTable","StatementShowingShareholdingPattern","xbrli:stringItemType",0,"xbrldt:hypercubeItem",0,"duration","true","true"]
["in-bse-shp","CategoryOfShareholdersAxis","Category of shareholders [Axis]",null,1,"in-bse-shp_CategoryOfShareholdersAxis","DetailsOfShareholdingPatternTable","CategoryOfShareholdersAxis","StatementShowingShareholdingPattern","xbrli:stringItemType",0,"xbrldt:dimensionItem",0,"duration","true","true"]
["in-bse-shp","ShareholdingPatternMember","Shareholding pattern [Member]",null,1,"in-bse-shp_ShareholdingPatternMember","CategoryOfShareholdersAxis","ShareholdingPatternMember","StatementShowingShareholdingPattern","nonnum:domainItemType",0,"xbrli:item",0,"duration","true","true"]
["in-bse-shp","ShareholdingOfPromoterAndPromoterGroupMember","Shareholding of promoter and promoter group [Member]",null,1,"in-bse-shp_ShareholdingOfPromoterAndPromoterGroupMember","ShareholdingPatternMember","ShareholdingOfPromoterAndPromoterGroupMember","StatementShowingShareholdingPattern","nonnum:domainItemType",0,"xbrli:item",0,"duration","true","true"]
["in-bse-shp","IndianMember","Indian [Member]",null,1,"in-bse-shp_IndianMember","ShareholdingOfPromoterAndPromoterGroupMember","IndianMember","StatementShowingShareholdingPattern","nonnum:domainItemType",0,"xbrli:item",0,"duration","true","true"]
["in-bse-shp","IndividualsOrHinduUndividedFamilyMember","Individuals or Hindu undivided family [Member]",null,1,"in-bse-shp_IndividualsOrHinduUndividedFamilyMember","IndianMember","IndividualsOrHinduUndividedFamilyMember","StatementShowingShareholdingPattern","nonnum:domainItemType",0,"xbrli:item",0,"duration","true","true"]
["in-bse-shp","CentralGovernmentOrStateGovernmentSMember","Central government or State government(s) [Member]",null,2,"in-bse-shp_CentralGovernmentOrStateGovernmentSMember","IndianMember","CentralGovernmentOrStateGovernmentSMember","StatementShowingShareholdingPattern","nonnum:domainItemType",0,"xbrli:item",0,"duration","true","true"]
["in-bse-shp","IndianFinancialInstitutionsOrBanksMember","Indian - financial institutions or banks [Member]",null,3,"in-bse-shp_IndianFinancialInstitutionsOrBanksMember","IndianMember","IndianFinancialInstitutionsOrBanksMember","StatementShowingShareholdingPattern","nonnum:domainItemType",0,"xbrli:item",0,"duration","true","true"]
["in-bse-shp","OtherIndianShareholdersMember","Other Indian shareholders [Member]",null,4,"in-bse-shp_OtherIndianShareholdersMember","IndianMember","OtherIndianShareholdersMember","StatementShowingShareholdingPattern","nonnum:domainItemType",0,"xbrli:item",0,"duration","true","true"]
["in-bse-shp","ForeignMember","Foreign [Member]",null,2,"in-bse-shp_ForeignMember","ShareholdingOfPromoterAndPromoterGroupMember","ForeignMember","StatementShowingShareholdingPattern","nonnum:domainItemType",0,"xbrli:item",0,"duration","true","true"]
["in-bse-shp","NonResidentIndividualsOrForeignIndividualsMember","Non-resident individuals or foreign individuals [Member]",null,1,"in-bse-shp_NonResidentIndividualsOrForeignIndividualsMember","ForeignMember","NonResidentIndividualsOrForeignIndividualsMember","StatementShowingShareholdingPattern","nonnum:domainItemType",0,"xbrli:item",0,"duration","true","true"]
["in-bse-shp","ForeignGovernmentMember","Foreign - Government [Member]",null,2,"in-bse-shp_ForeignGovernmentMember","ForeignMember","ForeignGovernmentMember","StatementShowingShareholdingPattern","nonnum:domainItemType",0,"xbrli:item",0,"duration","true","true"]
["in-bse-shp","ForeignInstitutionsMember","Foreign - institutions [Member]",null,3,"in-bse-shp_ForeignInstitutionsMember","ForeignMember","ForeignInstitutionsMember","StatementShowingShareholdingPattern","nonnum:domainItemType",0,"xbrli:item",0,"duration","true","true"]
["in-bse-shp","ForeignPortfolioInvestorMember","Foreign portfolio investor [Member]",null,4,"in-bse-shp_ForeignPortfolioInvestorMember","ForeignMember","ForeignPortfolioInvestorMember","StatementShowingShareholdingPattern","nonnum:domainItemType",0,"xbrli:item",0,"duration","true","true"]
["in-bse-shp","OtherForeignShareholdersMember","Other foreign shareholders [Member]",null,5,"in-bse-shp_OtherForeignShareholdersMember","ForeignMember","OtherForeignShareholdersMember","StatementShowingShareholdingPattern","nonnum:domainItemType",0,"xbrli:item",0,"duration","true","true"]
["in-bse-shp","PublicShareholdingMember","Public shareholding [Member]",null,2,"in-bse-shp_PublicShareholdingMember","ShareholdingPatternMember","PublicShareholdingMember","StatementShowingShareholdingPattern","nonnum:domainItemType",0,"xbrli:item",0,"duration","true","true"]
["in-bse-shp","InstitutionsMember","Institutions [Member]",null,1,"in-bse-shp_InstitutionsMember","PublicShareholdingMember","InstitutionsMember","StatementShowingShareholdingPattern","nonnum:domainItemType",0,"xbrli:item",0,"duration","true","true"]
["in-bse-shp","MutualFundsOrUtiMember","Mutual funds or UTI [Member]",null,1,"in-bse-shp_MutualFundsOrUtiMember","InstitutionsMember","MutualFundsOrUtiMember","StatementShowingShareholdingPattern","nonnum:domainItemType",0,"xbrli:item",0,"duration","true","true"]
["in-bse-shp","VentureCapitalFundsMember","Venture capital funds [Member]",null,2,"in-bse-shp_VentureCapitalFundsMember","InstitutionsMember","VentureCapitalFundsMember","StatementShowingShareholdingPattern","nonnum:domainItemType",0,"xbrli:item",0,"duration","true","true"]
["in-bse-shp","AlternativeInvestmentFundsMember","Alternative investment funds [Member]",null,3,"in-bse-shp_AlternativeInvestmentFundsMember","InstitutionsMember","AlternativeInvestmentFundsMember","StatementShowingShareholdingPattern","nonnum:domainItemType",0,"xbrli:item",0,"duration","true","true"]
["in-bse-shp","ForeignVentureCapitalInvestorsMember","Foreign venture capital investors [Member]",null,4,"in-bse-shp_ForeignVentureCapitalInvestorsMember","InstitutionsMember","ForeignVentureCapitalInvestorsMember","StatementShowingShareholdingPattern","nonnum:domainItemType",0,"xbrli:item",0,"duration","true","true"]
["in-bse-shp","InstitutionsForeignPortfolioInvestorMember","Institutions - Foreign portfolio investor [Member]",null,5,"in-bse-shp_InstitutionsForeignPortfolioInvestorMember","InstitutionsMember","InstitutionsForeignPortfolioInvestorMember","StatementShowingShareholdingPattern","nonnum:domainItemType",0,"xbrli:item",0,"duration","true","true"]
["in-bse-shp","FinancialInstitutionOrBanksMember","Financial Institution or Banks [Member]",null,6,"in-bse-shp_FinancialInstitutionOrBanksMember","InstitutionsMember","FinancialInstitutionOrBanksMember","StatementShowingShareholdingPattern","nonnum:domainItemType",0,"xbrli:item",0,"duration","true","true"]
["in-bse-shp","InsuranceCompaniesMember","Insurance Companies [Member]",null,7,"in-bse-shp_InsuranceCompaniesMember","InstitutionsMember","InsuranceCompaniesMember","StatementShowingShareholdingPattern","nonnum:domainItemType",0,"xbrli:item",0,"duration","true","true"]
["in-bse-shp","ProvidentFundsOrPensionFundsMember","Provident Funds or pension funds [Member]",null,8,"in-bse-shp_ProvidentFundsOrPensionFundsMember","InstitutionsMember","ProvidentFundsOrPensionFundsMember","StatementShowingShareholdingPattern","nonnum:domainItemType",0,"xbrli:item",0,"duration","true","true"]
["in-bse-shp","OtherInstitutionsMember","Other institutions [Member]",null,9,"in-bse-shp_OtherInstitutionsMember","InstitutionsMember","OtherInstitutionsMember","StatementShowingShareholdingPattern","nonnum:domainItemType",0,"xbrli:item",0,"duration","true","true"]
["in-bse-shp","GovermentsMember","Goverments [Member]",null,2,"in-bse-shp_GovermentsMember","PublicShareholdingMember","GovermentsMember","StatementShowingShareholdingPattern","nonnum:domainItemType",0,"xbrli:item",0,"duration","true","true"]
["in-bse-shp","CentralGovernmentOrStateGovernmentSOrPresidentOfIndiaMember","Central Government or State Government(s) or President of India [Member]",null,2,"in-bse-shp_CentralGovernmentOrStateGovernmentSOrPresidentOfIndiaMember","PublicShareholdingMember","CentralGovernmentOrStateGovernmentSOrPresidentOfIndiaMember","StatementShowingShareholdingPattern","nonnum:domainItemType",0,"xbrli:item",0,"duration","true","true"]
["in-bse-shp","NonInstitutionsMember","Non-institutions [Member]",null,3,"in-bse-shp_NonInstitutionsMember","PublicShareholdingMember","NonInstitutionsMember","StatementShowingShareholdingPattern","nonnum:domainItemType",0,"xbrli:item",0,"duration","true","true"]
["in-bse-shp","IndividualsMember","Individuals [Member]",null,1,"in-bse-shp_IndividualsMember","NonInstitutionsMember","IndividualsMember","StatementShowingShareholdingPattern","nonnum:domainItemType",0,"xbrli:item",0,"duration","true","true"]
["in-bse-shp","IndividualShareholdersHoldingNominalShareCapitalUpToRsTwoLakhMember","Individual shareholders holding nominal share capital up to Rs two lakh [Member]",null,1,"in-bse-shp_IndividualShareholdersHoldingNominalShareCapitalUpToRsTwoLakhMember","IndividualsMember","IndividualShareholdersHoldingNominalShareCapitalUpToRsTwoLakhMember","StatementShowingShareholdingPattern","nonnum:domainItemType",0,"xbrli:item",0,"duration","true","true"]
["in-bse-shp","IndividualShareholdersHoldingNominalShareCapitalInExcessOfRsTwoLakhMember","Individual shareholders holding nominal share capital in excess of Rs two lakh [Member]",null,2,"in-bse-shp_IndividualShareholdersHoldingNominalShareCapitalInExcessOfRsTwoLakhMember","IndividualsMember","IndividualShareholdersHoldingNominalShareCapitalInExcessOfRsTwoLakhMember","StatementShowingShareholdingPattern","nonnum:domainItemType",0,"xbrli:item",0,"duration","true","true"]
["in-bse-shp","NBFCsRegisteredWithRbiMember","NBFCs registered with RBI [Member]",null,2,"in-bse-shp_NBFCsRegisteredWithRbiMember","NonInstitutionsMember","NBFCsRegisteredWithRbiMember","StatementShowingShareholdingPattern","nonnum:domainItemType",0,"xbrli:item",0,"duration","true","true"]
["in-bse-shp","EmployeeTrustsMember","Employee Trusts [Member]",null,3,"in-bse-shp_EmployeeTrustsMember","NonInstitutionsMember","EmployeeTrustsMember","StatementShowingShareholdingPattern","nonnum:domainItemType",0,"xbrli:item",0,"duration","true","true",{"$nulls":9},"fkldsfk"]
["in-bse-shp","OverseasDepositoriesMember","Overseas Depositories [Member]",null,4,"in-bse-shp_OverseasDepositoriesMember","NonInstitutionsMember","OverseasDepositoriesMember","StatementShowingShareholdingPattern","nonnum:domainItemType",0,"xbrli:item",0,"duration","true","true"]
["in-bse-shp","OtherNonInstitutionsMember","Other non-institutions [Member]",null,5,"in-bse-shp_OtherNonInstitutionsMember","NonInstitutionsMember","OtherNonInstitutionsMember","StatementShowingShareholdingPattern","nonnum:domainItemType",0,"xbrli:item",0,"duration","true","true"]
["in-bse-shp","SharesHeldByNonPromoterNonPublicShareholdersMember","Shares held by non-promoter non-public shareholders [Member]",null,3,"in-bse-shp_SharesHeldByNonPromoterNonPublicShareholdersMember","PublicShareholdingMember","SharesHeldByNonPromoterNonPublicShareholdersMember","StatementShowingShareholdingPattern","nonnum:domainItemType",0,"xbrli:item",0,"duration","true","true"]
["in-bse-shp","CustodianOrDRHolderMember","Custodian or DR holder [Member]",null,1,"in-bse-shp_CustodianOrDRHolderMember","SharesHeldByNonPromoterNonPublicShareholdersMember","CustodianOrDRHolderMember","StatementShowingShareholdingPattern","nonnum:domainItemType",0,"xbrli:item",0,"duration","true","true"]
["in-bse-shp","EmployeeBenefitsTrustsMember","Employee benefits trusts [Member]",null,2,"in-bse-shp_EmployeeBenefitsTrustsMember","SharesHeldByNonPromoterNonPublicShareholdersMember","EmployeeBenefitsTrustsMember","StatementShowingShareholdingPattern","nonnum:domainItemType",0,"xbrli:item",0,"duration","true","true"]
["in-bse-shp","DetailsOfShareholdingPatternLineItems","Details of shareholding pattern  [Line items]",null,2,"in-bse-shp_DetailsOfShareholdingPatternLineItems","DetailsOfShareholdingPatternAbstract","DetailsOfShareholdingPatternLineItems","StatementShowingShareholdingPattern","xbrli:stringItemType",0,"xbrli:item",0,"duration","true","true"]
["in-bse-shp","NumberOfShareholders","Number of shareholders",null,1,"in-bse-shp_NumberOfShareholders","DetailsOfShareholdingPatternLineItems","NumberOfShareholders","StatementShowingShareholdingPattern","xbrli:decimalItemType",0,"xbrli:item",0,"instant","false","true"]
["in-bse-shp","NumberOfFullyPaidUpEquityShares","Number of fully paid up equity shares",null,2,"in-bse-shp_NumberOfFullyPaidUpEquityShares","DetailsOfShareholdingPatternLineItems","NumberOfFullyPaidUpEquityShares","StatementShowingShareholdingPattern","xbrli:sharesItemType",0,"xbrli:item",0,"instant","false","true"]
["in-bse-shp","NumberOfPartlyPaidUpEquityShares","Number of partly paid-up equity shares",null,3,"in-bse-shp_NumberOfPartlyPaidUpEquityShares","DetailsOfShareholdingPatternLineItems","NumberOfPartlyPaidUpEquityShares","StatementShowingShareholdingPattern","xbrli:sharesItemType",0,"xbrli:item",0,"instant","false","true"]
["in-bse-shp","NumberOfSharesUnderlyingOutstandingDepositoryReceipts","Number of shares underlying outstanding depository receipts",null,4,"in-bse-shp_NumberOfSharesUnderlyingOutstandingDepositoryReceipts","DetailsOfShareholdingPatternLineItems","NumberOfSharesUnderlyingOutstandingDepositoryReceipts","StatementShowingShareholdingPattern","xbrli:sharesItemType",0,"xbrli:item",0,"instant","false","true"]
["in-bse-shp","NumberOfVotingRightsHeldInEachClassOfSecuritiesAbstract","Number of voting rights held in each class of securities [Abstract]",null,7,"in-bse-shp_NumberOfVotingRightsHeldInEachClassOfSecuritiesAbstract","DetailsOfShareholdingPatternLineItems","NumberOfVotingRightsHeldInEachClassOfSecuritiesAbstract","StatementShowingShareholdingPattern","xbrli:stringItemType",0,"xbrli:item",0,"duration","true","true"]
["in-bse-shp","NumberOfVotingRightsHeldBySameClassOfSecurities","Number of voting rights held by same class of securities",null,1,"in-bse-shp_NumberOfVotingRightsHeldBySameClassOfSecurities","NumberOfVotingRightsHeldInEachClassOfSecuritiesAbstract","NumberOfVotingRightsHeldBySameClassOfSecurities","StatementShowingShareholdingPattern","xbrli:decimalItemType",0,"xbrli:item",0,"instant","false","true"]
["in-bse-shp","NumberOfVotingRightsHeldByDifferentialVotingRights","Number of voting rights held by differential voting rights",null,2,"in-bse-shp_NumberOfVotingRightsHeldByDifferentialVotingRights","NumberOfVotingRightsHeldInEachClassOfSecuritiesAbstract","NumberOfVotingRightsHeldByDifferentialVotingRights","StatementShowingShareholdingPattern","xbrli:decimalItemType",0,"xbrli:item",0,"instant","false","true"]
["in-bse-shp","NumberOfVotingRights","Total number of voting rights",null,3,"in-bse-shp_NumberOfVotingRights","NumberOfVotingRightsHeldInEachClassOfSecuritiesAbstract","NumberOfVotingRights","StatementShowingShareholdingPattern","xbrli:decimalItemType",0,"xbrli:item",0,"instant","false","true"]
["in-bse-shp","NumberOfSharesUnderlyingOutstandingConvertibleSecurities","Number of shares underlying outstanding convertible securities",null,8,"in-bse-shp_NumberOfSharesUnderlyingOutstandingConvertibleSecurities","DetailsOfShareholdingPatternLineItems","NumberOfSharesUnderlyingOutstandingConvertibleSecurities","StatementShowingShareholdingPattern","xbrli:sharesItemType",0,"xbrli:item",0,"instant","false","true"]
["in-bse-shp","DetailsOfTheLockedInSharesAbstract","Details of the locked-in-shares [Abstract]",null,12,"in-bse-shp_DetailsOfTheLockedInSharesAbstract","DetailsOfShareholdingPatternLineItems","DetailsOfTheLockedInSharesAbstract","StatementShowingShareholdingPattern","xbrli:stringItemType",0,"xbrli:item",0,"duration","true","true"]
["in-bse-shp","NumberOfTheLockedInShares","Number of the locked-in-shares ",null,13,"in-bse-shp_NumberOfTheLockedInShares","DetailsOfTheLockedInSharesAbstract","NumberOfTheLockedInShares","StatementShowingShareholdingPattern","xbrli:sharesItemType",0,"xbrli:item",0,"instant","false","true"]
["in-bse-shp","LockedInSharesAsAPercentageOfTotalNumberOfShares","Locked-in-shares as a percentage of total number of shares",null,14,"in-bse-shp_LockedInSharesAsAPercentageOfTotalNumberOfShares","DetailsOfTheLockedInSharesAbstract","LockedInSharesAsAPercentageOfTotalNumberOfShares","StatementShowingShareholdingPattern","num:percentItemType",0,"xbrli:item",0,"instant","false","true"]
["in-bse-shp","NumberOfSharesPledgedOrOtherwiseEncumberedAbstract","Number of Shares pledged or otherwise encumbered [Abstract]",null,15,"in-bse-shp_NumberOfSharesPledgedOrOtherwiseEncumberedAbstract","DetailsOfShareholdingPatternLineItems","NumberOfSharesPledgedOrOtherwiseEncumberedAbstract","StatementShowingShareholdingPattern","xbrli:stringItemType",0,"xbrli:item",0,"duration","true","true"]
["in-bse-shp","PledgedOrEncumberedNumberOfShares","Pledged or encumbered - number of shares",null,16,"in-bse-shp_PledgedOrEncumberedNumberOfShares","NumberOfSharesPledgedOrOtherwiseEncumberedAbstract","PledgedOrEncumberedNumberOfShares","StatementShowingShareholdingPattern","xbrli:sharesItemType",0,"xbrli:item",0,"instant","false","true"]
["in-bse-shp","PledgedOrEncumberedSharesHeldAsPercentageOfTotalNumberOfShares","Pledged or encumbered shares held as percentage of total number of shares",null,17,"in-bse-shp_PledgedOrEncumberedSharesHeldAsPercentageOfTotalNumberOfShares","NumberOfSharesPledgedOrOtherwiseEncumberedAbstract","PledgedOrEncumberedSharesHeldAsPercentageOfTotalNumberOfShares","StatementShowingShareholdingPattern","num:percentItemType",0,"xbrli:item",0,"instant","false","true"]
["in-bse-shp","NumberOfEquitySharesHeldInDematerializedForm","Number of equity shares held in dematerialized form",null,18,"in-bse-shp_NumberOfEquitySharesHeldInDematerializedForm","DetailsOfShareholdingPatternLineItems","NumberOfEquitySharesHeldInDematerializedForm","StatementShowingShareholdingPattern","xbrli:sharesItemType",0,"xbrli:item",0,"instant","false","true"]
["in-bse-shp","DisclosureOfNotesOnShareholdingPatternExplanatoryTextBlock","Disclosure of notes on shareholding pattern",{"$nulls":6},"nonnum:textBlockItemType",null,"xbrli:item",0,"instant","false","true"]
["in-bse-shp","DetailsOfSharesHeldByIndividualsOrHUFAbstract","Details of shares held by Individuals or HUF [Abstract]",null,null,"in-bse-shp_DetailsOfSharesHeldByIndividualsOrHUFAbstract",null,null,"ShareholdingPatternIndividualsOrHUF","xbrli:stringItemType",0,"xbrli:item",0,"duration","true","true"]
["in-bse-shp","DetailsOfSharesHeldByIndividualsOrHUFTable","Details of shares held by Individuals or HUF [Table]",null,1,"in-bse-shp_DetailsOfSharesHeldByIndividualsOrHUFTable","DetailsOfSharesHeldByIndividualsOrHUFAbstract","DetailsOfSharesHeldByIndividualsOrHUFTable","ShareholdingPatternIndividualsOrHUF","xbrli:stringItemType",0,"xbrldt:hypercubeItem",0,"duration","true","true"]
["in-bse-shp","DetailsSharesHeldByIndividualsOrHUFAxis","Details shares held by Individuals or HUF  [Axis]",null,1,"in-bse-shp_DetailsSharesHeldByIndividualsOrHUFAxis","DetailsOfSharesHeldByIndividualsOrHUFTable","DetailsSharesHeldByIndividualsOrHUFAxis","ShareholdingPatternIndividualsOrHUF","xbrli:stringItemType",0,"xbrldt:dimensionItem",0,"duration","true","true"]
["in-bse-shp","DetailsOfSharesHeldByIndividualsOrHUFLineItems","Details of shares held by Individuals or HUF [Line items]",null,2,"in-bse-shp_DetailsOfSharesHeldByIndividualsOrHUFLineItems","DetailsOfSharesHeldByIndividualsOrHUFAbstract","DetailsOfSharesHeldByIndividualsOrHUFLineItems","ShareholdingPatternIndividualsOrHUF","xbrli:stringItemType",0,"xbrli:item",0,"duration","true","true"]
["in-bse-shp","NameOfTheShareholder","Name of shareholder",null,1,"in-bse-shp_NameOfTheShareholder","DetailsOfSharesHeldByIndividualsOrHUFLineItems","NameOfTheShareholder","ShareholdingPatternIndividualsOrHUF","xbrli:stringItemType",0,"xbrli:item",0,"duration","false","true"]
["in-bse-shp","PermanentAccountNumberOfShareholder","Permanent account number of shareholder",null,2,"in-bse-shp_PermenantAccountNumberOfShareholder","DetailsOfSharesHeldByIndividualsOrHUFLineItems","PermenantAccountNumberOfShareholder","ShareholdingPatternIndividualsOrHUF","in-bse-shp-types:PermanentAccountNumber",0,"xbrli:item",0,"duration","false","true",{"$nulls":9},"[A-Z][A-Z][A-Z][A-Z][A-Z][0-9][0-9][0-9][0-9][A-Z]\n\nIn absence of PAN write : ZZZZZ9999Z"]
["in-bse-shp","NumberOfFullyPaidUpEquityShares","Number of fully paid up equity shares",null,3,"in-bse-shp_NumberOfFullyPaidUpEquityShares","DetailsOfSharesHeldByIndividualsOrHUFLineItems","NumberOfFullyPaidUpEquityShares","ShareholdingPatternIndividualsOrHUF","xbrli:sharesItemType",0,"xbrli:item",0,"instant","false","true"]
["in-bse-shp","NumberOfPartlyPaidUpEquityShares","Number of partly paid-up equity shares",null,4,"in-bse-shp_NumberOfPartlyPaidUpEquityShares","DetailsOfSharesHeldByIndividualsOrHUFLineItems","NumberOfPartlyPaidUpEquityShares","ShareholdingPatternIndividualsOrHUF","xbrli:sharesItemType",0,"xbrli:item",0,"instant","false","true"]
["in-bse-shp","NumberOfSharesUnderlyingOutstandingDepositoryReceipts","Number of shares underlying outstanding depository receipts",null,5,"in-bse-shp_NumberOfSharesUnderlyingOutstandingDepositoryReceipts","DetailsOfSharesHeldByIndividualsOrHUFLineItems","NumberOfSharesUnderlyingOutstandingDepositoryReceipts","ShareholdingPatternIndividualsOrHUF","xbrli:sharesItemType",0,"xbrli:item",0,"instant","false","true"]
["in-bse-shp","NumberOfVotingRightsHeldInEachClassOfSecuritiesAbstract","Number of voting rights held in each class of securities [Abstract]",null,8,"in-bse-shp_NumberOfVotingRightsHeldInEachClassOfSecuritiesAbstract","DetailsOfSharesHeldByIndividualsOrHUFLineItems","NumberOfVotingRightsHeldInEachClassOfSecuritiesAbstract","ShareholdingPatternIndividualsOrHUF","xbrli:stringItemType",0,"xbrli:item",0,"duration","true","true"]
["in-bse-shp","NumberOfVotingRightsHeldBySameClassOfSecurities","Number of voting rights held by same class of securities",null,1,"in-bse-shp_NumberOfVotingRightsHeldBySameClassOfSecurities","NumberOfVotingRightsHeldInEachClassOfSecuritiesAbstract","NumberOfVotingRightsHeldBySameClassOfSecurities","ShareholdingPatternIndividualsOrHUF","xbrli:decimalItemType",0,"xbrli:item",0,"instant","false","true"]
["in-bse-shp","NumberOfVotingRightsHeldByDifferentialVotingRights","Number of voting rights held by differential voting rights",null,2,"in-bse-shp_NumberOfVotingRightsHeldByDifferentialVotingRights","NumberOfVotingRightsHeldInEachClassOfSecuritiesAbstract","NumberOfVotingRightsHeldByDifferentialVotingRights","ShareholdingPatternIndividualsOrHUF","xbrli:decimalItemType",0,"xbrli:item",0,"instant","false","true"]
["in-bse-shp","NumberOfVotingRights","Total number of voting rights",null,3,"in-bse-shp_NumberOfVotingRights","NumberOfVotingRightsHeldInEachClassOfSecuritiesAbstract","NumberOfVotingRights","ShareholdingPatternIndividualsOrHUF","xbrli:decimalItemType",0,"xbrli:item",0,"instant","false","true"]
["in-bse-shp","PercentageOfTotalVotingRights","Percentage of total number of voting rights",null,4,"in-bse-shp_PercentageOfTotalVotingRights","NumberOfVotingRightsHeldInEachClassOfSecuritiesAbstract","PercentageOfTotalVotingRights","ShareholdingPatternIndividualsOrHUF","num:percentItemType",0,"xbrli:item",0,"instant","false","true"]
["in-bse-shp","NumberOfSharesUnderlyingOutstandingConvertibleSecurities","Number of shares underlying outstanding convertible securities",null,9,"in-bse-shp_NumberOfSharesUnderlyingOutstandingConvertibleSecurities","DetailsOfSharesHeldByIndividualsOrHUFLineItems","NumberOfSharesUnderlyingOutstandingConvertibleSecurities","ShareholdingPatternIndividualsOrHUF","xbrli:sharesItemType",0,"xbrli:item",0,"instant","false","true"]
["in-bse-shp","DetailsOfTheLockedInSharesAbstract","Details of the locked-in-shares [Abstract]",null,13,"in-bse-shp_DetailsOfTheLockedInSharesAbstract","DetailsOfSharesHeldByIndividualsOrHUFLineItems","DetailsOfTheLockedInSharesAbstract","ShareholdingPatternIndividualsOrHUF","xbrli:stringItemType",0,"xbrli:item",0,"duration","true","true"]
["in-bse-shp","NumberOfTheLockedInShares","Number of the locked-in-shares ",null,1,"in-bse-shp_NumberOfTheLockedInShares","DetailsOfTheLockedInSharesAbstract","NumberOfTheLockedInShares","ShareholdingPatternIndividualsOrHUF","xbrli:sharesItemType",0,"xbrli:item",0,"instant","false","true"]
["in-bse-shp","LockedInSharesAsAPercentageOfTotalNumberOfShares","Locked-in-shares as a percentage of total number of shares",null,2,"in-bse-shp_LockedInSharesAsAPercentageOfTotalNumberOfShares","DetailsOfTheLockedInSharesAbstract","LockedInSharesAsAPercentageOfTotalNumberOfShares","ShareholdingPatternIndividualsOrHUF","num:percentItemType",0,"xbrli:item",0,"instant","false","true"]
["in-bse-shp","NumberOfSharesPledgedOrOtherwiseEncumberedAbstract","Number of Shares pledged or otherwise encumbered [Abstract]",null,14,"in-bse-shp_NumberOfSharesPledgedOrOtherwiseEncumberedAbstract","DetailsOfSharesHeldByIndividualsOrHUFLineItems","NumberOfSharesPledgedOrOtherwiseEncumberedAbstract","ShareholdingPatternIndividualsOrHUF","xbrli:stringItemType",0,"xbrli:item",0,"duration","true","true"]
["in-bse-shp","PledgedOrEncumberedNumberOfShares","Pledged or encumbered - number of shares",null,1,"in-bse-shp_PledgedOrEncumberedNumberOfShares","NumberOfSharesPledgedOrOtherwiseEncumberedAbstract","PledgedOrEncumberedNumberOfShares","ShareholdingPatternIndividualsOrHUF","xbrli:sharesItemType",0,"xbrli:item",0,"instant","false","true"]
["in-bse-shp","PledgedOrEncumberedSharesHeldAsPercentageOfTotalNumberOfShares","Pledged or encumbered shares held as percentage of total number of shares",null,2,"in-bse-shp_PledgedOrEncumberedSharesHeldAsPercentageOfTotalNumberOfShares","NumberOfSharesPledgedOrOtherwiseEncumberedAbstract","PledgedOrEncumberedSharesHeldAsPercentageOfTotalNumberOfShares","ShareholdingPatternIndividualsOrHUF","num:percentItemType",0,"xbrli:item",0,"instant","false","true"]
["in-bse-shp","NumberOfEquitySharesHeldInDematerializedForm","Number of equity shares held in dematerialized form",null,15,"in-bse-shp_NumberOfEquitySharesHeldInDematerializedForm","DetailsOfSharesHeldByIndividualsOrHUFLineItems","NumberOfEquitySharesHeldInDematerializedForm","ShareholdingPatternIndividualsOrHUF","xbrli:sharesItemType",0,"xbrli:item",0,"instant","false","true"]
["in-bse-shp","DetailsOfSharesHeldByCentralGovernmentOrStateGovernmentsAbstract","Details of shares held by Central government or State government(s) [Abstract]",null,null,"in-bse-shp_DetailsOfSharesHeldByCentralGovernmentOrStateGovernmentsAbstract",null,null,"ShareholdingPatternCentralGovernmentOrStateGovernments","xbrli:stringItemType",0,"xbrli:item",0,"duration","true","true"]
["in-bse-shp","DetailsOfSharesHeldByCentralGovernmentOrStateGovernmentsTable","Details of shares held by Central government or State government(s) [Table]",null,1,"in-bse-shp_DetailsOfSharesHeldByCentralGovernmentOrStateGovernmentsTable","DetailsOfSharesHeldByCentralGovernmentOrStateGovernmentsAbstract","DetailsOfSharesHeldByCentralGovernmentOrStateGovernmentsTable","ShareholdingPatternCentralGovernmentOrStateGovernments","xbrli:stringItemType",0,"xbrldt:hypercubeItem",0,"duration","true","true"]
["in-bse-shp","DetailsOfSharesHeldByCentralGovernmentOrStateGovernmentsAxis","Details shares held by Central government or State government(s) [Axis]",null,1,"in-bse-shp_DetailsOfSharesHeldByCentralGovernmentOrStateGovernmentsAxis","DetailsOfSharesHeldByCentralGovernmentOrStateGovernmentsTable","DetailsOfSharesHeldByCentralGovernmentOrStateGovernmentsAxis","ShareholdingPatternCentralGovernmentOrStateGovernments","xbrli:stringItemType",0,"xbrldt:dimensionItem",0,"duration","true","true"]
[null,"DetailsOfSharesHeldByCentralGovernmentOrStateGovernmentsLineItems","Details of shares held by Central government or State government(s) [Line items]",null,2,"in-bse-shp_DetailsOfSharesHeldByCentralGovernmentOrStateGovernmentsLineItems","DetailsOfSharesHeldByCentralGovernmentOrStateGovernmentsAbstract","DetailsOfSharesHeldByCentralGovernmentOrStateGovernmentsLineItems","ShareholdingPatternCentralGovernmentOrStateGovernments","xbrli:stringItemType",0,"xbrli:item",0,"duration","true","true"]
["in-bse-shp","DisclosureOfNotesOnReasonForNotProvidingPANExplanatoryTextBlock","Reason for not providing PAN",{"$nulls":6},"nonnum:textBlockItemType",{"$nulls":3},"instant",{"$nulls":11},"Please enter valid PAN no or if you already added PAN no then remove reason for not providing PAN."]
["in-bse-shp","PermanentAccountNumberOfShareholder","Permanent account number of shareholder",null,2,"in-bse-shp_PermenantAccountNumberOfShareholder","DetailsOfSharesHeldByCentralGovernmentOrStateGovernmentsLineItems","PermenantAccountNumberOfShareholder","ShareholdingPatternCentralGovernmentOrStateGovernments","xbrli:PermenantAccountNumberOfShareholder",0,"xbrli:item",0,"duration","false","true"]
["in-bse-shp","NumberOfFullyPaidUpEquityShares","Number of fully paid up equity shares",null,3,"in-bse-shp_NumberOfFullyPaidUpEquityShares","DetailsOfSharesHeldByCentralGovernmentOrStateGovernmentsLineItems","NumberOfFullyPaidUpEquityShares","ShareholdingPatternCentralGovernmentOrStateGovernments","xbrli:sharesItemType",0,"xbrli:item",0,"instant","false","true"]
["in-bse-shp","NumberOfPartlyPaidUpEquityShares","Number of partly paid-up equity shares",null,4,"in-bse-shp_NumberOfPartlyPaidUpEquityShares","DetailsOfSharesHeldByCentralGovernmentOrStateGovernmentsLineItems","NumberOfPartlyPaidUpEquityShares","ShareholdingPatternCentralGovernmentOrStateGovernments","xbrli:sharesItemType",0,"xbrli:item",0,"instant","false","true"]
["in-bse-shp","NumberOfSharesUnderlyingOutstandingDepositoryReceipts","Number of shares underlying outstanding depository receipts",null,5,"in-bse-shp_NumberOfSharesUnderlyingOutstandingDepositoryReceipts","DetailsOfSharesHeldByCentralGovernmentOrStateGovernmentsLineItems","NumberOfSharesUnderlyingOutstandingDepositoryReceipts","ShareholdingPatternCentralGovernmentOrStateGovernments","xbrli:sharesItemType",0,"xbrli:item",0,"instant","false","true"]
["in-bse-shp","NumberOfVotingRightsHeldInEachClassOfSecuritiesAbstract","Number of voting rights held in each class of securities [Abstract]",null,8,"in-bse-shp_NumberOfVotingRightsHeldInEachClassOfSecuritiesAbstract","DetailsOfSharesHeldByCentralGovernmentOrStateGovernmentsLineItems","NumberOfVotingRightsHeldInEachClassOfSecuritiesAbstract","ShareholdingPatternCentralGovernmentOrStateGovernments","xbrli:stringItemType",0,"xbrli:item",0,"duration","true","true"]
["in-bse-shp","NumberOfVotingRightsHeldBySameClassOfSecurities","Number of voting rights held by same class of securities",null,1,"in-bse-shp_NumberOfVotingRightsHeldBySameClassOfSecurities","NumberOfVotingRightsHeldInEachClassOfSecuritiesAbstract","NumberOfVotingRightsHeldBySameClassOfSecurities","ShareholdingPatternCentralGovernmentOrStateGovernments","xbrli:decimalItemType",0,"xbrli:item",0,"instant","false","true"]
["in-bse-shp","NumberOfVotingRightsHeldByDifferentialVotingRights","Number of voting rights held by differential voting rights",null,2,"in-bse-shp_NumberOfVotingRightsHeldByDifferentialVotingRights","NumberOfVotingRightsHeldInEachClassOfSecuritiesAbstract","NumberOfVotingRightsHeldByDifferentialVotingRights","ShareholdingPatternCentralGovernmentOrStateGovernments","xbrli:decimalItemType",0,"xbrli:item",0,"instant","false","true"]
["in-bse-shp","NumberOfVotingRights","Total number of voting rights",null,3,"in-bse-shp_NumberOfVotingRights","NumberOfVotingRightsHeldInEachClassOfSecuritiesAbstract","NumberOfVotingRights","ShareholdingPatternCentralGovernmentOrStateGovernments","xbrli:decimalItemType",0,"xbrli:item",0,"instant","false","true"]
["in-bse-shp","NumberOfSharesUnderlyingOutstandingConvertibleSecurities","Number of shares underlying outstanding convertible securities",null,9,"in-bse-shp_NumberOfSharesUnderlyingOutstandingConvertibleSecurities","DetailsOfSharesHeldByCentralGovernmentOrStateGovernmentsLineItems","NumberOfSharesUnderlyingOutstandingConvertibleSecurities","ShareholdingPatternCentralGovernmentOrStateGovernments","xbrli:sharesItemType",0,"xbrli:item",0,"instant","false","true"]
["in-bse-shp","DetailsOfTheLockedInSharesAbstract","Details of the locked-in-shares [Abstract]",null,13,"in-bse-shp_DetailsOfTheLockedInSharesAbstract","DetailsOfSharesHeldByCentralGovernmentOrStateGovernmentsLineItems","DetailsOfTheLockedInSharesAbstract","ShareholdingPatternCentralGovernmentOrStateGovernments","xbrli:stringItemType",0,"xbrli:item",0,"duration","true","true"]
["in-bse-shp","NumberOfTheLockedInShares","Number of the locked-in-shares ",null,1,"in-bse-shp_NumberOfTheLockedInShares","DetailsOfTheLockedInSharesAbstract","NumberOfTheLockedInShares","ShareholdingPatternCentralGovernmentOrStateGovernments","xbrli:sharesItemType",0,"xbrli:item",0,"instant","false","true"]
["in-bse-shp","LockedInSharesAsAPercentageOfTotalNumberOfShares","Locked-in-shares as a percentage of total number of shares",null,2,"in-bse-shp_LockedInSharesAsAPercentageOfTotalNumberOfShares","DetailsOfTheLockedInSharesAbstract","LockedInSharesAsAPercentageOfTotalNumberOfShares","ShareholdingPatternCentralGovernmentOrStateGovernments","num:percentItemType",0,"xbrli:item",0,"instant","false","true"]
["in-bse-shp","NumberOfSharesPledgedOrOtherwiseEncumberedAbstract","Number of Shares pledged or otherwise encumbered [Abstract]",null,14,"in-bse-shp_NumberOfSharesPledgedOrOtherwiseEncumberedAbstract","DetailsOfSharesHeldByCentralGovernmentOrStateGovernmentsLineItems","NumberOfSharesPledgedOrOtherwiseEncumberedAbstract","ShareholdingPatternCentralGovernmentOrStateGovernments","xbrli:stringItemType",0,"xbrli:item",0,"duration","true","true"]
["in-bse-shp","PledgedOrEncumberedNumberOfShares","Pledged or encumbered - number of shares",null,1,"in-bse-shp_PledgedOrEncumberedNumberOfShares","NumberOfSharesPledgedOrOtherwiseEncumberedAbstract","PledgedOrEncumberedNumberOfShares","ShareholdingPatternCentralGovernmentOrStateGovernments","xbrli:sharesItemType",0,"xbrli:item",0,"instant","false","true"]
["in-bse-shp","PledgedOrEncumberedSharesHeldAsPercentageOfTotalNumberOfShares","Pledged or encumbered shares held as percentage of total number of shares",null,2,"in-bse-shp_PledgedOrEncumberedSharesHeldAsPercentageOfTotalNumberOfShares","NumberOfSharesPledgedOrOtherwiseEncumberedAbstract","PledgedOrEncumberedSharesHeldAsPercentageOfTotalNumberOfShares","ShareholdingPatternCentralGovernmentOrStateGovernments","num:percentItemType",0,"xbrli:item",0,"instant","false","true"]
["in-bse-shp","NumberOfEquitySharesHeldInDematerializedForm","Number of equity shares held in dematerialized form",null,15,"in-bse-shp_NumberOfEquitySharesHeldInDematerializedForm","DetailsOfSharesHeldByCentralGovernmentOrStateGovernmentsLineItems","NumberOfEquitySharesHeldInDematerializedForm","ShareholdingPatternCentralGovernmentOrStateGovernments","xbrli:sharesItemType",0,"xbrli:item",0,"instant","false","true"]
["in-bse-shp","DetailsOfSharesHeldByIndianFinancialInstitutionsOrBanksAbstract","Details of shares held by Indian - financial institutions or banks [Abstract]",null,null,"in-bse-shp_DetailsOfSharesHeldByIndianFinancialInstitutionsOrBanksAbstract",null,null,"ShareholdingPatternIndianFinancialInstitutionsOrBanks","xbrli:stringItemType",0,"xbrli:item",0,"duration","true","true"]
["in-bse-shp","DetailsOfSharesHeldByIndianFinancialInstitutionsOrBanksTable","Details of shares held by Indian - financial institutions or banks [Table]",null,1,"in-bse-shp_DetailsOfSharesHeldByIndianFinancialInstitutionsOrBanksTable","DetailsOfSharesHeldByIndianFinancialInstitutionsOrBanksAbstract","DetailsOfSharesHeldByIndianFinancialInstitutionsOrBanksTable","ShareholdingPatternIndianFinancialInstitutionsOrBanks","xbrli:stringItemType",0,"xbrldt:hypercubeItem",0,"duration","true","true"]
["in-bse-shp","DetailsOfSharesHeldByIndianFinancialInstitutionsOrBanksAxis","Details of shares held by Indian - financial institutions or banks  [Axis]",null,1,"in-bse-shp_DetailsOfSharesHeldByIndianFinancialInstitutionsOrBanksAxis","DetailsOfSharesHeldByIndianFinancialInstitutionsOrBanksTable","DetailsOfSharesHeldByIndianFinancialInstitutionsOrBanksAxis","ShareholdingPatternIndianFinancialInstitutionsOrBanks","xbrli:stringItemType",0,"xbrldt:dimensionItem",0,"duration","true","true"]
[null,"DetailsOfSharesHeldByIndianFinancialInstitutionsOrBanksLineItems","Details of shares held by Indian - financial institutions or banks [Line items]",null,2,"in-bse-shp_DetailsOfSharesHeldByIndianFinancialInstitutionsOrBanksLineItems","DetailsOfSharesHeldByIndianFinancialInstitutionsOrBanksAbstract","DetailsOfSharesHeldByIndianFinancialInstitutionsOrBanksLineItems","ShareholdingPatternIndianFinancialInstitutionsOrBanks","xbrli:stringItemType",0,"xbrli:item",0,"duration","true","true"]
["in-bse-shp"]
["in-bse-shp","PermanentAccountNumberOfShareholder","Permanent account number of shareholder",null,2,"in-bse-shp_PermenantAccountNumberOfShareholder","DetailsOfSharesHeldByIndianFinancialInstitutionsOrBanksLineItems","PermenantAccountNumberOfShareholder","ShareholdingPatternIndianFinancialInstitutionsOrBanks","xbrli:PermenantAccountNumberOfShareholder",0,"xbrli:item",0,"duration","false","true"]
["in-bse-shp","NumberOfFullyPaidUpEquityShares","Number of fully paid up equity shares",null,3,"in-bse-shp_NumberOfFullyPaidUpEquityShares","DetailsOfSharesHeldByIndianFinancialInstitutionsOrBanksLineItems","NumberOfFullyPaidUpEquityShares","ShareholdingPatternIndianFinancialInstitutionsOrBanks","xbrli:sharesItemType",0,"xbrli:item",0,"instant","false","true"]
["in-bse-shp","NumberOfPartlyPaidUpEquityShares","Number of partly paid-up equity shares",null,4,"in-bse-shp_NumberOfPartlyPaidUpEquityShares","DetailsOfSharesHeldByIndianFinancialInstitutionsOrBanksLineItems","NumberOfPartlyPaidUpEquityShares","ShareholdingPatternIndianFinancialInstitutionsOrBanks","xbrli:sharesItemType",0,"xbrli:item",0,"instant","false","true"]
["in-bse-shp","NumberOfSharesUnderlyingOutstandingDepositoryReceipts","Number of shares underlying outstanding depository receipts",null,5,"in-bse-shp_NumberOfSharesUnderlyingOutstandingDepositoryReceipts","DetailsOfSharesHeldByIndianFinancialInstitutionsOrBanksLineItems","NumberOfSharesUnderlyingOutstandingDepositoryReceipts","ShareholdingPatternIndianFinancialInstitutionsOrBanks","xbrli:sharesItemType",0,"xbrli:item",0,"instant","false","true"]
["in-bse-shp","NumberOfVotingRightsHeldInEachClassOfSecuritiesAbstract","Number of voting rights held in each class of securities [Abstract]",null,8,"in-bse-shp_NumberOfVotingRightsHeldInEachClassOfSecuritiesAbstract","DetailsOfSharesHeldByIndianFinancialInstitutionsOrBanksLineItems","NumberOfVotingRightsHeldInEachClassOfSecuritiesAbstract","ShareholdingPatternIndianFinancialInstitutionsOrBanks","xbrli:stringItemType",0,"xbrli:item",0,"duration","true","true"]
["in-bse-shp","NumberOfVotingRightsHeldBySameClassOfSecurities","Number of voting rights held by same class of securities",null,1,"in-bse-shp_NumberOfVotingRightsHeldBySameClassOfSecurities","NumberOfVotingRightsHeldInEachClassOfSecuritiesAbstract","NumberOfVotingRightsHeldBySameClassOfSecurities","ShareholdingPatternIndianFinancialInstitutionsOrBanks","xbrli:decimalItemType",0,"xbrli:item",0,"instant","false","true"]
["in-bse-shp","NumberOfVotingRightsHeldByDifferentialVotingRights","Number of voting rights held by differential voting rights",null,2,"in-bse-shp_NumberOfVotingRightsHeldByDifferentialVotingRights","NumberOfVotingRightsHeldInEachClassOfSecuritiesAbstract","NumberOfVotingRightsHeldByDifferentialVotingRights","ShareholdingPatternIndianFinancialInstitutionsOrBanks","xbrli:decimalItemType",0,"xbrli:item",0,"instant","false","true"]
["in-bse-shp","NumberOfVotingRights","Total number of voting rights",null,3,"in-bse-shp_NumberOfVotingRights","NumberOfVotingRightsHeldInEachClassOfSecuritiesAbstract","NumberOfVotingRights","ShareholdingPatternIndianFinancialInstitutionsOrBanks","xbrli:decimalItemType",0,"xbrli:item",0,"instant","false","true"]
["in-bse-shp","NumberOfSharesUnderlyingOutstandingConvertibleSecurities","Number of shares underlying outstanding convertible securities",null,9,"in-bse-shp_NumberOfSharesUnderlyingOutstandingConvertibleSecurities","DetailsOfSharesHeldByIndianFinancialInstitutionsOrBanksLineItems","NumberOfSharesUnderlyingOutstandingConvertibleSecurities","ShareholdingPatternIndianFinancialInstitutionsOrBanks","xbrli:sharesItemType",0,"xbrli:item",0,"instant","false","true"]
["in-bse-shp","DetailsOfTheLockedInSharesAbstract","Details of the locked-in-shares [Abstract]",null,13,"in-bse-shp_DetailsOfTheLockedInSharesAbstract","DetailsOfSharesHeldByIndianFinancialInstitutionsOrBanksLineItems","DetailsOfTheLockedInSharesAbstract","ShareholdingPatternIndianFinancialInstitutionsOrBanks","xbrli:stringItemType",0,"xbrli:item",0,"duration","true","true"]
["in-bse-shp","NumberOfTheLockedInShares","Number of the locked-in-shares ",null,1,"in-bse-shp_NumberOfTheLockedInShares","DetailsOfTheLockedInSharesAbstract","NumberOfTheLockedInShares","ShareholdingPatternIndianFinancialInstitutionsOrBanks","xbrli:sharesItemType",0,"xbrli:item",0,"instant","false","true"]
["in-bse-shp","LockedInSharesAsAPercentageOfTotalNumberOfShares","Locked-in-shares as a percentage of total number of shares",null,2,"in-bse-shp_LockedInSharesAsAPercentageOfTotalNumberOfShares","DetailsOfTheLockedInSharesAbstract","LockedInSharesAsAPercentageOfTotalNumberOfShares","ShareholdingPatternIndianFinancialInstitutionsOrBanks","num:percentItemType",0,"xbrli:item",0,"instant","false","true"]
["in-bse-shp","NumberOfSharesPledgedOrOtherwiseEncumberedAbstract","Number of Shares pledged or otherwise encumbered [Abstract]",null,14,"in-bse-shp_NumberOfSharesPledgedOrOtherwiseEncumberedAbstract","DetailsOfSharesHeldByIndianFinancialInstitutionsOrBanksLineItems","NumberOfSharesPledgedOrOtherwiseEncumberedAbstract","ShareholdingPatternIndianFinancialInstitutionsOrBanks","xbrli:stringItemType",0,"xbrli:item",0,"duration","true","true"]
["in-bse-shp","PledgedOrEncumberedNumberOfShares","Pledged or encumbered - number of shares",null,1,"in-bse-shp_PledgedOrEncumberedNumberOfShares","NumberOfSharesPledgedOrOtherwiseEncumberedAbstract","PledgedOrEncumberedNumberOfShares","ShareholdingPatternIndianFinancialInstitutionsOrBanks","xbrli:sharesItemType",0,"xbrli:item",0,"instant","false","true"]
["in-bse-shp","PledgedOrEncumberedSharesHeldAsPercentageOfTotalNumberOfShares","Pledged or encumbered shares held as percentage of total number of shares",null,2,"in-bse-shp_PledgedOrEncumberedSharesHeldAsPercentageOfTotalNumberOfShares","NumberOfSharesPledgedOrOtherwiseEncumberedAbstract","PledgedOrEncumberedSharesHeldAsPercentageOfTotalNumberOfShares","ShareholdingPatternIndianFinancialInstitutionsOrBanks","num:percentItemType",0,"xbrli:item",0,"instant","false","true"]
["in-bse-shp","NumberOfEquitySharesHeldInDematerializedForm","Number of equity shares held in dematerialized form",null,15,"in-bse-shp_NumberOfEquitySharesHeldInDematerializedForm","DetailsOfSharesHeldByIndianFinancialInstitutionsOrBanksLineItems","NumberOfEquitySharesHeldInDematerializedForm","ShareholdingPatternIndianFinancialInstitutionsOrBanks","xbrli:sharesItemType",0,"xbrli:item",0,"instant","false","true"]
["in-bse-shp","DetailsOfSharesHeldByNonResidentIndividualsOrForeignIndividualsAbstract","Details of shares held by non-resident individuals or foreign individuals [Abstract]",null,16,"in-bse-shp_DetailsOfSharesHeldByNonResidentIndividualsOrForeignIndividualsAbstract",null,null,"ShareholdingPatternNonResidentIndividualsOrForeignIndividuals","xbrli:stringItemType",0,"xbrli:item",0,"duration","true","true"]
["in-bse-shp","DetailsOfSharesHeldByNonResidentIndividualsOrForeignIndividualsTable","Details of shares held by non-resident individuals or foreign individuals [Table]",null,1,"in-bse-shp_DetailsOfSharesHeldByNonResidentIndividualsOrForeignIndividualsTable","DetailsOfSharesHeldByNonResidentIndividualsOrForeignIndividualsAbstract","DetailsOfSharesHeldByNonResidentIndividualsOrForeignIndividualsTable","ShareholdingPatternNonResidentIndividualsOrForeignIndividuals","xbrli:stringItemType",0,"xbrldt:hypercubeItem",0,"duration","true","true"]
["in-bse-shp","DetailsOfSharesHeldByNonResidentIndividualsOrForeignIndividualsAxis","Details of shares held by non-resident individuals or foreign individuals [Axis]",null,1,"in-bse-shp_DetailsOfSharesHeldByNonResidentIndividualsOrForeignIndividualsAxis","DetailsOfSharesHeldByNonResidentIndividualsOrForeignIndividualsTable","DetailsOfSharesHeldByNonResidentIndividualsOrForeignIndividualsAxis","ShareholdingPatternNonResidentIndividualsOrForeignIndividuals","xbrli:stringItemType",0,"xbrldt:dimensionItem",0,"duration","true","true"]
[null,"DetailsOfSharesHeldByNonResidentIndividualsOrForeignIndividualsLineItems","Details of shares held by non-resident individuals or foreign individuals [Line items]",null,2,"in-bse-shp_DetailsOfSharesHeldByNonResidentIndividualsOrForeignIndividualsLineItems","DetailsOfSharesHeldByNonResidentIndividualsOrForeignIndividualsAbstract","DetailsOfSharesHeldByNonResidentIndividualsOrForeignIndividualsLineItems","ShareholdingPatternNonResidentIndividualsOrForeignIndividuals","xbrli:stringItemType",0,"xbrli:item",0,"duration","true","true"]
["in-bse-shp"]
["in-bse-shp","PermanentAccountNumberOfShareholder","Permanent account number of shareholder",null,2,"in-bse-shp_PermenantAccountNumberOfShareholder","DetailsOfSharesHeldByNonResidentIndividualsOrForeignIndividualsLineItems","PermenantAccountNumberOfShareholder","ShareholdingPatternNonResidentIndividualsOrForeignIndividuals","xbrli:PermenantAccountNumberOfShareholder",0,"xbrli:item",0,"duration","false","true"]
["in-bse-shp","NumberOfFullyPaidUpEquityShares","Number of fully paid up equity shares",null,3,"in-bse-shp_NumberOfFullyPaidUpEquityShares","DetailsOfSharesHeldByNonResidentIndividualsOrForeignIndividualsLineItems","NumberOfFullyPaidUpEquityShares","ShareholdingPatternNonResidentIndividualsOrForeignIndividuals","xbrli:sharesItemType",0,"xbrli:item",0,"instant","false","true"]
["in-bse-shp","NumberOfPartlyPaidUpEquityShares","Number of partly paid-up equity shares",null,4,"in-bse-shp_NumberOfPartlyPaidUpEquityShares","DetailsOfSharesHeldByNonResidentIndividualsOrForeignIndividualsLineItems","NumberOfPartlyPaidUpEquityShares","ShareholdingPatternNonResidentIndividualsOrForeignIndividuals","xbrli:sharesItemType",0,"xbrli:item",0,"instant","false","true"]
["in-bse-shp","NumberOfSharesUnderlyingOutstandingDepositoryReceipts","Number of shares underlying outstanding depository receipts",null,5,"in-bse-shp_NumberOfSharesUnderlyingOutstandingDepositoryReceipts","DetailsOfSharesHeldByNonResidentIndividualsOrForeignIndividualsLineItems","NumberOfSharesUnderlyingOutstandingDepositoryReceipts","ShareholdingPatternNonResidentIndividualsOrForeignIndividuals","xbrli:sharesItemType",0,"xbrli:item",0,"instant","false","true"]
["in-bse-shp","NumberOfVotingRightsHeldInEachClassOfSecuritiesAbstract","Number of voting rights held in each class of securities [Abstract]",null,8,"in-bse-shp_NumberOfVotingRightsHeldInEachClassOfSecuritiesAbstract","DetailsOfSharesHeldByNonResidentIndividualsOrForeignIndividualsLineItems","NumberOfVotingRightsHeldInEachClassOfSecuritiesAbstract","ShareholdingPatternNonResidentIndividualsOrForeignIndividuals","xbrli:stringItemType",0,"xbrli:item",0,"duration","true","true"]
["in-bse-shp","NumberOfVotingRightsHeldBySameClassOfSecurities","Number of voting rights held by same class of securities",null,1,"in-bse-shp_NumberOfVotingRightsHeldBySameClassOfSecurities","NumberOfVotingRightsHeldInEachClassOfSecuritiesAbstract","NumberOfVotingRightsHeldBySameClassOfSecurities","ShareholdingPatternNonResidentIndividualsOrForeignIndividuals","xbrli:decimalItemType",0,"xbrli:item",0,"instant","false","true"]
["in-bse-shp","NumberOfVotingRightsHeldByDifferentialVotingRights","Number of voting rights held by differential voting rights",null,2,"in-bse-shp_NumberOfVotingRightsHeldByDifferentialVotingRights","NumberOfVotingRightsHeldInEachClassOfSecuritiesAbstract","NumberOfVotingRightsHeldByDifferentialVotingRights","ShareholdingPatternNonResidentIndividualsOrForeignIndividuals","xbrli:decimalItemType",0,"xbrli:item",0,"instant","false","true"]
["in-bse-shp","NumberOfVotingRights","Total number of voting rights",null,3,"in-bse-shp_NumberOfVotingRights","NumberOfVotingRightsHeldInEachClassOfSecuritiesAbstract","NumberOfVotingRights","ShareholdingPatternNonResidentIndividualsOrForeignIndividuals","xbrli:decimalItemType",0,"xbrli:item",0,"instant","false","true"]
["in-bse-shp","NumberOfSharesUnderlyingOutstandingConvertibleSecurities","Number of shares underlying outstanding convertible securities",null,9,"in-bse-shp_NumberOfSharesUnderlyingOutstandingConvertibleSecurities","DetailsOfSharesHeldByNonResidentIndividualsOrForeignIndividualsLineItems","NumberOfSharesUnderlyingOutstandingConvertibleSecurities","ShareholdingPatternNonResidentIndividualsOrForeignIndividuals","xbrli:sharesItemType",0,"xbrli:item",0,"instant","false","true"]
["in-bse-shp","DetailsOfTheLockedInSharesAbstract","Details of the locked-in-shares [Abstract]",null,13,"in-bse-shp_DetailsOfTheLockedInSharesAbstract","DetailsOfSharesHeldByNonResidentIndividualsOrForeignIndividualsLineItems","DetailsOfTheLockedInSharesAbstract","ShareholdingPatternNonResidentIndividualsOrForeignIndividuals","xbrli:stringItemType",0,"xbrli:item",0,"duration","true","true"]
["in-bse-shp","NumberOfTheLockedInShares","Number of the locked-in-shares ",null,1,"in-bse-shp_NumberOfTheLockedInShares","DetailsOfTheLockedInSharesAbstract","NumberOfTheLockedInShares","ShareholdingPatternNonResidentIndividualsOrForeignIndividuals","xbrli:sharesItemType",0,"xbrli:item",0,"instant","false","true"]
["in-bse-shp","LockedInSharesAsAPercentageOfTotalNumberOfShares","Locked-in-shares as a percentage of total number of shares",null,2,"in-bse-shp_LockedInSharesAsAPercentageOfTotalNumberOfShares","DetailsOfTheLockedInSharesAbstract","LockedInSharesAsAPercentageOfTotalNumberOfShares","ShareholdingPatternNonResidentIndividualsOrForeignIndividuals","num:percentItemType",0,"xbrli:item",0,"instant","false","true"]
["in-bse-shp","NumberOfSharesPledgedOrOtherwiseEncumberedAbstract","Number of Shares pledged or otherwise encumbered [Abstract]",null,14,"in-bse-shp_NumberOfSharesPledgedOrOtherwiseEncumberedAbstract","DetailsOfSharesHeldByNonResidentIndividualsOrForeignIndividualsLineItems","NumberOfSharesPledgedOrOtherwiseEncumberedAbstract","ShareholdingPatternNonResidentIndividualsOrForeignIndividuals","xbrli:stringItemType",0,"xbrli:item",0,"duration","true","true"]
["in-bse-shp","PledgedOrEncumberedNumberOfShares","Pledged or encumbered - number of shares",null,1,"in-bse-shp_PledgedOrEncumberedNumberOfShares","NumberOfSharesPledgedOrOtherwiseEncumberedAbstract","PledgedOrEncumberedNumberOfShares","ShareholdingPatternNonResidentIndividualsOrForeignIndividuals","xbrli:sharesItemType",0,"xbrli:item",0,"instant","false","true"]
["in-bse-shp","PledgedOrEncumberedSharesHeldAsPercentageOfTotalNumberOfShares","Pledged or encumbered shares held as percentage of total number of shares",null,2,"in-bse-shp_PledgedOrEncumberedSharesHeldAsPercentageOfTotalNumberOfShares","NumberOfSharesPledgedOrOtherwiseEncumberedAbstract","PledgedOrEncumberedSharesHeldAsPercentageOfTotalNumberOfShares","ShareholdingPatternNonResidentIndividualsOrForeignIndividuals","num:percentItemType",0,"xbrli:item",0,"instant","false","true"]
["in-bse-shp","NumberOfEquitySharesHeldInDematerializedForm","Number of equity shares held in dematerialized form",null,15,"in-bse-shp_NumberOfEquitySharesHeldInDematerializedForm","DetailsOfSharesHeldByNonResidentIndividualsOrForeignIndividualsLineItems","NumberOfEquitySharesHeldInDematerializedForm","ShareholdingPatternNonResidentIndividualsOrForeignIndividuals","xbrli:sharesItemType",0,"xbrli:item",0,"instant","false","true"]
["in-bse-shp","DetailsOfSharesHeldByForeignGovernmentAbstract","Details of shares held by Foreign - Government [Abstract]",null,null,"in-bse-shp_DetailsOfSharesHeldByForeignGovernmentAbstract",null,null,"ShareholdingPatternForeignGovernment","xbrli:stringItemType",0,"xbrli:item",0,"duration","true","true"]
["in-bse-shp","DetailsOfSharesHeldByForeignGovernmentTable","Details of shares held by Foreign - Government [Table]",null,1,"in-bse-shp_DetailsOfSharesHeldByForeignGovernmentTable","DetailsOfSharesHeldByForeignGovernmentAbstract","DetailsOfSharesHeldByForeignGovernmentTable","ShareholdingPatternForeignGovernment","xbrli:stringItemType",0,"xbrldt:hypercubeItem",0,"duration","true","true"]
["in-bse-shp","DetailsOfSharesHeldByForeignGovernmentAxis","Details of shares held by Foreign - Government [Axis]",null,1,"in-bse-shp_DetailsOfSharesHeldByForeignGovernmentAxis","DetailsOfSharesHeldByForeignGovernmentTable","DetailsOfSharesHeldByForeignGovernmentAxis","ShareholdingPatternForeignGovernment","xbrli:stringItemType",0,"xbrldt:dimensionItem",0,"duration","true","true"]
[null,"DetailsOfSharesHeldByForeignGovernmentLineItems","Details of shares held by Foreign - Government [Line items]",null,2,"in-bse-shp_DetailsOfSharesHeldByForeignGovernmentLineItems","DetailsOfSharesHeldByForeignGovernmentAbstract","DetailsOfSharesHeldByForeignGovernmentLineItems","ShareholdingPatternForeignGovernment","xbrli:stringItemType",0,"xbrli:item",0,"duration","true","true"]
["in-bse-shp"]
["in-bse-shp","PermanentAccountNumberOfShareholder","Permanent account number of shareholder",null,2,"in-bse-shp_PermenantAccountNumberOfShareholder","DetailsOfSharesHeldByForeignGovernmentLineItems","PermenantAccountNumberOfShareholder","ShareholdingPatternForeignGovernment","xbrli:PermenantAccountNumberOfShareholder",0,"xbrli:item",0,"duration","false","true"]
["in-bse-shp","NumberOfFullyPaidUpEquityShares","Number of fully paid up equity shares",null,3,"in-bse-shp_NumberOfFullyPaidUpEquityShares","DetailsOfSharesHeldByForeignGovernmentLineItems","NumberOfFullyPaidUpEquityShares","ShareholdingPatternForeignGovernment","xbrli:sharesItemType",0,"xbrli:item",0,"instant","false","true"]
["in-bse-shp","NumberOfPartlyPaidUpEquityShares","Number of partly paid-up equity shares",null,4,"in-bse-shp_NumberOfPartlyPaidUpEquityShares","DetailsOfSharesHeldByForeignGovernmentLineItems","NumberOfPartlyPaidUpEquityShares","ShareholdingPatternForeignGovernment","xbrli:sharesItemType",0,"xbrli:item",0,"instant","false","true"]
["in-bse-shp","NumberOfSharesUnderlyingOutstandingDepositoryReceipts","Number of shares underlying outstanding depository receipts",null,5,"in-bse-shp_NumberOfSharesUnderlyingOutstandingDepositoryReceipts","DetailsOfSharesHeldByForeignGovernmentLineItems","NumberOfSharesUnderlyingOutstandingDepositoryReceipts","ShareholdingPatternForeignGovernment","xbrli:sharesItemType",0,"xbrli:item",0,"instant","false","true"]
["in-bse-shp","NumberOfVotingRightsHeldInEachClassOfSecuritiesAbstract","Number of voting rights held in each class of securities [Abstract]",null,8,"in-bse-shp_NumberOfVotingRightsHeldInEachClassOfSecuritiesAbstract","DetailsOfSharesHeldByForeignGovernmentLineItems","NumberOfVotingRightsHeldInEachClassOfSecuritiesAbstract","ShareholdingPatternForeignGovernment","xbrli:stringItemType",0,"xbrli:item",0,"duration","true","true"]
["in-bse-shp","NumberOfVotingRightsHeldBySameClassOfSecurities","Number of voting rights held by same class of securities",null,1,"in-bse-shp_NumberOfVotingRightsHeldBySameClassOfSecurities","NumberOfVotingRightsHeldInEachClassOfSecuritiesAbstract","NumberOfVotingRightsHeldBySameClassOfSecurities","ShareholdingPatternForeignGovernment","xbrli:decimalItemType",0,"xbrli:item",0,"instant","false","true"]
["in-bse-shp","NumberOfVotingRightsHeldByDifferentialVotingRights","Number of voting rights held by differential voting rights",null,2,"in-bse-shp_NumberOfVotingRightsHeldByDifferentialVotingRights","NumberOfVotingRightsHeldInEachClassOfSecuritiesAbstract","NumberOfVotingRightsHeldByDifferentialVotingRights","ShareholdingPatternForeignGovernment","xbrli:decimalItemType",0,"xbrli:item",0,"instant","false","true"]
["in-bse-shp","NumberOfVotingRights","Total number of voting rights",null,3,"in-bse-shp_NumberOfVotingRights","NumberOfVotingRightsHeldInEachClassOfSecuritiesAbstract","NumberOfVotingRights","ShareholdingPatternForeignGovernment","xbrli:decimalItemType",0,"xbrli:item",0,"instant","false","true"]
["in-bse-shp","NumberOfSharesUnderlyingOutstandingConvertibleSecurities","Number of shares underlying outstanding convertible securities",null,9,"in-bse-shp_NumberOfSharesUnderlyingOutstandingConvertibleSecurities","DetailsOfSharesHeldByForeignGovernmentLineItems","NumberOfSharesUnderlyingOutstandingConvertibleSecurities","ShareholdingPatternForeignGovernment","xbrli:sharesItemType",0,"xbrli:item",0,"instant","false","true"]
["in-bse-shp","DetailsOfTheLockedInSharesAbstract","Details of the locked-in-shares [Abstract]",null,13,"in-bse-shp_DetailsOfTheLockedInSharesAbstract","DetailsOfSharesHeldByForeignGovernmentLineItems","DetailsOfTheLockedInSharesAbstract","ShareholdingPatternForeignGovernment","xbrli:stringItemType",0,"xbrli:item",0,"duration","true","true"]
["in-bse-shp","NumberOfTheLockedInShares","Number of the locked-in-shares ",null,1,"in-bse-shp_NumberOfTheLockedInShares","DetailsOfTheLockedInSharesAbstract","NumberOfTheLockedInShares","ShareholdingPatternForeignGovernment","xbrli:sharesItemType",0,"xbrli:item",0,"instant","false","true"]
["in-bse-shp","LockedInSharesAsAPercentageOfTotalNumberOfShares","Locked-in-shares as a percentage of total number of shares",null,2,"in-bse-shp_LockedInSharesAsAPercentageOfTotalNumberOfShares","DetailsOfTheLockedInSharesAbstract","LockedInSharesAsAPercentageOfTotalNumberOfShares","ShareholdingPatternForeignGovernment","num:percentItemType",0,"xbrli:item",0,"instant","false","true"]
["in-bse-shp","NumberOfSharesPledgedOrOtherwiseEncumberedAbstract","Number of Shares pledged or otherwise encumbered [Abstract]",null,14,"in-bse-shp_NumberOfSharesPledgedOrOtherwiseEncumberedAbstract","DetailsOfSharesHeldByForeignGovernmentLineItems","NumberOfSharesPledgedOrOtherwiseEncumberedAbstract","ShareholdingPatternForeignGovernment","xbrli:stringItemType",0,"xbrli:item",0,"duration","true","true"]
["in-bse-shp","PledgedOrEncumberedNumberOfShares","Pledged or encumbered - number of shares",null,1,"in-bse-shp_PledgedOrEncumberedNumberOfShares","NumberOfSharesPledgedOrOtherwiseEncumberedAbstract","PledgedOrEncumberedNumberOfShares","ShareholdingPatternForeignGovernment","xbrli:sharesItemType",0,"xbrli:item",0,"instant","false","true"]
["in-bse-shp","PledgedOrEncumberedSharesHeldAsPercentageOfTotalNumberOfShares","Pledged or encumbered shares held as percentage of total number of shares",null,2,"in-bse-shp_PledgedOrEncumberedSharesHeldAsPercentageOfTotalNumberOfShares","NumberOfSharesPledgedOrOtherwiseEncumberedAbstract","PledgedOrEncumberedSharesHeldAsPercentageOfTotalNumberOfShares","ShareholdingPatternForeignGovernment","num:percentItemType",0,"xbrli:item",0,"instant","false","true"]
["in-bse-shp","NumberOfEquitySharesHeldInDematerializedForm","Number of equity shares held in dematerialized form",null,15,"in-bse-shp_NumberOfEquitySharesHeldInDematerializedForm","DetailsOfSharesHeldByForeignGovernmentLineItems","NumberOfEquitySharesHeldInDematerializedForm","ShareholdingPatternForeignGovernment","xbrli:sharesItemType",0,"xbrli:item",0,"instant","false","true"]
["in-bse-shp","DetailsOfSharesHeldByForeignPortfolioInvestorAbstract","Details of shares held by Foreign portfolio investor [Abstract]",null,16,"in-bse-shp_DetailsOfSharesHeldByForeignPortfolioInvestorAbstract",null,"DetailsOfSharesHeldByForeignPortfolioInvestorAbstract","ShareholdingPatternForeignPortfolioInvestor","xbrli:stringItemType",0,"xbrli:item",0,"duration","true","true"]
["in-bse-shp","DetailsOfSharesHeldByForeignPortfolioInvestorTable","Details of shares held by Foreign portfolio investor [Table]",null,1,"in-bse-shp_DetailsOfSharesHeldByForeignPortfolioInvestorTable","DetailsOfSharesHeldByForeignPortfolioInvestorAbstract","DetailsOfSharesHeldByForeignPortfolioInvestorTable","ShareholdingPatternForeignPortfolioInvestor","xbrli:stringItemType",0,"xbrldt:hypercubeItem",0,"duration","true","true"]
["in-bse-shp","DetailsOfSharesHeldByForeignPortfolioInvestorAxis","Details of shares held by Foreign portfolio investor [Axis]",null,1,"in-bse-shp_DetailsOfSharesHeldByForeignPortfolioInvestorAxis","DetailsOfSharesHeldByForeignPortfolioInvestorTable","DetailsOfSharesHeldByForeignPortfolioInvestorAxis","ShareholdingPatternForeignPortfolioInvestor","xbrli:stringItemType",0,"xbrldt:dimensionItem",0,"duration","true","true"]
[null,"DetailsOfSharesHeldByForeignPortfolioInvestorLineItems","Details of shares held by Foreign portfolio investor [Line items]",null,2,"in-bse-shp_DetailsOfSharesHeldByForeignPortfolioInvestorLineItems","DetailsOfSharesHeldByForeignPortfolioInvestorAbstract","DetailsOfSharesHeldByForeignPortfolioInvestorLineItems","ShareholdingPatternForeignPortfolioInvestor","xbrli:stringItemType",0,"xbrli:item",0,"duration","true","true"]
["in-bse-shp"]
["in-bse-shp","PermanentAccountNumberOfShareholder","Permanent account number of shareholder",null,2,"in-bse-shp_PermenantAccountNumberOfShareholder","DetailsOfSharesHeldByForeignPortfolioInvestorLineItems","PermenantAccountNumberOfShareholder","ShareholdingPatternForeignPortfolioInvestor","xbrli:PermenantAccountNumberOfShareholder",0,"xbrli:item",0,"duration","false","true"]
["in-bse-shp","NumberOfFullyPaidUpEquityShares","Number of fully paid up equity shares",null,3,"in-bse-shp_NumberOfFullyPaidUpEquityShares","DetailsOfSharesHeldByForeignPortfolioInvestorLineItems","NumberOfFullyPaidUpEquityShares","ShareholdingPatternForeignPortfolioInvestor","xbrli:sharesItemType",0,"xbrli:item",0,"instant","false","true"]
["in-bse-shp","NumberOfPartlyPaidUpEquityShares","Number of partly paid-up equity shares",null,4,"in-bse-shp_NumberOfPartlyPaidUpEquityShares","DetailsOfSharesHeldByForeignPortfolioInvestorLineItems","NumberOfPartlyPaidUpEquityShares","ShareholdingPatternForeignPortfolioInvestor","xbrli:sharesItemType",0,"xbrli:item",0,"instant","false","true"]
["in-bse-shp","NumberOfSharesUnderlyingOutstandingDepositoryReceipts","Number of shares underlying outstanding depository receipts",null,5,"in-bse-shp_NumberOfSharesUnderlyingOutstandingDepositoryReceipts","DetailsOfSharesHeldByForeignPortfolioInvestorLineItems","NumberOfSharesUnderlyingOutstandingDepositoryReceipts","ShareholdingPatternForeignPortfolioInvestor","xbrli:sharesItemType",0,"xbrli:item",0,"instant","false","true"]
["in-bse-shp","NumberOfVotingRightsHeldInEachClassOfSecuritiesAbstract","Number of voting rights held in each class of securities [Abstract]",null,8,"in-bse-shp_NumberOfVotingRightsHeldInEachClassOfSecuritiesAbstract","DetailsOfSharesHeldByForeignPortfolioInvestorLineItems","NumberOfVotingRightsHeldInEachClassOfSecuritiesAbstract","ShareholdingPatternForeignPortfolioInvestor","xbrli:stringItemType",0,"xbrli:item",0,"duration","true","true"]
["in-bse-shp","NumberOfVotingRightsHeldBySameClassOfSecurities","Number of voting rights held by same class of securities",null,1,"in-bse-shp_NumberOfVotingRightsHeldBySameClassOfSecurities","NumberOfVotingRightsHeldInEachClassOfSecuritiesAbstract","NumberOfVotingRightsHeldBySameClassOfSecurities","ShareholdingPatternForeignPortfolioInvestor","xbrli:decimalItemType",0,"xbrli:item",0,"instant","false","true"]
["in-bse-shp","NumberOfVotingRightsHeldByDifferentialVotingRights","Number of voting rights held by differential voting rights",null,2,"in-bse-shp_NumberOfVotingRightsHeldByDifferentialVotingRights","NumberOfVotingRightsHeldInEachClassOfSecuritiesAbstract","NumberOfVotingRightsHeldByDifferentialVotingRights","ShareholdingPatternForeignPortfolioInvestor","xbrli:decimalItemType",0,"xbrli:item",0,"instant","false","true"]
["in-bse-shp","NumberOfVotingRights","Total number of voting rights",null,3,"in-bse-shp_NumberOfVotingRights","NumberOfVotingRightsHeldInEachClassOfSecuritiesAbstract","NumberOfVotingRights","ShareholdingPatternForeignPortfolioInvestor","xbrli:decimalItemType",0,"xbrli:item",0,"instant","false","true"]
["in-bse-shp","NumberOfSharesUnderlyingOutstandingConvertibleSecurities","Number of shares underlying outstanding convertible securities",null,9,"in-bse-shp_NumberOfSharesUnderlyingOutstandingConvertibleSecurities","DetailsOfSharesHeldByForeignPortfolioInvestorLineItems","NumberOfSharesUnderlyingOutstandingConvertibleSecurities","ShareholdingPatternForeignPortfolioInvestor","xbrli:sharesItemType",0,"xbrli:item",0,"instant","false","true"]
["in-bse-shp","DetailsOfTheLockedInSharesAbstract","Details of the locked-in-shares [Abstract]",null,13,"in-bse-shp_DetailsOfTheLockedInSharesAbstract","DetailsOfSharesHeldByForeignPortfolioInvestorLineItems","DetailsOfTheLockedInSharesAbstract","ShareholdingPatternForeignPortfolioInvestor","xbrli:stringItemType",0,"xbrli:item",0,"duration","true","true"]
["in-bse-shp","NumberOfTheLockedInShares","Number of the locked-in-shares ",null,1,"in-bse-shp_NumberOfTheLockedInShares","DetailsOfTheLockedInSharesAbstract","NumberOfTheLockedInShares","ShareholdingPatternForeignPortfolioInvestor","xbrli:sharesItemType",0,"xbrli:item",0,"instant","false","true"]
["in-bse-shp","LockedInSharesAsAPercentageOfTotalNumberOfShares","Locked-in-shares as a percentage of total number of shares",null,2,"in-bse-shp_LockedInSharesAsAPercentageOfTotalNumberOfShares","DetailsOfTheLockedInSharesAbstract","LockedInSharesAsAPercentageOfTotalNumberOfShares","ShareholdingPatternForeignPortfolioInvestor","num:percentItemType",0,"xbrli:item",0,"instant","false","true"]
["in-bse-shp","NumberOfSharesPledgedOrOtherwiseEncumberedAbstract","Number of Shares pledged or otherwise encumbered [Abstract]",null,14,"in-bse-shp_NumberOfSharesPledgedOrOtherwiseEncumberedAbstract","DetailsOfSharesHeldByForeignPortfolioInvestorLineItems","NumberOfSharesPledgedOrOtherwiseEncumberedAbstract","ShareholdingPatternForeignPortfolioInvestor","xbrli:stringItemType",0,"xbrli:item",0,"duration","true","true"]
["in-bse-shp","PledgedOrEncumberedNumberOfShares","Pledged or encumbered - number of shares",null,1,"in-bse-shp_PledgedOrEncumberedNumberOfShares","NumberOfSharesPledgedOrOtherwiseEncumberedAbstract","PledgedOrEncumberedNumberOfShares","ShareholdingPatternForeignPortfolioInvestor","xbrli:sharesItemType",0,"xbrli:item",0,"instant","false","true"]
["in-bse-shp","PledgedOrEncumberedSharesHeldAsPercentageOfTotalNumberOfShares","Pledged or encumbered shares held as percentage of total number of shares",null,2,"in-bse-shp_PledgedOrEncumberedSharesHeldAsPercentageOfTotalNumberOfShares","NumberOfSharesPledgedOrOtherwiseEncumberedAbstract","PledgedOrEncumberedSharesHeldAsPercentageOfTotalNumberOfShares","ShareholdingPatternForeignPortfolioInvestor","num:percentItemType",0,"xbrli:item",0,"instant","false","true"]
["in-bse-shp","NumberOfEquitySharesHeldInDematerializedForm","Number of equity shares held in dematerialized form",null,15,"in-bse-shp_NumberOfEquitySharesHeldInDematerializedForm","DetailsOfSharesHeldByForeignPortfolioInvestorLineItems","NumberOfEquitySharesHeldInDematerializedForm","ShareholdingPatternForeignPortfolioInvestor","xbrli:sharesItemType",0,"xbrli:item",0,"instant","false","true"]
["in-bse-shp","DetailsOfSharesHeldByVentureCapitalFundsAbstract","Details of shares held by Venture capital funds [Abstract]",null,null,"in-bse-shp_DetailsOfSharesHeldByVentureCapitalFundsAbstract",null,null,"ShareholdingPatternVentureCapitalFunds","xbrli:stringItemType",0,"xbrli:item",0,"duration","true","true"]
["in-bse-shp","DetailsOfSharesHeldByVentureCapitalFundsTable","Details of shares held by Venture capital funds [Table]",null,1,"in-bse-shp_DetailsOfSharesHeldByVentureCapitalFundsTable","DetailsOfSharesHeldByVentureCapitalFundsAbstract","DetailsOfSharesHeldByVentureCapitalFundsTable","ShareholdingPatternVentureCapitalFunds","xbrli:stringItemType",0,"xbrldt:hypercubeItem",0,"duration","true","true"]
["in-bse-shp","DetailsOfSharesHeldByVentureCapitalFundsAxis","Details of shares held by Venture capital funds [Axis]",null,1,"in-bse-shp_DetailsOfSharesHeldByVentureCapitalFundsAxis","DetailsOfSharesHeldByVentureCapitalFundsTable","DetailsOfSharesHeldByVentureCapitalFundsAxis","ShareholdingPatternVentureCapitalFunds","xbrli:stringItemType",0,"xbrldt:dimensionItem",0,"duration","true","true"]
[null,"DetailsOfSharesHeldByVentureCapitalFundsLineItems","Details of shares held by Venture capital funds [Line items]",null,2,"in-bse-shp_DetailsOfSharesHeldByVentureCapitalFundsLineItems","DetailsOfSharesHeldByVentureCapitalFundsAbstract","DetailsOfSharesHeldByVentureCapitalFundsLineItems","ShareholdingPatternVentureCapitalFunds","xbrli:stringItemType",0,"xbrli:item",0,"duration","true","true"]
["in-bse-shp"]
["in-bse-shp","PermanentAccountNumberOfShareholder","Permanent account number of shareholder",null,2,"in-bse-shp_PermenantAccountNumberOfShareholder","DetailsOfSharesHeldByVentureCapitalFundsLineItems","PermenantAccountNumberOfShareholder","ShareholdingPatternVentureCapitalFunds","xbrli:PermenantAccountNumberOfShareholder",0,"xbrli:item",0,"duration","false","true"]
["in-bse-shp","NumberOfFullyPaidUpEquityShares","Number of fully paid up equity shares",null,3,"in-bse-shp_NumberOfFullyPaidUpEquityShares","DetailsOfSharesHeldByVentureCapitalFundsLineItems","NumberOfFullyPaidUpEquityShares","ShareholdingPatternVentureCapitalFunds","xbrli:sharesItemType",0,"xbrli:item",0,"instant","false","true"]
["in-bse-shp","NumberOfPartlyPaidUpEquityShares","Number of partly paid-up equity shares",null,4,"in-bse-shp_NumberOfPartlyPaidUpEquityShares","DetailsOfSharesHeldByVentureCapitalFundsLineItems","NumberOfPartlyPaidUpEquityShares","ShareholdingPatternVentureCapitalFunds","xbrli:sharesItemType",0,"xbrli:item",0,"instant","false","true"]
["in-bse-shp","NumberOfSharesUnderlyingOutstandingDepositoryReceipts","Number of shares underlying outstanding depository receipts",null,5,"in-bse-shp_NumberOfSharesUnderlyingOutstandingDepositoryReceipts","DetailsOfSharesHeldByVentureCapitalFundsLineItems","NumberOfSharesUnderlyingOutstandingDepositoryReceipts","ShareholdingPatternVentureCapitalFunds","xbrli:sharesItemType",0,"xbrli:item",0,"instant","false","true"]
["in-bse-shp","NumberOfVotingRightsHeldInEachClassOfSecuritiesAbstract","Number of voting rights held in each class of securities [Abstract]",null,8,"in-bse-shp_NumberOfVotingRightsHeldInEachClassOfSecuritiesAbstract","DetailsOfSharesHeldByVentureCapitalFundsLineItems","NumberOfVotingRightsHeldInEachClassOfSecuritiesAbstract","ShareholdingPatternVentureCapitalFunds","xbrli:stringItemType",0,"xbrli:item",0,"duration","true","true"]
["in-bse-shp","NumberOfVotingRightsHeldBySameClassOfSecurities","Number of voting rights held by same class of securities",null,1,"in-bse-shp_NumberOfVotingRightsHeldBySameClassOfSecurities","NumberOfVotingRightsHeldInEachClassOfSecuritiesAbstract","NumberOfVotingRightsHeldBySameClassOfSecurities","ShareholdingPatternVentureCapitalFunds","xbrli:decimalItemType",0,"xbrli:item",0,"instant","false","true"]
["in-bse-shp","NumberOfVotingRightsHeldByDifferentialVotingRights","Number of voting rights held by differential voting rights",null,2,"in-bse-shp_NumberOfVotingRightsHeldByDifferentialVotingRights","NumberOfVotingRightsHeldInEachClassOfSecuritiesAbstract","NumberOfVotingRightsHeldByDifferentialVotingRights","ShareholdingPatternVentureCapitalFunds","xbrli:decimalItemType",0,"xbrli:item",0,"instant","false","true"]
["in-bse-shp","NumberOfVotingRights","Total number of voting rights",null,3,"in-bse-shp_NumberOfVotingRights","NumberOfVotingRightsHeldInEachClassOfSecuritiesAbstract","NumberOfVotingRights","ShareholdingPatternVentureCapitalFunds","xbrli:decimalItemType",0,"xbrli:item",0,"instant","false","true"]
["in-bse-shp","NumberOfSharesUnderlyingOutstandingConvertibleSecurities","Number of shares underlying outstanding convertible securities",null,9,"in-bse-shp_NumberOfSharesUnderlyingOutstandingConvertibleSecurities","DetailsOfSharesHeldByVentureCapitalFundsLineItems","NumberOfSharesUnderlyingOutstandingConvertibleSecurities","ShareholdingPatternVentureCapitalFunds","xbrli:sharesItemType",0,"xbrli:item",0,"instant","false","true"]
["in-bse-shp","DetailsOfTheLockedInSharesAbstract","Details of the locked-in-shares [Abstract]",null,13,"in-bse-shp_DetailsOfTheLockedInSharesAbstract","DetailsOfSharesHeldByVentureCapitalFundsLineItems","DetailsOfTheLockedInSharesAbstract","ShareholdingPatternVentureCapitalFunds","xbrli:stringItemType",0,"xbrli:item",0,"duration","true","true"]
["in-bse-shp","NumberOfTheLockedInShares","Number of the locked-in-shares ",null,1,"in-bse-shp_NumberOfTheLockedInShares","DetailsOfTheLockedInSharesAbstract","NumberOfTheLockedInShares","ShareholdingPatternVentureCapitalFunds","xbrli:sharesItemType",0,"xbrli:item",0,"instant","false","true"]
["in-bse-shp","LockedInSharesAsAPercentageOfTotalNumberOfShares","Locked-in-shares as a percentage of total number of shares",null,2,"in-bse-shp_LockedInSharesAsAPercentageOfTotalNumberOfShares","DetailsOfTheLockedInSharesAbstract","LockedInSharesAsAPercentageOfTotalNumberOfShares","ShareholdingPatternVentureCapitalFunds","num:percentItemType",0,"xbrli:item",0,"instant","false","true"]
["in-bse-shp","NumberOfSharesPledgedOrOtherwiseEncumberedAbstract","Number of Shares pledged or otherwise encumbered [Abstract]",null,14,"in-bse-shp_NumberOfSharesPledgedOrOtherwiseEncumberedAbstract","DetailsOfSharesHeldByVentureCapitalFundsLineItems","NumberOfSharesPledgedOrOtherwiseEncumberedAbstract","ShareholdingPatternVentureCapitalFunds","xbrli:stringItemType",0,"xbrli:item",0,"duration","true","true"]
["in-bse-shp","PledgedOrEncumberedNumberOfShares","Pledged or encumbered - number of shares",null,1,"in-bse-shp_PledgedOrEncumberedNumberOfShares","NumberOfSharesPledgedOrOtherwiseEncumberedAbstract","PledgedOrEncumberedNumberOfShares","ShareholdingPatternVentureCapitalFunds","xbrli:sharesItemType",0,"xbrli:item",0,"instant","false","true"]
["in-bse-shp","PledgedOrEncumberedSharesHeldAsPercentageOfTotalNumberOfShares","Pledged or encumbered shares held as percentage of total number of shares",null,2,"in-bse-shp_PledgedOrEncumberedSharesHeldAsPercentageOfTotalNumberOfShares","NumberOfSharesPledgedOrOtherwiseEncumberedAbstract","PledgedOrEncumberedSharesHeldAsPercentageOfTotalNumberOfShares","ShareholdingPatternVentureCapitalFunds","num:percentItemType",0,"xbrli:item",0,"instant","false","true"]
["in-bse-shp","NumberOfEquitySharesHeldInDematerializedForm","Number of equity shares held in dematerialized form",null,15,"in-bse-shp_NumberOfEquitySharesHeldInDematerializedForm","DetailsOfSharesHeldByVentureCapitalFundsLineItems","NumberOfEquitySharesHeldInDematerializedForm","ShareholdingPatternVentureCapitalFunds","xbrli:sharesItemType",0,"xbrli:item",0,"instant","false","true"]
["in-bse-shp","DetailsOfSharesHeldByAlternativeInvestmentFundsAbstract","Details of shares held by Alternative investment funds [Abstract]",null,16,"in-bse-shp_DetailsOfSharesHeldByAlternativeInvestmentFundsAbstract",null,null,"ShareholdingPatternAlternativeInvestmentFunds","xbrli:stringItemType",0,"xbrli:item",0,"duration","true","true"]
["in-bse-shp","DetailsOfSharesHeldByAlternativeInvestmentFundsTable","Details of shares held by Alternative investment funds [Table]",null,1,"in-bse-shp_DetailsOfSharesHeldByAlternativeInvestmentFundsTable","DetailsOfSharesHeldByAlternativeInvestmentFundsAbstract","DetailsOfSharesHeldByAlternativeInvestmentFundsTable","ShareholdingPatternAlternativeInvestmentFunds","xbrli:stringItemType",0,"xbrldt:hypercubeItem",0,"duration","true","true"]
["in-bse-shp","DetailsOfSharesHeldByAlternativeInvestmentFundsAxis","Details of shares held by Alternative investment funds [Axis]",null,1,"in-bse-shp_DetailsOfSharesHeldByAlternativeInvestmentFundsAxis","DetailsOfSharesHeldByAlternativeInvestmentFundsTable","DetailsOfSharesHeldByAlternativeInvestmentFundsAxis","ShareholdingPatternAlternativeInvestmentFunds","xbrli:stringItemType",0,"xbrldt:dimensionItem",0,"duration","true","true"]
[null,"DetailsOfSharesHeldByAlternativeInvestmentFundsLineItems","Details of shares held by Alternative investment funds [Line items]",null,2,"in-bse-shp_DetailsOfSharesHeldByAlternativeInvestmentFundsLineItems","DetailsOfSharesHeldByAlternativeInvestmentFundsAbstract","DetailsOfSharesHeldByAlternativeInvestmentFundsLineItems","ShareholdingPatternAlternativeInvestmentFunds","xbrli:stringItemType",0,"xbrli:item",0,"duration","true","true"]
["in-bse-shp"]
["in-bse-shp","PermanentAccountNumberOfShareholder","Permanent account number of shareholder",null,2,"in-bse-shp_PermenantAccountNumberOfShareholder","DetailsOfSharesHeldByAlternativeInvestmentFundsLineItems","PermenantAccountNumberOfShareholder","ShareholdingPatternAlternativeInvestmentFunds","xbrli:PermenantAccountNumberOfShareholder",0,"xbrli:item",0,"duration","false","true"]
["in-bse-shp","NumberOfFullyPaidUpEquityShares","Number of fully paid up equity shares",null,3,"in-bse-shp_NumberOfFullyPaidUpEquityShares","DetailsOfSharesHeldByAlternativeInvestmentFundsLineItems","NumberOfFullyPaidUpEquityShares","ShareholdingPatternAlternativeInvestmentFunds","xbrli:sharesItemType",0,"xbrli:item",0,"instant","false","true"]
["in-bse-shp","NumberOfPartlyPaidUpEquityShares","Number of partly paid-up equity shares",null,4,"in-bse-shp_NumberOfPartlyPaidUpEquityShares","DetailsOfSharesHeldByAlternativeInvestmentFundsLineItems","NumberOfPartlyPaidUpEquityShares","ShareholdingPatternAlternativeInvestmentFunds","xbrli:sharesItemType",0,"xbrli:item",0,"instant","false","true"]
["in-bse-shp","NumberOfSharesUnderlyingOutstandingDepositoryReceipts","Number of shares underlying outstanding depository receipts",null,5,"in-bse-shp_NumberOfSharesUnderlyingOutstandingDepositoryReceipts","DetailsOfSharesHeldByAlternativeInvestmentFundsLineItems","NumberOfSharesUnderlyingOutstandingDepositoryReceipts","ShareholdingPatternAlternativeInvestmentFunds","xbrli:sharesItemType",0,"xbrli:item",0,"instant","false","true"]
["in-bse-shp","NumberOfVotingRightsHeldInEachClassOfSecuritiesAbstract","Number of voting rights held in each class of securities [Abstract]",null,8,"in-bse-shp_NumberOfVotingRightsHeldInEachClassOfSecuritiesAbstract","DetailsOfSharesHeldByAlternativeInvestmentFundsLineItems","NumberOfVotingRightsHeldInEachClassOfSecuritiesAbstract","ShareholdingPatternAlternativeInvestmentFunds","xbrli:stringItemType",0,"xbrli:item",0,"duration","true","true"]
["in-bse-shp","NumberOfVotingRightsHeldBySameClassOfSecurities","Number of voting rights held by same class of securities",null,1,"in-bse-shp_NumberOfVotingRightsHeldBySameClassOfSecurities","NumberOfVotingRightsHeldInEachClassOfSecuritiesAbstract","NumberOfVotingRightsHeldBySameClassOfSecurities","ShareholdingPatternAlternativeInvestmentFunds","xbrli:decimalItemType",0,"xbrli:item",0,"instant","false","true"]
["in-bse-shp","NumberOfVotingRightsHeldByDifferentialVotingRights","Number of voting rights held by differential voting rights",null,2,"in-bse-shp_NumberOfVotingRightsHeldByDifferentialVotingRights","NumberOfVotingRightsHeldInEachClassOfSecuritiesAbstract","NumberOfVotingRightsHeldByDifferentialVotingRights","ShareholdingPatternAlternativeInvestmentFunds","xbrli:decimalItemType",0,"xbrli:item",0,"instant","false","true"]
["in-bse-shp","NumberOfVotingRights","Total number of voting rights",null,3,"in-bse-shp_NumberOfVotingRights","NumberOfVotingRightsHeldInEachClassOfSecuritiesAbstract","NumberOfVotingRights","ShareholdingPatternAlternativeInvestmentFunds","xbrli:decimalItemType",0,"xbrli:item",0,"instant","false","true"]
["in-bse-shp","NumberOfSharesUnderlyingOutstandingConvertibleSecurities","Number of shares underlying outstanding convertible securities",null,9,"in-bse-shp_NumberOfSharesUnderlyingOutstandingConvertibleSecurities","DetailsOfSharesHeldByAlternativeInvestmentFundsLineItems","NumberOfSharesUnderlyingOutstandingConvertibleSecurities","ShareholdingPatternAlternativeInvestmentFunds","xbrli:sharesItemType",0,"xbrli:item",0,"instant","false","true"]
["in-bse-shp","DetailsOfTheLockedInSharesAbstract","Details of the locked-in-shares [Abstract]",null,13,"in-bse-shp_DetailsOfTheLockedInSharesAbstract","DetailsOfSharesHeldByAlternativeInvestmentFundsLineItems","DetailsOfTheLockedInSharesAbstract","ShareholdingPatternAlternativeInvestmentFunds","xbrli:stringItemType",0,"xbrli:item",0,"duration","true","true"]
["in-bse-shp","NumberOfTheLockedInShares","Number of the locked-in-shares ",null,1,"in-bse-shp_NumberOfTheLockedInShares","DetailsOfTheLockedInSharesAbstract","NumberOfTheLockedInShares","ShareholdingPatternAlternativeInvestmentFunds","xbrli:sharesItemType",0,"xbrli:item",0,"instant","false","true"]
["in-bse-shp","LockedInSharesAsAPercentageOfTotalNumberOfShares","Locked-in-shares as a percentage of total number of shares",null,2,"in-bse-shp_LockedInSharesAsAPercentageOfTotalNumberOfShares","DetailsOfTheLockedInSharesAbstract","LockedInSharesAsAPercentageOfTotalNumberOfShares","ShareholdingPatternAlternativeInvestmentFunds","num:percentItemType",0,"xbrli:item",0,"instant","false","true"]
["in-bse-shp","NumberOfSharesPledgedOrOtherwiseEncumberedAbstract","Number of Shares pledged or otherwise encumbered [Abstract]",null,14,"in-bse-shp_NumberOfSharesPledgedOrOtherwiseEncumberedAbstract","DetailsOfSharesHeldByAlternativeInvestmentFundsLineItems","NumberOfSharesPledgedOrOtherwiseEncumberedAbstract","ShareholdingPatternAlternativeInvestmentFunds","xbrli:stringItemType",0,"xbrli:item",0,"duration","true","true"]
["in-bse-shp","PledgedOrEncumberedNumberOfShares","Pledged or encumbered - number of shares",null,1,"in-bse-shp_PledgedOrEncumberedNumberOfShares","NumberOfSharesPledgedOrOtherwiseEncumberedAbstract","PledgedOrEncumberedNumberOfShares","ShareholdingPatternAlternativeInvestmentFunds","xbrli:sharesItemType",0,"xbrli:item",0,"instant","false","true"]
["in-bse-shp","PledgedOrEncumberedSharesHeldAsPercentageOfTotalNumberOfShares","Pledged or encumbered shares held as percentage of total number of shares",null,2,"in-bse-shp_PledgedOrEncumberedSharesHeldAsPercentageOfTotalNumberOfShares","NumberOfSharesPledgedOrOtherwiseEncumberedAbstract","PledgedOrEncumberedSharesHeldAsPercentageOfTotalNumberOfShares","ShareholdingPatternAlternativeInvestmentFunds","num:percentItemType",0,"xbrli:item",0,"instant","false","true"]
["in-bse-shp","NumberOfEquitySharesHeldInDematerializedForm","Number of equity shares held in dematerialized form",null,15,"in-bse-shp_NumberOfEquitySharesHeldInDematerializedForm","DetailsOfSharesHeldByAlternativeInvestmentFundsLineItems","NumberOfEquitySharesHeldInDematerializedForm","ShareholdingPatternAlternativeInvestmentFunds","xbrli:sharesItemType",0,"xbrli:item",0,"instant","false","true"]
["in-bse-shp","DetailsOfSharesHeldByForeignVentureCapitalInvestorsAbstract","Details of shares held by Foreign venture capital investors [Abstract]",null,null,"in-bse-shp_DetailsOfSharesHeldByForeignVentureCapitalInvestorsAbstract",null,"DetailsOfSharesHeldByForeignVentureCapitalInvestorsAbstract","ShareholdingPatternForeignVentureCapitalInvestors","xbrli:stringItemType",0,"xbrli:item",0,"duration","true","true"]
["in-bse-shp","DetailsOfSharesHeldByForeignVentureCapitalInvestorsTable","Details of shares held by Foreign venture capital investors [Table]",null,1,"in-bse-shp_DetailsOfSharesHeldByForeignVentureCapitalInvestorsTable","DetailsOfSharesHeldByForeignVentureCapitalInvestorsAbstract","DetailsOfSharesHeldByForeignVentureCapitalInvestorsTable","ShareholdingPatternForeignVentureCapitalInvestors","xbrli:stringItemType",0,"xbrldt:hypercubeItem",0,"duration","true","true"]
["in-bse-shp","DetailsOfSharesHeldByForeignVentureCapitalInvestorsAxis","Details of shares held by Foreign venture capital investors [Axis]",null,1,"in-bse-shp_DetailsOfSharesHeldByForeignVentureCapitalInvestorsAxis","DetailsOfSharesHeldByForeignVentureCapitalInvestorsTable","DetailsOfSharesHeldByForeignVentureCapitalInvestorsAxis","ShareholdingPatternForeignVentureCapitalInvestors","xbrli:stringItemType",0,"xbrldt:dimensionItem",0,"duration","true","true"]
[null,"DetailsOfSharesHeldByForeignVentureCapitalInvestorsLineItems","Details of shares held by Foreign venture capital investors [Line items]",null,2,"in-bse-shp_DetailsOfSharesHeldByForeignVentureCapitalInvestorsLineItems","DetailsOfSharesHeldByForeignVentureCapitalInvestorsAbstract","DetailsOfSharesHeldByForeignVentureCapitalInvestorsLineItems","ShareholdingPatternForeignVentureCapitalInvestors","xbrli:stringItemType",0,"xbrli:item",0,"duration","true","true"]
["in-bse-shp"]
["in-bse-shp","PermanentAccountNumberOfShareholder","Permanent account number of shareholder",null,2,"in-bse-shp_PermenantAccountNumberOfShareholder","DetailsOfSharesHeldByForeignVentureCapitalInvestorsLineItems","PermenantAccountNumberOfShareholder","ShareholdingPatternForeignVentureCapitalInvestors","xbrli:PermenantAccountNumberOfShareholder",0,"xbrli:item",0,"duration","false","true"]
["in-bse-shp","NumberOfFullyPaidUpEquityShares","Number of fully paid up equity shares",null,3,"in-bse-shp_NumberOfFullyPaidUpEquityShares","DetailsOfSharesHeldByForeignVentureCapitalInvestorsLineItems","NumberOfFullyPaidUpEquityShares","ShareholdingPatternForeignVentureCapitalInvestors","xbrli:sharesItemType",0,"xbrli:item",0,"instant","false","true"]
["in-bse-shp","NumberOfPartlyPaidUpEquityShares","Number of partly paid-up equity shares",null,4,"in-bse-shp_NumberOfPartlyPaidUpEquityShares","DetailsOfSharesHeldByForeignVentureCapitalInvestorsLineItems","NumberOfPartlyPaidUpEquityShares","ShareholdingPatternForeignVentureCapitalInvestors","xbrli:sharesItemType",0,"xbrli:item",0,"instant","false","true"]
["in-bse-shp","NumberOfSharesUnderlyingOutstandingDepositoryReceipts","Number of shares underlying outstanding depository receipts",null,5,"in-bse-shp_NumberOfSharesUnderlyingOutstandingDepositoryReceipts","DetailsOfSharesHeldByForeignVentureCapitalInvestorsLineItems","NumberOfSharesUnderlyingOutstandingDepositoryReceipts","ShareholdingPatternForeignVentureCapitalInvestors","xbrli:sharesItemType",0,"xbrli:item",0,"instant","false","true"]
["in-bse-shp","NumberOfVotingRightsHeldInEachClassOfSecuritiesAbstract","Number of voting rights held in each class of securities [Abstract]",null,8,"in-bse-shp_NumberOfVotingRightsHeldInEachClassOfSecuritiesAbstract","DetailsOfSharesHeldByForeignVentureCapitalInvestorsLineItems","NumberOfVotingRightsHeldInEachClassOfSecuritiesAbstract","ShareholdingPatternForeignVentureCapitalInvestors","xbrli:stringItemType",0,"xbrli:item",0,"duration","true","true"]
["in-bse-shp","NumberOfVotingRightsHeldBySameClassOfSecurities","Number of voting rights held by same class of securities",null,1,"in-bse-shp_NumberOfVotingRightsHeldBySameClassOfSecurities","NumberOfVotingRightsHeldInEachClassOfSecuritiesAbstract","NumberOfVotingRightsHeldBySameClassOfSecurities","ShareholdingPatternForeignVentureCapitalInvestors","xbrli:decimalItemType",0,"xbrli:item",0,"instant","false","true"]
["in-bse-shp","NumberOfVotingRightsHeldByDifferentialVotingRights","Number of voting rights held by differential voting rights",null,2,"in-bse-shp_NumberOfVotingRightsHeldByDifferentialVotingRights","NumberOfVotingRightsHeldInEachClassOfSecuritiesAbstract","NumberOfVotingRightsHeldByDifferentialVotingRights","ShareholdingPatternForeignVentureCapitalInvestors","xbrli:decimalItemType",0,"xbrli:item",0,"instant","false","true"]
["in-bse-shp","NumberOfVotingRights","Total number of voting rights",null,3,"in-bse-shp_NumberOfVotingRights","NumberOfVotingRightsHeldInEachClassOfSecuritiesAbstract","NumberOfVotingRights","ShareholdingPatternForeignVentureCapitalInvestors","xbrli:decimalItemType",0,"xbrli:item",0,"instant","false","true"]
["in-bse-shp","NumberOfSharesUnderlyingOutstandingConvertibleSecurities","Number of shares underlying outstanding convertible securities",null,9,"in-bse-shp_NumberOfSharesUnderlyingOutstandingConvertibleSecurities","DetailsOfSharesHeldByForeignVentureCapitalInvestorsLineItems","NumberOfSharesUnderlyingOutstandingConvertibleSecurities","ShareholdingPatternForeignVentureCapitalInvestors","xbrli:sharesItemType",0,"xbrli:item",0,"instant","false","true"]
["in-bse-shp","DetailsOfTheLockedInSharesAbstract","Details of the locked-in-shares [Abstract]",null,13,"in-bse-shp_DetailsOfTheLockedInSharesAbstract","DetailsOfSharesHeldByForeignVentureCapitalInvestorsLineItems","DetailsOfTheLockedInSharesAbstract","ShareholdingPatternForeignVentureCapitalInvestors","xbrli:stringItemType",0,"xbrli:item",0,"duration","true","true"]
["in-bse-shp","NumberOfTheLockedInShares","Number of the locked-in-shares ",null,1,"in-bse-shp_NumberOfTheLockedInShares","DetailsOfTheLockedInSharesAbstract","NumberOfTheLockedInShares","ShareholdingPatternForeignVentureCapitalInvestors","xbrli:sharesItemType",0,"xbrli:item",0,"instant","false","true"]
["in-bse-shp","LockedInSharesAsAPercentageOfTotalNumberOfShares","Locked-in-shares as a percentage of total number of shares",null,2,"in-bse-shp_LockedInSharesAsAPercentageOfTotalNumberOfShares","DetailsOfTheLockedInSharesAbstract","LockedInSharesAsAPercentageOfTotalNumberOfShares","ShareholdingPatternForeignVentureCapitalInvestors","num:percentItemType",0,"xbrli:item",0,"instant","false","true"]
["in-bse-shp","NumberOfSharesPledgedOrOtherwiseEncumberedAbstract","Number of Shares pledged or otherwise encumbered [Abstract]",null,14,"in-bse-shp_NumberOfSharesPledgedOrOtherwiseEncumberedAbstract","DetailsOfSharesHeldByForeignVentureCapitalInvestorsLineItems","NumberOfSharesPledgedOrOtherwiseEncumberedAbstract","ShareholdingPatternForeignVentureCapitalInvestors","xbrli:stringItemType",0,"xbrli:item",0,"duration","true","true"]
["in-bse-shp","PledgedOrEncumberedNumberOfShares","Pledged or encumbered - number of shares",null,1,"in-bse-shp_PledgedOrEncumberedNumberOfShares","NumberOfSharesPledgedOrOtherwiseEncumberedAbstract","PledgedOrEncumberedNumberOfShares","ShareholdingPatternForeignVentureCapitalInvestors","xbrli:sharesItemType",0,"xbrli:item",0,"instant","false","true"]
["in-bse-shp","PledgedOrEncumberedSharesHeldAsPercentageOfTotalNumberOfShares","Pledged or encumbered shares held as percentage of total number of shares",null,2,"in-bse-shp_PledgedOrEncumberedSharesHeldAsPercentageOfTotalNumberOfShares","NumberOfSharesPledgedOrOtherwiseEncumberedAbstract","PledgedOrEncumberedSharesHeldAsPercentageOfTotalNumberOfShares","ShareholdingPatternForeignVentureCapitalInvestors","num:percentItemType",0,"xbrli:item",0,"instant","false","true"]
["in-bse-shp","NumberOfEquitySharesHeldInDematerializedForm","Number of equity shares held in dematerialized form",null,15,"in-bse-shp_NumberOfEquitySharesHeldInDematerializedForm","DetailsOfSharesHeldByForeignVentureCapitalInvestorsLineItems","NumberOfEquitySharesHeldInDematerializedForm","ShareholdingPatternForeignVentureCapitalInvestors","xbrli:sharesItemType",0,"xbrli:item",0,"instant","false","true"]
["in-bse-shp","DetailsOfSharesHeldByInstitutionsForeignPortfolioInvestorAbstract","Details of shares held by Institutions - Foreign portfolio investor [Abstract]",null,16,"in-bse-shp_DetailsOfSharesHeldByInstitutionsForeignPortfolioInvestorAbstract",null,null,"ShareholdingPatternInstitutionsForeignPortfolioInvestor","xbrli:stringItemType",0,"xbrli:item",0,"duration","true","true"]
["in-bse-shp","DetailsOfSharesHeldByInstitutionsForeignPortfolioInvestorTable","Details of shares held by Institutions - Foreign portfolio investor [Table]",null,1,"in-bse-shp_DetailsOfSharesHeldByInstitutionsForeignPortfolioInvestorTable","DetailsOfSharesHeldByInstitutionsForeignPortfolioInvestorAbstract","DetailsOfSharesHeldByInstitutionsForeignPortfolioInvestorTable","ShareholdingPatternInstitutionsForeignPortfolioInvestor","xbrli:stringItemType",0,"xbrldt:hypercubeItem",0,"duration","true","true"]
["in-bse-shp","DetailsOfSharesHeldByInstitutionsForeignPortfolioInvestorAxis","Details of shares held by Institutions - Foreign portfolio investor [Axis]",null,1,"in-bse-shp_DetailsOfSharesHeldByInstitutionsForeignPortfolioInvestorAxis","DetailsOfSharesHeldByInstitutionsForeignPortfolioInvestorTable","DetailsOfSharesHeldByInstitutionsForeignPortfolioInvestorAxis","ShareholdingPatternInstitutionsForeignPortfolioInvestor","xbrli:stringItemType",0,"xbrldt:dimensionItem",0,"duration","true","true"]
[null,"DetailsOfSharesHeldByInstitutionsForeignPortfolioInvestorLineItems","Details of shares held by Institutions - Foreign portfolio investor [Line items]",null,2,"in-bse-shp_DetailsOfSharesHeldByInstitutionsForeignPortfolioInvestorLineItems","DetailsOfSharesHeldByInstitutionsForeignPortfolioInvestorAbstract","DetailsOfSharesHeldByInstitutionsForeignPortfolioInvestorLineItems","ShareholdingPatternInstitutionsForeignPortfolioInvestor","xbrli:stringItemType",0,"xbrli:item",0,"duration","true","true"]
["in-bse-shp"]
["in-bse-shp","PermanentAccountNumberOfShareholder","Permanent account number of shareholder",null,2,"in-bse-shp_PermenantAccountNumberOfShareholder","DetailsOfSharesHeldByInstitutionsForeignPortfolioInvestorLineItems","PermenantAccountNumberOfShareholder","ShareholdingPatternInstitutionsForeignPortfolioInvestor","xbrli:PermenantAccountNumberOfShareholder",0,"xbrli:item",0,"duration","false","true"]
["in-bse-shp","NumberOfFullyPaidUpEquityShares","Number of fully paid up equity shares",null,3,"in-bse-shp_NumberOfFullyPaidUpEquityShares","DetailsOfSharesHeldByInstitutionsForeignPortfolioInvestorLineItems","NumberOfFullyPaidUpEquityShares","ShareholdingPatternInstitutionsForeignPortfolioInvestor","xbrli:sharesItemType",0,"xbrli:item",0,"instant","false","true"]
["in-bse-shp","NumberOfPartlyPaidUpEquityShares","Number of partly paid-up equity shares",null,4,"in-bse-shp_NumberOfPartlyPaidUpEquityShares","DetailsOfSharesHeldByInstitutionsForeignPortfolioInvestorLineItems","NumberOfPartlyPaidUpEquityShares","ShareholdingPatternInstitutionsForeignPortfolioInvestor","xbrli:sharesItemType",0,"xbrli:item",0,"instant","false","true"]
["in-bse-shp","NumberOfSharesUnderlyingOutstandingDepositoryReceipts","Number of shares underlying outstanding depository receipts",null,5,"in-bse-shp_NumberOfSharesUnderlyingOutstandingDepositoryReceipts","DetailsOfSharesHeldByInstitutionsForeignPortfolioInvestorLineItems","NumberOfSharesUnderlyingOutstandingDepositoryReceipts","ShareholdingPatternInstitutionsForeignPortfolioInvestor","xbrli:sharesItemType",0,"xbrli:item",0,"instant","false","true"]
["in-bse-shp","NumberOfVotingRightsHeldInEachClassOfSecuritiesAbstract","Number of voting rights held in each class of securities [Abstract]",null,8,"in-bse-shp_NumberOfVotingRightsHeldInEachClassOfSecuritiesAbstract","DetailsOfSharesHeldByInstitutionsForeignPortfolioInvestorLineItems","NumberOfVotingRightsHeldInEachClassOfSecuritiesAbstract","ShareholdingPatternInstitutionsForeignPortfolioInvestor","xbrli:stringItemType",0,"xbrli:item",0,"duration","true","true"]
["in-bse-shp","NumberOfVotingRightsHeldBySameClassOfSecurities","Number of voting rights held by same class of securities",null,1,"in-bse-shp_NumberOfVotingRightsHeldBySameClassOfSecurities","NumberOfVotingRightsHeldInEachClassOfSecuritiesAbstract","NumberOfVotingRightsHeldBySameClassOfSecurities","ShareholdingPatternInstitutionsForeignPortfolioInvestor","xbrli:decimalItemType",0,"xbrli:item",0,"instant","false","true"]
["in-bse-shp","NumberOfVotingRightsHeldByDifferentialVotingRights","Number of voting rights held by differential voting rights",null,2,"in-bse-shp_NumberOfVotingRightsHeldByDifferentialVotingRights","NumberOfVotingRightsHeldInEachClassOfSecuritiesAbstract","NumberOfVotingRightsHeldByDifferentialVotingRights","ShareholdingPatternInstitutionsForeignPortfolioInvestor","xbrli:decimalItemType",0,"xbrli:item",0,"instant","false","true"]
["in-bse-shp","DetailsOfTheLockedInSharesAbstract","Details of the locked-in-shares [Abstract]",null,13,"in-bse-shp_DetailsOfTheLockedInSharesAbstract","DetailsOfSharesHeldByInstitutionsForeignPortfolioInvestorLineItems","DetailsOfTheLockedInSharesAbstract","ShareholdingPatternInstitutionsForeignPortfolioInvestor","xbrli:stringItemType",0,"xbrli:item",0,"duration","true","true"]
["in-bse-shp","NumberOfTheLockedInShares","Number of the locked-in-shares ",null,1,"in-bse-shp_NumberOfTheLockedInShares","DetailsOfTheLockedInSharesAbstract","NumberOfTheLockedInShares","ShareholdingPatternInstitutionsForeignPortfolioInvestor","xbrli:sharesItemType",0,"xbrli:item",0,"instant","false","true"]
["in-bse-shp","LockedInSharesAsAPercentageOfTotalNumberOfShares","Locked-in-shares as a percentage of total number of shares",null,2,"in-bse-shp_LockedInSharesAsAPercentageOfTotalNumberOfShares","DetailsOfTheLockedInSharesAbstract","LockedInSharesAsAPercentageOfTotalNumberOfShares","ShareholdingPatternInstitutionsForeignPortfolioInvestor","num:percentItemType",0,"xbrli:item",0,"instant","false","true"]
["in-bse-shp","NumberOfSharesPledgedOrOtherwiseEncumberedAbstract","Number of Shares pledged or otherwise encumbered [Abstract]",null,14,"in-bse-shp_NumberOfSharesPledgedOrOtherwiseEncumberedAbstract","DetailsOfSharesHeldByInstitutionsForeignPortfolioInvestorLineItems","NumberOfSharesPledgedOrOtherwiseEncumberedAbstract","ShareholdingPatternInstitutionsForeignPortfolioInvestor","xbrli:stringItemType",0,"xbrli:item",0,"duration","true","true"]
["in-bse-shp","PledgedOrEncumberedNumberOfShares","Pledged or encumbered - number of shares",null,1,"in-bse-shp_PledgedOrEncumberedNumberOfShares","NumberOfSharesPledgedOrOtherwiseEncumberedAbstract","PledgedOrEncumberedNumberOfShares","ShareholdingPatternInstitutionsForeignPortfolioInvestor","xbrli:sharesItemType",0,"xbrli:item",0,"instant","false","true"]
["in-bse-shp","PledgedOrEncumberedSharesHeldAsPercentageOfTotalNumberOfShares","Pledged or encumbered shares held as percentage of total number of shares",null,2,"in-bse-shp_PledgedOrEncumberedSharesHeldAsPercentageOfTotalNumberOfShares","NumberOfSharesPledgedOrOtherwiseEncumberedAbstract","PledgedOrEncumberedSharesHeldAsPercentageOfTotalNumberOfShares","ShareholdingPatternInstitutionsForeignPortfolioInvestor","num:percentItemType",0,"xbrli:item",0,"instant","false","true"]
["in-bse-shp","NumberOfEquitySharesHeldInDematerializedForm","Number of equity shares held in dematerialized form",null,15,"in-bse-shp_NumberOfEquitySharesHeldInDematerializedForm","DetailsOfSharesHeldByInstitutionsForeignPortfolioInvestorLineItems","NumberOfEquitySharesHeldInDematerializedForm","ShareholdingPatternInstitutionsForeignPortfolioInvestor","xbrli:sharesItemType",0,"xbrli:item",0,"instant","false","true"]
["in-bse-shp","DetailsOfSharesHeldByFinancialInstitutionOrBanksAbstract","Details of shares held by Financial Institution or Banks [Abstract]",null,null,"in-bse-shp_DetailsOfSharesHeldByFinancialInstitutionOrBanksAbstract",null,"DetailsOfSharesHeldByFinancialInstitutionOrBanksAbstract","ShareholdingPatternFinancialInstitutionOrBanks","xbrli:stringItemType",0,"xbrli:item",0,"duration","true","true"]
["in-bse-shp","DetailsOfSharesHeldByFinancialInstitutionOrBanksTable","Details of shares held by Financial Institution or Banks [Table]",null,1,"in-bse-shp_DetailsOfSharesHeldByFinancialInstitutionOrBanksTable","DetailsOfSharesHeldByFinancialInstitutionOrBanksAbstract","DetailsOfSharesHeldByFinancialInstitutionOrBanksTable","ShareholdingPatternFinancialInstitutionOrBanks","xbrli:stringItemType",0,"xbrldt:hypercubeItem",0,"duration","true","true"]
["in-bse-shp","DetailsOfSharesHeldByFinancialInstitutionOrBanksAxis","Details of shares held by Financial Institution or Banks [Axis]",null,1,"in-bse-shp_DetailsOfSharesHeldByFinancialInstitutionOrBanksAxis","DetailsOfSharesHeldByFinancialInstitutionOrBanksTable","DetailsOfSharesHeldByFinancialInstitutionOrBanksAxis","ShareholdingPatternFinancialInstitutionOrBanks","xbrli:stringItemType",0,"xbrldt:dimensionItem",0,"duration","true","true"]
[null,"DetailsOfSharesHeldByFinancialInstitutionOrBanksLineItems","Details of shares held by Financial Institution or Banks [Line items]",null,2,"in-bse-shp_DetailsOfSharesHeldByFinancialInstitutionOrBanksLineItems","DetailsOfSharesHeldByFinancialInstitutionOrBanksAbstract","DetailsOfSharesHeldByFinancialInstitutionOrBanksLineItems","ShareholdingPatternFinancialInstitutionOrBanks","xbrli:stringItemType",0,"xbrli:item",0,"duration","true","true"]
["in-bse-shp"]
["in-bse-shp","PermanentAccountNumberOfShareholder","Permanent account number of shareholder",null,2,"in-bse-shp_PermenantAccountNumberOfShareholder","DetailsOfSharesHeldByFinancialInstitutionOrBanksLineItems","PermenantAccountNumberOfShareholder","ShareholdingPatternFinancialInstitutionOrBanks","xbrli:PermenantAccountNumberOfShareholder",0,"xbrli:item",0,"duration","false","true"]
["in-bse-shp","NumberOfFullyPaidUpEquityShares","Number of fully paid up equity shares",null,3,"in-bse-shp_NumberOfFullyPaidUpEquityShares","DetailsOfSharesHeldByFinancialInstitutionOrBanksLineItems","NumberOfFullyPaidUpEquityShares","ShareholdingPatternFinancialInstitutionOrBanks","xbrli:sharesItemType",0,"xbrli:item",0,"instant","false","true"]
["in-bse-shp","NumberOfPartlyPaidUpEquityShares","Number of partly paid-up equity shares",null,4,"in-bse-shp_NumberOfPartlyPaidUpEquityShares","DetailsOfSharesHeldByFinancialInstitutionOrBanksLineItems","NumberOfPartlyPaidUpEquityShares","ShareholdingPatternFinancialInstitutionOrBanks","xbrli:sharesItemType",0,"xbrli:item",0,"instant","false","true"]
["in-bse-shp","NumberOfSharesUnderlyingOutstandingDepositoryReceipts","Number of shares underlying outstanding depository receipts",null,5,"in-bse-shp_NumberOfSharesUnderlyingOutstandingDepositoryReceipts","DetailsOfSharesHeldByFinancialInstitutionOrBanksLineItems","NumberOfSharesUnderlyingOutstandingDepositoryReceipts","ShareholdingPatternFinancialInstitutionOrBanks","xbrli:sharesItemType",0,"xbrli:item",0,"instant","false","true"]
["in-bse-shp","NumberOfVotingRightsHeldInEachClassOfSecuritiesAbstract","Number of voting rights held in each class of securities [Abstract]",null,8,"in-bse-shp_NumberOfVotingRightsHeldInEachClassOfSecuritiesAbstract","DetailsOfSharesHeldByFinancialInstitutionOrBanksLineItems","NumberOfVotingRightsHeldInEachClassOfSecuritiesAbstract","ShareholdingPatternFinancialInstitutionOrBanks","xbrli:stringItemType",0,"xbrli:item",0,"duration","true","true"]
["in-bse-shp","NumberOfVotingRightsHeldBySameClassOfSecurities","Number of voting rights held by same class of securities",null,1,"in-bse-shp_NumberOfVotingRightsHeldBySameClassOfSecurities","NumberOfVotingRightsHeldInEachClassOfSecuritiesAbstract","NumberOfVotingRightsHeldBySameClassOfSecurities","ShareholdingPatternFinancialInstitutionOrBanks","xbrli:decimalItemType",0,"xbrli:item",0,"instant","false","true"]
["in-bse-shp","NumberOfVotingRightsHeldByDifferentialVotingRights","Number of voting rights held by differential voting rights",null,2,"in-bse-shp_NumberOfVotingRightsHeldByDifferentialVotingRights","NumberOfVotingRightsHeldInEachClassOfSecuritiesAbstract","NumberOfVotingRightsHeldByDifferentialVotingRights","ShareholdingPatternFinancialInstitutionOrBanks","xbrli:decimalItemType",0,"xbrli:item",0,"instant","false","true"]
["in-bse-shp","NumberOfVotingRights","Total number of voting rights",null,3,"in-bse-shp_NumberOfVotingRights","NumberOfVotingRightsHeldInEachClassOfSecuritiesAbstract","NumberOfVotingRights","ShareholdingPatternFinancialInstitutionOrBanks","xbrli:decimalItemType",0,"xbrli:item",0,"instant","false","true"]
["in-bse-shp","NumberOfSharesUnderlyingOutstandingConvertibleSecurities","Number of shares underlying outstanding convertible securities",null,9,"in-bse-shp_NumberOfSharesUnderlyingOutstandingConvertibleSecurities","DetailsOfSharesHeldByFinancialInstitutionOrBanksLineItems","NumberOfSharesUnderlyingOutstandingConvertibleSecurities","ShareholdingPatternFinancialInstitutionOrBanks","xbrli:sharesItemType",0,"xbrli:item",0,"instant","false","true"]
["in-bse-shp","DetailsOfTheLockedInSharesAbstract","Details of the locked-in-shares [Abstract]",null,13,"in-bse-shp_DetailsOfTheLockedInSharesAbstract","DetailsOfSharesHeldByFinancialInstitutionOrBanksLineItems","DetailsOfTheLockedInSharesAbstract","ShareholdingPatternFinancialInstitutionOrBanks","xbrli:stringItemType",0,"xbrli:item",0,"duration","true","true"]
["in-bse-shp","NumberOfTheLockedInShares","Number of the locked-in-shares ",null,1,"in-bse-shp_NumberOfTheLockedInShares","DetailsOfTheLockedInSharesAbstract","NumberOfTheLockedInShares","ShareholdingPatternFinancialInstitutionOrBanks","xbrli:sharesItemType",0,"xbrli:item",0,"instant","false","true"]
["in-bse-shp","LockedInSharesAsAPercentageOfTotalNumberOfShares","Locked-in-shares as a percentage of total number of shares",null,2,"in-bse-shp_LockedInSharesAsAPercentageOfTotalNumberOfShares","DetailsOfTheLockedInSharesAbstract","LockedInSharesAsAPercentageOfTotalNumberOfShares","ShareholdingPatternFinancialInstitutionOrBanks","num:percentItemType",0,"xbrli:item",0,"instant","false","true"]
["in-bse-shp","NumberOfSharesPledgedOrOtherwiseEncumberedAbstract","Number of Shares pledged or otherwise encumbered [Abstract]",null,14,"in-bse-shp_NumberOfSharesPledgedOrOtherwiseEncumberedAbstract","DetailsOfSharesHeldByFinancialInstitutionOrBanksLineItems","NumberOfSharesPledgedOrOtherwiseEncumberedAbstract","ShareholdingPatternFinancialInstitutionOrBanks","xbrli:stringItemType",0,"xbrli:item",0,"duration","true","true"]
["in-bse-shp","PledgedOrEncumberedNumberOfShares","Pledged or encumbered - number of shares",null,1,"in-bse-shp_PledgedOrEncumberedNumberOfShares","NumberOfSharesPledgedOrOtherwiseEncumberedAbstract","PledgedOrEncumberedNumberOfShares","ShareholdingPatternFinancialInstitutionOrBanks","xbrli:sharesItemType",0,"xbrli:item",0,"instant","false","true"]
["in-bse-shp","PledgedOrEncumberedSharesHeldAsPercentageOfTotalNumberOfShares","Pledged or encumbered shares held as percentage of total number of shares",null,2,"in-bse-shp_PledgedOrEncumberedSharesHeldAsPercentageOfTotalNumberOfShares","NumberOfSharesPledgedOrOtherwiseEncumberedAbstract","PledgedOrEncumberedSharesHeldAsPercentageOfTotalNumberOfShares","ShareholdingPatternFinancialInstitutionOrBanks","num:percentItemType",0,"xbrli:item",0,"instant","false","true"]
["in-bse-shp","NumberOfEquitySharesHeldInDematerializedForm","Number of equity shares held in dematerialized form",null,15,"in-bse-shp_NumberOfEquitySharesHeldInDematerializedForm","DetailsOfSharesHeldByFinancialInstitutionOrBanksLineItems","NumberOfEquitySharesHeldInDematerializedForm","ShareholdingPatternFinancialInstitutionOrBanks","xbrli:sharesItemType",0,"xbrli:item",0,"instant","false","true"]
["in-bse-shp","DetailsOfSharesHeldByInsuranceCompaniesAbstract","Details of shares held by Insurance Companies [Abstract]",null,16,"in-bse-shp_DetailsOfSharesHeldByInsuranceCompaniesAbstract",null,"DetailsOfSharesHeldByInsuranceCompaniesAbstract","ShareholdingPatternInsuranceCompanies","xbrli:stringItemType",0,"xbrli:item",0,"duration","true","true"]
["in-bse-shp","DetailsOfSharesHeldByInsuranceCompaniesTable","Details of shares held by Insurance Companies [Table]",null,1,"in-bse-shp_DetailsOfSharesHeldByInsuranceCompaniesTable","DetailsOfSharesHeldByInsuranceCompaniesAbstract","DetailsOfSharesHeldByInsuranceCompaniesTable","ShareholdingPatternInsuranceCompanies","xbrli:stringItemType",0,"xbrldt:hypercubeItem",0,"duration","true","true"]
["in-bse-shp","DetailsOfSharesHeldByInsuranceCompaniesAxis","Details of shares held by Insurance Companies [Axis]",null,1,"in-bse-shp_DetailsOfSharesHeldByInsuranceCompaniesAxis","DetailsOfSharesHeldByInsuranceCompaniesTable","DetailsOfSharesHeldByInsuranceCompaniesAxis","ShareholdingPatternInsuranceCompanies","xbrli:stringItemType",0,"xbrldt:dimensionItem",0,"duration","true","true"]
[null,"DetailsOfSharesHeldByInsuranceCompaniesLineItems","Details of shares held by Insurance Companies [Line items]",null,2,"in-bse-shp_DetailsOfSharesHeldByInsuranceCompaniesLineItems","DetailsOfSharesHeldByInsuranceCompaniesAbstract","DetailsOfSharesHeldByInsuranceCompaniesLineItems","ShareholdingPatternInsuranceCompanies","xbrli:stringItemType",0,"xbrli:item",0,"duration","true","true"]
["in-bse-shp"]
["in-bse-shp","PermanentAccountNumberOfShareholder","Permanent account number of shareholder",null,2,"in-bse-shp_PermenantAccountNumberOfShareholder","DetailsOfSharesHeldByInsuranceCompaniesLineItems","PermenantAccountNumberOfShareholder","ShareholdingPatternInsuranceCompanies","xbrli:PermenantAccountNumberOfShareholder",0,"xbrli:item",0,"duration","false","true"]
["in-bse-shp","NumberOfFullyPaidUpEquityShares","Number of fully paid up equity shares",null,3,"in-bse-shp_NumberOfFullyPaidUpEquityShares","DetailsOfSharesHeldByInsuranceCompaniesLineItems","NumberOfFullyPaidUpEquityShares","ShareholdingPatternInsuranceCompanies","xbrli:sharesItemType",0,"xbrli:item",0,"instant","false","true"]
["in-bse-shp","NumberOfPartlyPaidUpEquityShares","Number of partly paid-up equity shares",null,4,"in-bse-shp_NumberOfPartlyPaidUpEquityShares","DetailsOfSharesHeldByInsuranceCompaniesLineItems","NumberOfPartlyPaidUpEquityShares","ShareholdingPatternInsuranceCompanies","xbrli:sharesItemType",0,"xbrli:item",0,"instant","false","true"]
["in-bse-shp","NumberOfSharesUnderlyingOutstandingDepositoryReceipts","Number of shares underlying outstanding depository receipts",null,5,"in-bse-shp_NumberOfSharesUnderlyingOutstandingDepositoryReceipts","DetailsOfSharesHeldByInsuranceCompaniesLineItems","NumberOfSharesUnderlyingOutstandingDepositoryReceipts","ShareholdingPatternInsuranceCompanies","xbrli:sharesItemType",0,"xbrli:item",0,"instant","false","true"]
["in-bse-shp","NumberOfVotingRightsHeldInEachClassOfSecuritiesAbstract","Number of voting rights held in each class of securities [Abstract]",null,8,"in-bse-shp_NumberOfVotingRightsHeldInEachClassOfSecuritiesAbstract","DetailsOfSharesHeldByInsuranceCompaniesLineItems","NumberOfVotingRightsHeldInEachClassOfSecuritiesAbstract","ShareholdingPatternInsuranceCompanies","xbrli:stringItemType",0,"xbrli:item",0,"duration","true","true"]
["in-bse-shp","NumberOfVotingRightsHeldBySameClassOfSecurities","Number of voting rights held by same class of securities",null,1,"in-bse-shp_NumberOfVotingRightsHeldBySameClassOfSecurities","NumberOfVotingRightsHeldInEachClassOfSecuritiesAbstract","NumberOfVotingRightsHeldBySameClassOfSecurities","ShareholdingPatternInsuranceCompanies","xbrli:decimalItemType",0,"xbrli:item",0,"instant","false","true"]
["in-bse-shp","NumberOfVotingRightsHeldByDifferentialVotingRights","Number of voting rights held by differential voting rights",null,2,"in-bse-shp_NumberOfVotingRightsHeldByDifferentialVotingRights","NumberOfVotingRightsHeldInEachClassOfSecuritiesAbstract","NumberOfVotingRightsHeldByDifferentialVotingRights","ShareholdingPatternInsuranceCompanies","xbrli:decimalItemType",0,"xbrli:item",0,"instant","false","true"]
["in-bse-shp","NumberOfVotingRights","Total number of voting rights",null,3,"in-bse-shp_NumberOfVotingRights","NumberOfVotingRightsHeldInEachClassOfSecuritiesAbstract","NumberOfVotingRights","ShareholdingPatternInsuranceCompanies","xbrli:decimalItemType",0,"xbrli:item",0,"instant","false","true"]
["in-bse-shp","NumberOfSharesUnderlyingOutstandingConvertibleSecurities","Number of shares underlying outstanding convertible securities",null,9,"in-bse-shp_NumberOfSharesUnderlyingOutstandingConvertibleSecurities","DetailsOfSharesHeldByInsuranceCompaniesLineItems","NumberOfSharesUnderlyingOutstandingConvertibleSecurities","ShareholdingPatternInsuranceCompanies","xbrli:sharesItemType",0,"xbrli:item",0,"instant","false","true"]
["in-bse-shp","DetailsOfTheLockedInSharesAbstract","Details of the locked-in-shares [Abstract]",null,13,"in-bse-shp_DetailsOfTheLockedInSharesAbstract","DetailsOfSharesHeldByInsuranceCompaniesLineItems","DetailsOfTheLockedInSharesAbstract","ShareholdingPatternInsuranceCompanies","xbrli:stringItemType",0,"xbrli:item",0,"duration","true","true"]
["in-bse-shp","NumberOfTheLockedInShares","Number of the locked-in-shares ",null,1,"in-bse-shp_NumberOfTheLockedInShares","DetailsOfTheLockedInSharesAbstract","NumberOfTheLockedInShares","ShareholdingPatternInsuranceCompanies","xbrli:sharesItemType",0,"xbrli:item",0,"instant","false","true"]
["in-bse-shp","LockedInSharesAsAPercentageOfTotalNumberOfShares","Locked-in-shares as a percentage of total number of shares",null,2,"in-bse-shp_LockedInSharesAsAPercentageOfTotalNumberOfShares","DetailsOfTheLockedInSharesAbstract","LockedInSharesAsAPercentageOfTotalNumberOfShares","ShareholdingPatternInsuranceCompanies","num:percentItemType",0,"xbrli:item",0,"instant","false","true"]
["in-bse-shp","NumberOfSharesPledgedOrOtherwiseEncumberedAbstract","Number of Shares pledged or otherwise encumbered [Abstract]",null,14,"in-bse-shp_NumberOfSharesPledgedOrOtherwiseEncumberedAbstract","DetailsOfSharesHeldByInsuranceCompaniesLineItems","NumberOfSharesPledgedOrOtherwiseEncumberedAbstract","ShareholdingPatternInsuranceCompanies","xbrli:stringItemType",0,"xbrli:item",0,"duration","true","true"]
["in-bse-shp","PledgedOrEncumberedNumberOfShares","Pledged or encumbered - number of shares",null,1,"in-bse-shp_PledgedOrEncumberedNumberOfShares","NumberOfSharesPledgedOrOtherwiseEncumberedAbstract","PledgedOrEncumberedNumberOfShares","ShareholdingPatternInsuranceCompanies","xbrli:sharesItemType",0,"xbrli:item",0,"instant","false","true"]
["in-bse-shp","PledgedOrEncumberedSharesHeldAsPercentageOfTotalNumberOfShares","Pledged or encumbered shares held as percentage of total number of shares",null,2,"in-bse-shp_PledgedOrEncumberedSharesHeldAsPercentageOfTotalNumberOfShares","NumberOfSharesPledgedOrOtherwiseEncumberedAbstract","PledgedOrEncumberedSharesHeldAsPercentageOfTotalNumberOfShares","ShareholdingPatternInsuranceCompanies","num:percentItemType",0,"xbrli:item",0,"instant","false","true"]
["in-bse-shp","NumberOfEquitySharesHeldInDematerializedForm","Number of equity shares held in dematerialized form",null,15,"in-bse-shp_NumberOfEquitySharesHeldInDematerializedForm","DetailsOfSharesHeldByInsuranceCompaniesLineItems","NumberOfEquitySharesHeldInDematerializedForm","ShareholdingPatternInsuranceCompanies","xbrli:sharesItemType",0,"xbrli:item",0,"instant","false","true"]
["in-bse-shp","DetailsOfSharesHeldByProvidentFundsOrPensionFundsAbstract","Details of shares held by Provident Funds or pension funds [Abstract]",null,null,"in-bse-shp_DetailsOfSharesHeldByProvidentFundsOrPensionFundsAbstract",null,"DetailsOfSharesHeldByProvidentFundsOrPensionFundsAbstract","ShareholdingPatternProvidentFundsOrPensionFunds","xbrli:stringItemType",0,"xbrli:item",0,"duration","true","true"]
["in-bse-shp","DetailsOfSharesHeldByProvidentFundsOrPensionFundsTable","Details of shares held by Provident Funds or pension funds [Table]",null,1,"in-bse-shp_DetailsOfSharesHeldByProvidentFundsOrPensionFundsTable","DetailsOfSharesHeldByProvidentFundsOrPensionFundsAbstract","DetailsOfSharesHeldByProvidentFundsOrPensionFundsTable","ShareholdingPatternProvidentFundsOrPensionFunds","xbrli:stringItemType",0,"xbrldt:hypercubeItem",0,"duration","true","true"]
["in-bse-shp","DetailsOfSharesHeldByProvidentFundsOrPensionFundsAxis","Details of shares held by Provident Funds or pension funds [Axis]",null,1,"in-bse-shp_DetailsOfSharesHeldByProvidentFundsOrPensionFundsAxis","DetailsOfSharesHeldByProvidentFundsOrPensionFundsTable","DetailsOfSharesHeldByProvidentFundsOrPensionFundsAxis","ShareholdingPatternProvidentFundsOrPensionFunds","xbrli:stringItemType",0,"xbrldt:dimensionItem",0,"duration","true","true"]
[null,"DetailsOfSharesHeldByProvidentFundsOrPensionFundsLineItems","Details of shares held by Provident Funds or pension funds [Line items]",null,2,"in-bse-shp_DetailsOfSharesHeldByProvidentFundsOrPensionFundsLineItems","DetailsOfSharesHeldByProvidentFundsOrPensionFundsAbstract","DetailsOfSharesHeldByProvidentFundsOrPensionFundsLineItems","ShareholdingPatternProvidentFundsOrPensionFunds","xbrli:stringItemType",0,"xbrli:item",0,"duration","true","true"]
["in-bse-shp"]
["in-bse-shp","PermanentAccountNumberOfShareholder","Permanent account number of shareholder",null,2,"in-bse-shp_PermenantAccountNumberOfShareholder","DetailsOfSharesHeldByProvidentFundsOrPensionFundsLineItems","PermenantAccountNumberOfShareholder","ShareholdingPatternProvidentFundsOrPensionFunds","xbrli:PermenantAccountNumberOfShareholder",0,"xbrli:item",0,"duration","false","true"]
["in-bse-shp","NumberOfFullyPaidUpEquityShares","Number of fully paid up equity shares",null,3,"in-bse-shp_NumberOfFullyPaidUpEquityShares","DetailsOfSharesHeldByProvidentFundsOrPensionFundsLineItems","NumberOfFullyPaidUpEquityShares","ShareholdingPatternProvidentFundsOrPensionFunds","xbrli:sharesItemType",0,"xbrli:item",0,"instant","false","true"]
["in-bse-shp","NumberOfPartlyPaidUpEquityShares","Number of partly paid-up equity shares",null,4,"in-bse-shp_NumberOfPartlyPaidUpEquityShares","DetailsOfSharesHeldByProvidentFundsOrPensionFundsLineItems","NumberOfPartlyPaidUpEquityShares","ShareholdingPatternProvidentFundsOrPensionFunds","xbrli:sharesItemType",0,"xbrli:item",0,"instant","false","true"]
["in-bse-shp","NumberOfSharesUnderlyingOutstandingDepositoryReceipts","Number of shares underlying outstanding depository receipts",null,5,"in-bse-shp_NumberOfSharesUnderlyingOutstandingDepositoryReceipts","DetailsOfSharesHeldByProvidentFundsOrPensionFundsLineItems","NumberOfSharesUnderlyingOutstandingDepositoryReceipts","ShareholdingPatternProvidentFundsOrPensionFunds","xbrli:sharesItemType",0,"xbrli:item",0,"instant","false","true"]
["in-bse-shp","NumberOfVotingRightsHeldInEachClassOfSecuritiesAbstract","Number of voting rights held in each class of securities [Abstract]",null,8,"in-bse-shp_NumberOfVotingRightsHeldInEachClassOfSecuritiesAbstract","DetailsOfSharesHeldByProvidentFundsOrPensionFundsLineItems","NumberOfVotingRightsHeldInEachClassOfSecuritiesAbstract","ShareholdingPatternProvidentFundsOrPensionFunds","xbrli:stringItemType",0,"xbrli:item",0,"duration","true","true"]
["in-bse-shp","NumberOfVotingRightsHeldBySameClassOfSecurities","Number of voting rights held by same class of securities",null,1,"in-bse-shp_NumberOfVotingRightsHeldBySameClassOfSecurities","NumberOfVotingRightsHeldInEachClassOfSecuritiesAbstract","NumberOfVotingRightsHeldBySameClassOfSecurities","ShareholdingPatternProvidentFundsOrPensionFunds","xbrli:decimalItemType",0,"xbrli:item",0,"instant","false","true"]
["in-bse-shp","NumberOfVotingRightsHeldByDifferentialVotingRights","Number of voting rights held by differential voting rights",null,2,"in-bse-shp_NumberOfVotingRightsHeldByDifferentialVotingRights","NumberOfVotingRightsHeldInEachClassOfSecuritiesAbstract","NumberOfVotingRightsHeldByDifferentialVotingRights","ShareholdingPatternProvidentFundsOrPensionFunds","xbrli:decimalItemType",0,"xbrli:item",0,"instant","false","true"]
["in-bse-shp","NumberOfVotingRights","Total number of voting rights",null,3,"in-bse-shp_NumberOfVotingRights","NumberOfVotingRightsHeldInEachClassOfSecuritiesAbstract","NumberOfVotingRights","ShareholdingPatternProvidentFundsOrPensionFunds","xbrli:decimalItemType",0,"xbrli:item",0,"instant","false","true"]
["in-bse-shp","NumberOfSharesUnderlyingOutstandingConvertibleSecurities","Number of shares underlying outstanding convertible securities",null,9,"in-bse-shp_NumberOfSharesUnderlyingOutstandingConvertibleSecurities","DetailsOfSharesHeldByProvidentFundsOrPensionFundsLineItems","NumberOfSharesUnderlyingOutstandingConvertibleSecurities","ShareholdingPatternProvidentFundsOrPensionFunds","xbrli:sharesItemType",0,"xbrli:item",0,"instant","false","true"]
["in-bse-shp","DetailsOfTheLockedInSharesAbstract","Details of the locked-in-shares [Abstract]",null,13,"in-bse-shp_DetailsOfTheLockedInSharesAbstract","DetailsOfSharesHeldByProvidentFundsOrPensionFundsLineItems","DetailsOfTheLockedInSharesAbstract","ShareholdingPatternProvidentFundsOrPensionFunds","xbrli:stringItemType",0,"xbrli:item",0,"duration","true","true"]
["in-bse-shp","NumberOfTheLockedInShares","Number of the locked-in-shares ",null,1,"in-bse-shp_NumberOfTheLockedInShares","DetailsOfTheLockedInSharesAbstract","NumberOfTheLockedInShares","ShareholdingPatternProvidentFundsOrPensionFunds","xbrli:sharesItemType",0,"xbrli:item",0,"instant","false","true"]
["in-bse-shp","LockedInSharesAsAPercentageOfTotalNumberOfShares","Locked-in-shares as a percentage of total number of shares",null,2,"in-bse-shp_LockedInSharesAsAPercentageOfTotalNumberOfShares","DetailsOfTheLockedInSharesAbstract","LockedInSharesAsAPercentageOfTotalNumberOfShares","ShareholdingPatternProvidentFundsOrPensionFunds","num:percentItemType",0,"xbrli:item",0,"instant","false","true"]
["in-bse-shp","NumberOfSharesPledgedOrOtherwiseEncumberedAbstract","Number of Shares pledged or otherwise encumbered [Abstract]",null,14,"in-bse-shp_NumberOfSharesPledgedOrOtherwiseEncumberedAbstract","DetailsOfSharesHeldByProvidentFundsOrPensionFundsLineItems","NumberOfSharesPledgedOrOtherwiseEncumberedAbstract","ShareholdingPatternProvidentFundsOrPensionFunds","xbrli:stringItemType",0,"xbrli:item",0,"duration","true","true"]
["in-bse-shp","PledgedOrEncumberedNumberOfShares","Pledged or encumbered - number of shares",null,1,"in-bse-shp_PledgedOrEncumberedNumberOfShares","NumberOfSharesPledgedOrOtherwiseEncumberedAbstract","PledgedOrEncumberedNumberOfShares","ShareholdingPatternProvidentFundsOrPensionFunds","xbrli:sharesItemType",0,"xbrli:item",0,"instant","false","true"]
["in-bse-shp","PledgedOrEncumberedSharesHeldAsPercentageOfTotalNumberOfShares","Pledged or encumbered shares held as percentage of total number of shares",null,2,"in-bse-shp_PledgedOrEncumberedSharesHeldAsPercentageOfTotalNumberOfShares","NumberOfSharesPledgedOrOtherwiseEncumberedAbstract","PledgedOrEncumberedSharesHeldAsPercentageOfTotalNumberOfShares","ShareholdingPatternProvidentFundsOrPensionFunds","num:percentItemType",0,"xbrli:item",0,"instant","false","true"]
["in-bse-shp","NumberOfEquitySharesHeldInDematerializedForm","Number of equity shares held in dematerialized form",null,15,"in-bse-shp_NumberOfEquitySharesHeldInDematerializedForm","DetailsOfSharesHeldByProvidentFundsOrPensionFundsLineItems","NumberOfEquitySharesHeldInDematerializedForm","ShareholdingPatternProvidentFundsOrPensionFunds","xbrli:sharesItemType",0,"xbrli:item",0,"instant","false","true"]
["in-bse-shp","DetailsOfSharesHeldByCentralGovernmentOrStateGovernmentSOrPresidentOfIndiaAbstract","Details of shares held by Central Government or State Government(s) or President of India [Abstract]",null,null,"in-bse-shp_DetailsOfSharesHeldByCentralGovernmentOrStateGovernmentSOrPresidentOfIndiaAbstract",null,null,"ShareholdingPatternCentralGovernmentOrStateGovernmentSOrPresidentOfIndia","xbrli:stringItemType",0,"xbrli:item",0,"duration","true","true"]
["in-bse-shp","DetailsOfSharesHeldByCentralGovernmentOrStateGovernmentSOrPresidentOfIndiaTable","Details of shares held by Central Government or State Government(s) or President of India [Table]",null,1,"in-bse-shp_DetailsOfSharesHeldByCentralGovernmentOrStateGovernmentSOrPresidentOfIndiaTable","DetailsOfSharesHeldByCentralGovernmentOrStateGovernmentSOrPresidentOfIndiaAbstract","DetailsOfSharesHeldByCentralGovernmentOrStateGovernmentSOrPresidentOfIndiaTable","ShareholdingPatternCentralGovernmentOrStateGovernmentSOrPresidentOfIndia","xbrli:stringItemType",0,"xbrldt:hypercubeItem",0,"duration","true","true"]
["in-bse-shp","DetailsOfSharesHeldByCentralGovernmentOrStateGovernmentSOrPresidentOfIndiaAxis","Details of shares held by Central Government or State Government(s) or President of India [Axis]",null,1,"in-bse-shp_DetailsOfSharesHeldByCentralGovernmentOrStateGovernmentSOrPresidentOfIndiaAxis","DetailsOfSharesHeldByCentralGovernmentOrStateGovernmentSOrPresidentOfIndiaTable","DetailsOfSharesHeldByCentralGovernmentOrStateGovernmentSOrPresidentOfIndiaAxis","ShareholdingPatternCentralGovernmentOrStateGovernmentSOrPresidentOfIndia","xbrli:stringItemType",0,"xbrldt:dimensionItem",0,"duration","true","true"]
[null,"DetailsOfSharesHeldByCentralGovernmentOrStateGovernmentSOrPresidentOfIndiaLineItems","Details of shares held by Central Government or State Government(s) or President of India [Line items]",null,2,"in-bse-shp_DetailsOfSharesHeldByCentralGovernmentOrStateGovernmentSOrPresidentOfIndiaLineItems","DetailsOfSharesHeldByCentralGovernmentOrStateGovernmentSOrPresidentOfIndiaAbstract","DetailsOfSharesHeldByCentralGovernmentOrStateGovernmentSOrPresidentOfIndiaLineItems","ShareholdingPatternCentralGovernmentOrStateGovernmentSOrPresidentOfIndia","xbrli:stringItemType",0,"xbrli:item",0,"duration","true","true"]
["in-bse-shp"]
["in-bse-shp","PermanentAccountNumberOfShareholder","Permanent account number of shareholder",null,2,"in-bse-shp_PermenantAccountNumberOfShareholder","DetailsOfSharesHeldByCentralGovernmentOrStateGovernmentSOrPresidentOfIndiaLineItems","PermenantAccountNumberOfShareholder","ShareholdingPatternCentralGovernmentOrStateGovernmentSOrPresidentOfIndia","xbrli:PermenantAccountNumberOfShareholder",0,"xbrli:item",0,"duration","false","true"]
["in-bse-shp","NumberOfFullyPaidUpEquityShares","Number of fully paid up equity shares",null,3,"in-bse-shp_NumberOfFullyPaidUpEquityShares","DetailsOfSharesHeldByCentralGovernmentOrStateGovernmentSOrPresidentOfIndiaLineItems","NumberOfFullyPaidUpEquityShares","ShareholdingPatternCentralGovernmentOrStateGovernmentSOrPresidentOfIndia","xbrli:sharesItemType",0,"xbrli:item",0,"instant","false","true"]
["in-bse-shp","NumberOfPartlyPaidUpEquityShares","Number of partly paid-up equity shares",null,4,"in-bse-shp_NumberOfPartlyPaidUpEquityShares","DetailsOfSharesHeldByCentralGovernmentOrStateGovernmentSOrPresidentOfIndiaLineItems","NumberOfPartlyPaidUpEquityShares","ShareholdingPatternCentralGovernmentOrStateGovernmentSOrPresidentOfIndia","xbrli:sharesItemType",0,"xbrli:item",0,"instant","false","true"]
["in-bse-shp","NumberOfSharesUnderlyingOutstandingDepositoryReceipts","Number of shares underlying outstanding depository receipts",null,5,"in-bse-shp_NumberOfSharesUnderlyingOutstandingDepositoryReceipts","DetailsOfSharesHeldByCentralGovernmentOrStateGovernmentSOrPresidentOfIndiaLineItems","NumberOfSharesUnderlyingOutstandingDepositoryReceipts","ShareholdingPatternCentralGovernmentOrStateGovernmentSOrPresidentOfIndia","xbrli:sharesItemType",0,"xbrli:item",0,"instant","false","true"]
["in-bse-shp","NumberOfVotingRightsHeldInEachClassOfSecuritiesAbstract","Number of voting rights held in each class of securities [Abstract]",null,8,"in-bse-shp_NumberOfVotingRightsHeldInEachClassOfSecuritiesAbstract","DetailsOfSharesHeldByCentralGovernmentOrStateGovernmentSOrPresidentOfIndiaLineItems","NumberOfVotingRightsHeldInEachClassOfSecuritiesAbstract","ShareholdingPatternCentralGovernmentOrStateGovernmentSOrPresidentOfIndia","xbrli:stringItemType",0,"xbrli:item",0,"duration","true","true"]
["in-bse-shp","NumberOfVotingRightsHeldBySameClassOfSecurities","Number of voting rights held by same class of securities",null,1,"in-bse-shp_NumberOfVotingRightsHeldBySameClassOfSecurities","DetailsOfSharesHeldByCentralGovernmentOrStateGovernmentSOrPresidentOfIndiaLineItems","NumberOfVotingRightsHeldBySameClassOfSecurities","ShareholdingPatternCentralGovernmentOrStateGovernmentSOrPresidentOfIndia","xbrli:decimalItemType",0,"xbrli:item",0,"instant","false","true"]
["in-bse-shp","NumberOfVotingRightsHeldByDifferentialVotingRights","Number of voting rights held by differential voting rights",null,2,"in-bse-shp_NumberOfVotingRightsHeldByDifferentialVotingRights","DetailsOfSharesHeldByCentralGovernmentOrStateGovernmentSOrPresidentOfIndiaLineItems","NumberOfVotingRightsHeldByDifferentialVotingRights","ShareholdingPatternCentralGovernmentOrStateGovernmentSOrPresidentOfIndia","xbrli:decimalItemType",0,"xbrli:item",0,"instant","false","true"]
["in-bse-shp","NumberOfVotingRights","Total number of voting rights",null,3,"in-bse-shp_NumberOfVotingRights","NumberOfVotingRightsHeldInEachClassOfSecuritiesAbstract","NumberOfVotingRights","ShareholdingPatternCentralGovernmentOrStateGovernmentSOrPresidentOfIndia","xbrli:decimalItemType",0,"xbrli:item",0,"instant","false","true"]
["in-bse-shp","NumberOfSharesUnderlyingOutstandingConvertibleSecurities","Number of shares underlying outstanding convertible securities",null,9,"in-bse-shp_NumberOfSharesUnderlyingOutstandingConvertibleSecurities","DetailsOfSharesHeldByCentralGovernmentOrStateGovernmentSOrPresidentOfIndiaLineItems","NumberOfSharesUnderlyingOutstandingConvertibleSecurities","ShareholdingPatternCentralGovernmentOrStateGovernmentSOrPresidentOfIndia","xbrli:sharesItemType",0,"xbrli:item",0,"instant","false","true"]
["in-bse-shp","DetailsOfTheLockedInSharesAbstract","Details of the locked-in-shares [Abstract]",null,13,"in-bse-shp_DetailsOfTheLockedInSharesAbstract","DetailsOfSharesHeldByCentralGovernmentOrStateGovernmentSOrPresidentOfIndiaLineItems","DetailsOfTheLockedInSharesAbstract","ShareholdingPatternCentralGovernmentOrStateGovernmentSOrPresidentOfIndia","xbrli:stringItemType",0,"xbrli:item",0,"duration","true","true"]
["in-bse-shp","NumberOfTheLockedInShares","Number of the locked-in-shares ",null,1,"in-bse-shp_NumberOfTheLockedInShares","DetailsOfTheLockedInSharesAbstract","NumberOfTheLockedInShares","ShareholdingPatternCentralGovernmentOrStateGovernmentSOrPresidentOfIndia","xbrli:sharesItemType",0,"xbrli:item",0,"instant","false","true"]
["in-bse-shp","LockedInSharesAsAPercentageOfTotalNumberOfShares","Locked-in-shares as a percentage of total number of shares",null,2,"in-bse-shp_LockedInSharesAsAPercentageOfTotalNumberOfShares","DetailsOfTheLockedInSharesAbstract","LockedInSharesAsAPercentageOfTotalNumberOfShares","ShareholdingPatternCentralGovernmentOrStateGovernmentSOrPresidentOfIndia","num:percentItemType",0,"xbrli:item",0,"instant","false","true"]
["in-bse-shp","NumberOfSharesPledgedOrOtherwiseEncumberedAbstract","Number of Shares pledged or otherwise encumbered [Abstract]",null,14,"in-bse-shp_NumberOfSharesPledgedOrOtherwiseEncumberedAbstract","DetailsOfSharesHeldByCentralGovernmentOrStateGovernmentSOrPresidentOfIndiaLineItems","NumberOfSharesPledgedOrOtherwiseEncumberedAbstract","ShareholdingPatternCentralGovernmentOrStateGovernmentSOrPresidentOfIndia","xbrli:stringItemType",0,"xbrli:item",0,"duration","true","true"]
["in-bse-shp","PledgedOrEncumberedNumberOfShares","Pledged or encumbered - number of shares",null,1,"in-bse-shp_PledgedOrEncumberedNumberOfShares","NumberOfSharesPledgedOrOtherwiseEncumberedAbstract","PledgedOrEncumberedNumberOfShares","ShareholdingPatternCentralGovernmentOrStateGovernmentSOrPresidentOfIndia","xbrli:sharesItemType",0,"xbrli:item",0,"instant","false","true"]
["in-bse-shp","PledgedOrEncumberedSharesHeldAsPercentageOfTotalNumberOfShares","Pledged or encumbered shares held as percentage of total number of shares",null,2,"in-bse-shp_PledgedOrEncumberedSharesHeldAsPercentageOfTotalNumberOfShares","NumberOfSharesPledgedOrOtherwiseEncumberedAbstract","PledgedOrEncumberedSharesHeldAsPercentageOfTotalNumberOfShares","ShareholdingPatternCentralGovernmentOrStateGovernmentSOrPresidentOfIndia","num:percentItemType",0,"xbrli:item",0,"instant","false","true"]
["in-bse-shp","NumberOfEquitySharesHeldInDematerializedForm","Number of equity shares held in dematerialized form",null,15,"in-bse-shp_NumberOfEquitySharesHeldInDematerializedForm","DetailsOfSharesHeldByCentralGovernmentOrStateGovernmentSOrPresidentOfIndiaLineItems","NumberOfEquitySharesHeldInDematerializedForm","ShareholdingPatternCentralGovernmentOrStateGovernmentSOrPresidentOfIndia","xbrli:sharesItemType",0,"xbrli:item",0,"instant","false","true"]
["in-bse-shp","DetailsOfSharesHeldByIndividualShareholdersHoldingNominalShareCapitalUpToRsTwoLakhAbstract","Details of shares held by Individual shareholders holding nominal share capital up to Rs two lakh [Abstract]",null,null,"in-bse-shp_DetailsOfSharesHeldByIndividualShareholdersHoldingNominalShareCapitalUpToRsTwoLakhAbstract",null,null,"ShareholdingPatternIndividualShareholdersHoldingNominalShareCapitalUpToRsTwoLakh","xbrli:stringItemType",0,"xbrli:item",0,"duration","true","true"]
["in-bse-shp","DetailsOfSharesHeldByIndividualShareholdersHoldingNominalShareCapitalUpToRsTwoLakhTable","Details of shares held by Individual shareholders holding nominal share capital up to Rs two lakh [Table]",null,1,"in-bse-shp_DetailsOfSharesHeldByIndividualShareholdersHoldingNominalShareCapitalUpToRsTwoLakhTable","DetailsOfSharesHeldByIndividualShareholdersHoldingNominalShareCapitalUpToRsTwoLakhAbstract","DetailsOfSharesHeldByIndividualShareholdersHoldingNominalShareCapitalUpToRsTwoLakhTable","ShareholdingPatternIndividualShareholdersHoldingNominalShareCapitalUpToRsTwoLakh","xbrli:stringItemType",0,"xbrldt:hypercubeItem",0,"duration","true","true"]
["in-bse-shp","DetailsOfSharesHeldByIndividualShareholdersHoldingNominalShareCapitalUpToRsTwoLakhAxis","Details of shares held by Individual shareholders holding nominal share capital up to Rs two lakh [Axis]",null,1,"in-bse-shp_DetailsOfSharesHeldByIndividualShareholdersHoldingNominalShareCapitalUpToRsTwoLakhAxis","DetailsOfSharesHeldByIndividualShareholdersHoldingNominalShareCapitalUpToRsTwoLakhTable","DetailsOfSharesHeldByIndividualShareholdersHoldingNominalShareCapitalUpToRsTwoLakhAxis","ShareholdingPatternIndividualShareholdersHoldingNominalShareCapitalUpToRsTwoLakh","xbrli:stringItemType",0,"xbrldt:dimensionItem",0,"duration","true","true"]
[null,"DetailsOfSharesHeldByIndividualShareholdersHoldingNominalShareCapitalUpToRsTwoLakhLineItems","Details of shares held by Individual shareholders holding nominal share capital up to Rs two lakh [Line items]",null,2,"in-bse-shp_DetailsOfSharesHeldByIndividualShareholdersHoldingNominalShareCapitalUpToRsTwoLakhLineItems","DetailsOfSharesHeldByIndividualShareholdersHoldingNominalShareCapitalUpToRsTwoLakhAbstract","DetailsOfSharesHeldByIndividualShareholdersHoldingNominalShareCapitalUpToRsTwoLakhLineItems","ShareholdingPatternIndividualShareholdersHoldingNominalShareCapitalUpToRsTwoLakh","xbrli:stringItemType",0,"xbrli:item",0,"duration","true","true"]
["in-bse-shp"]
["in-bse-shp","PermanentAccountNumberOfShareholder","Permanent account number of shareholder",null,2,"in-bse-shp_PermenantAccountNumberOfShareholder","DetailsOfSharesHeldByIndividualShareholdersHoldingNominalShareCapitalUpToRsTwoLakhLineItems","PermenantAccountNumberOfShareholder","ShareholdingPatternIndividualShareholdersHoldingNominalShareCapitalUpToRsTwoLakh","xbrli:PermenantAccountNumberOfShareholder",0,"xbrli:item",0,"duration","false","true"]
["in-bse-shp","NumberOfFullyPaidUpEquityShares","Number of fully paid up equity shares",null,3,"in-bse-shp_NumberOfFullyPaidUpEquityShares","DetailsOfSharesHeldByIndividualShareholdersHoldingNominalShareCapitalUpToRsTwoLakhLineItems","NumberOfFullyPaidUpEquityShares","ShareholdingPatternIndividualShareholdersHoldingNominalShareCapitalUpToRsTwoLakh","xbrli:sharesItemType",0,"xbrli:item",0,"instant","false","true"]
["in-bse-shp","NumberOfPartlyPaidUpEquityShares","Number of partly paid-up equity shares",null,4,"in-bse-shp_NumberOfPartlyPaidUpEquityShares","DetailsOfSharesHeldByIndividualShareholdersHoldingNominalShareCapitalUpToRsTwoLakhLineItems","NumberOfPartlyPaidUpEquityShares","ShareholdingPatternIndividualShareholdersHoldingNominalShareCapitalUpToRsTwoLakh","xbrli:sharesItemType",0,"xbrli:item",0,"instant","false","true"]
["in-bse-shp","NumberOfSharesUnderlyingOutstandingDepositoryReceipts","Number of shares underlying outstanding depository receipts",null,5,"in-bse-shp_NumberOfSharesUnderlyingOutstandingDepositoryReceipts","DetailsOfSharesHeldByIndividualShareholdersHoldingNominalShareCapitalUpToRsTwoLakhLineItems","NumberOfSharesUnderlyingOutstandingDepositoryReceipts","ShareholdingPatternIndividualShareholdersHoldingNominalShareCapitalUpToRsTwoLakh","xbrli:sharesItemType",0,"xbrli:item",0,"instant","false","true"]
["in-bse-shp","NumberOfVotingRightsHeldInEachClassOfSecuritiesAbstract","Number of voting rights held in each class of securities [Abstract]",null,8,"in-bse-shp_NumberOfVotingRightsHeldInEachClassOfSecuritiesAbstract","DetailsOfSharesHeldByIndividualShareholdersHoldingNominalShareCapitalUpToRsTwoLakhLineItems","NumberOfVotingRightsHeldInEachClassOfSecuritiesAbstract","ShareholdingPatternIndividualShareholdersHoldingNominalShareCapitalUpToRsTwoLakh","xbrli:stringItemType",0,"xbrli:item",0,"duration","true","true"]
["in-bse-shp","NumberOfVotingRightsHeldBySameClassOfSecurities","Number of voting rights held by same class of securities",null,1,"in-bse-shp_NumberOfVotingRightsHeldBySameClassOfSecurities","NumberOfVotingRightsHeldInEachClassOfSecuritiesAbstract","NumberOfVotingRightsHeldBySameClassOfSecurities","ShareholdingPatternIndividualShareholdersHoldingNominalShareCapitalUpToRsTwoLakh","xbrli:decimalItemType",0,"xbrli:item",0,"instant","false","true"]
["in-bse-shp","NumberOfVotingRightsHeldByDifferentialVotingRights","Number of voting rights held by differential voting rights",null,2,"in-bse-shp_NumberOfVotingRightsHeldByDifferentialVotingRights","NumberOfVotingRightsHeldInEachClassOfSecuritiesAbstract","NumberOfVotingRightsHeldByDifferentialVotingRights","ShareholdingPatternIndividualShareholdersHoldingNominalShareCapitalUpToRsTwoLakh","xbrli:decimalItemType",0,"xbrli:item",0,"instant","false","true"]
["in-bse-shp","NumberOfVotingRights","Total number of voting rights",null,3,"in-bse-shp_NumberOfVotingRights","NumberOfVotingRightsHeldInEachClassOfSecuritiesAbstract","NumberOfVotingRights","ShareholdingPatternIndividualShareholdersHoldingNominalShareCapitalUpToRsTwoLakh","xbrli:decimalItemType",0,"xbrli:item",0,"instant","false","true"]
["in-bse-shp","NumberOfSharesUnderlyingOutstandingConvertibleSecurities","Number of shares underlying outstanding convertible securities",null,9,"in-bse-shp_NumberOfSharesUnderlyingOutstandingConvertibleSecurities","DetailsOfSharesHeldByIndividualShareholdersHoldingNominalShareCapitalUpToRsTwoLakhLineItems","NumberOfSharesUnderlyingOutstandingConvertibleSecurities","ShareholdingPatternIndividualShareholdersHoldingNominalShareCapitalUpToRsTwoLakh","xbrli:sharesItemType",0,"xbrli:item",0,"instant","false","true"]
["in-bse-shp","DetailsOfTheLockedInSharesAbstract","Details of the locked-in-shares [Abstract]",null,13,"in-bse-shp_DetailsOfTheLockedInSharesAbstract","DetailsOfSharesHeldByIndividualShareholdersHoldingNominalShareCapitalUpToRsTwoLakhLineItems","DetailsOfTheLockedInSharesAbstract","ShareholdingPatternIndividualShareholdersHoldingNominalShareCapitalUpToRsTwoLakh","xbrli:stringItemType",0,"xbrli:item",0,"duration","true","true"]
["in-bse-shp","NumberOfTheLockedInShares","Number of the locked-in-shares ",null,1,"in-bse-shp_NumberOfTheLockedInShares","DetailsOfTheLockedInSharesAbstract","NumberOfTheLockedInShares","ShareholdingPatternIndividualShareholdersHoldingNominalShareCapitalUpToRsTwoLakh","xbrli:sharesItemType",0,"xbrli:item",0,"instant","false","true"]
["in-bse-shp","LockedInSharesAsAPercentageOfTotalNumberOfShares","Locked-in-shares as a percentage of total number of shares",null,2,"in-bse-shp_LockedInSharesAsAPercentageOfTotalNumberOfShares","DetailsOfTheLockedInSharesAbstract","LockedInSharesAsAPercentageOfTotalNumberOfShares","ShareholdingPatternIndividualShareholdersHoldingNominalShareCapitalUpToRsTwoLakh","num:percentItemType",0,"xbrli:item",0,"instant","false","true"]
["in-bse-shp","NumberOfSharesPledgedOrOtherwiseEncumberedAbstract","Number of Shares pledged or otherwise encumbered [Abstract]",null,14,"in-bse-shp_NumberOfSharesPledgedOrOtherwiseEncumberedAbstract","DetailsOfSharesHeldByIndividualShareholdersHoldingNominalShareCapitalUpToRsTwoLakhLineItems","NumberOfSharesPledgedOrOtherwiseEncumberedAbstract","ShareholdingPatternIndividualShareholdersHoldingNominalShareCapitalUpToRsTwoLakh","xbrli:stringItemType",0,"xbrli:item",0,"duration","true","true"]
["in-bse-shp","PledgedOrEncumberedNumberOfShares","Pledged or encumbered - number of shares",null,1,"in-bse-shp_PledgedOrEncumberedNumberOfShares","NumberOfSharesPledgedOrOtherwiseEncumberedAbstract","PledgedOrEncumberedNumberOfShares","ShareholdingPatternIndividualShareholdersHoldingNominalShareCapitalUpToRsTwoLakh","xbrli:sharesItemType",0,"xbrli:item",0,"instant","false","true"]
["in-bse-shp","PledgedOrEncumberedSharesHeldAsPercentageOfTotalNumberOfShares","Pledged or encumbered shares held as percentage of total number of shares",null,2,"in-bse-shp_PledgedOrEncumberedSharesHeldAsPercentageOfTotalNumberOfShares","NumberOfSharesPledgedOrOtherwiseEncumberedAbstract","PledgedOrEncumberedSharesHeldAsPercentageOfTotalNumberOfShares","ShareholdingPatternIndividualShareholdersHoldingNominalShareCapitalUpToRsTwoLakh","num:percentItemType",0,"xbrli:item",0,"instant","false","true"]
["in-bse-shp","NumberOfEquitySharesHeldInDematerializedForm","Number of equity shares held in dematerialized form",null,15,"in-bse-shp_NumberOfEquitySharesHeldInDematerializedForm","DetailsOfSharesHeldByIndividualShareholdersHoldingNominalShareCapitalUpToRsTwoLakhLineItems","NumberOfEquitySharesHeldInDematerializedForm","ShareholdingPatternIndividualShareholdersHoldingNominalShareCapitalUpToRsTwoLakh","xbrli:sharesItemType",0,"xbrli:item",0,"instant","false","true"]
["in-bse-shp","DetailsOfSharesHeldByIndividualShareholdersHoldingNominalShareCapitalInExcessOfRsTwoLakhAbstract","Details of shares held by Individual shareholders holding nominal share capital in excess of Rs two lakh [Abstract]",null,null,"in-bse-shp_DetailsOfSharesHeldByIndividualShareholdersHoldingNominalShareCapitalInExcessOfRsTwoLakhAbstract",null,null,"ShareholdingPatternIndividualShareholdersHoldingNominalShareCapitalInExcessOfRsTwoLakh","xbrli:stringItemType",0,"xbrli:item",0,"duration","true","true"]
["in-bse-shp","DetailsOfSharesHeldByIndividualShareholdersHoldingNominalShareCapitalInExcessOfRsTwoLakhTable","Details of shares held by Individual shareholders holding nominal share capital in excess of Rs two lakh [Table]",null,1,"in-bse-shp_DetailsOfSharesHeldByIndividualShareholdersHoldingNominalShareCapitalInExcessOfRsTwoLakhTable","DetailsOfSharesHeldByIndividualShareholdersHoldingNominalShareCapitalInExcessOfRsTwoLakhAbstract","DetailsOfSharesHeldByIndividualShareholdersHoldingNominalShareCapitalInExcessOfRsTwoLakhTable","ShareholdingPatternIndividualShareholdersHoldingNominalShareCapitalInExcessOfRsTwoLakh","xbrli:stringItemType",0,"xbrldt:hypercubeItem",0,"duration","true","true"]
["in-bse-shp","DetailsOfSharesHeldByIndividualShareholdersHoldingNominalShareCapitalInExcessOfRsTwoLakhAxis","Details of shares held by Individual shareholders holding nominal share capital in excess of Rs two lakh [Axis]",null,1,"in-bse-shp_DetailsOfSharesHeldByIndividualShareholdersHoldingNominalShareCapitalInExcessOfRsTwoLakhAxis","DetailsOfSharesHeldByIndividualShareholdersHoldingNominalShareCapitalInExcessOfRsTwoLakhTable","DetailsOfSharesHeldByIndividualShareholdersHoldingNominalShareCapitalInExcessOfRsTwoLakhAxis","ShareholdingPatternIndividualShareholdersHoldingNominalShareCapitalInExcessOfRsTwoLakh","xbrli:stringItemType",0,"xbrldt:dimensionItem",0,"duration","true","true"]
[null,"DetailsOfSharesHeldByIndividualShareholdersHoldingNominalShareCapitalInExcessOfRsTwoLakhLineItems","Details of shares held by Individual shareholders holding nominal share capital in excess of Rs two lakh [Line items]",null,2,"in-bse-shp_DetailsOfSharesHeldByIndividualShareholdersHoldingNominalShareCapitalInExcessOfRsTwoLakhLineItems","DetailsOfSharesHeldByIndividualShareholdersHoldingNominalShareCapitalInExcessOfRsTwoLakhAbstract","DetailsOfSharesHeldByIndividualShareholdersHoldingNominalShareCapitalInExcessOfRsTwoLakhLineItems","ShareholdingPatternIndividualShareholdersHoldingNominalShareCapitalInExcessOfRsTwoLakh","xbrli:stringItemType",0,"xbrli:item",0,"duration","true","true"]
["in-bse-shp"]
["in-bse-shp","PermanentAccountNumberOfShareholder","Permanent account number of shareholder",null,2,"in-bse-shp_PermenantAccountNumberOfShareholder","DetailsOfSharesHeldByIndividualShareholdersHoldingNominalShareCapitalInExcessOfRsTwoLakhLineItems","PermenantAccountNumberOfShareholder","ShareholdingPatternIndividualShareholdersHoldingNominalShareCapitalInExcessOfRsTwoLakh","xbrli:PermenantAccountNumberOfShareholder",0,"xbrli:item",0,"duration","false","true"]
["in-bse-shp","NumberOfFullyPaidUpEquityShares","Number of fully paid up equity shares",null,3,"in-bse-shp_NumberOfFullyPaidUpEquityShares","DetailsOfSharesHeldByIndividualShareholdersHoldingNominalShareCapitalInExcessOfRsTwoLakhLineItems","NumberOfFullyPaidUpEquityShares","ShareholdingPatternIndividualShareholdersHoldingNominalShareCapitalInExcessOfRsTwoLakh","xbrli:sharesItemType",0,"xbrli:item",0,"instant","false","true"]
["in-bse-shp","NumberOfPartlyPaidUpEquityShares","Number of partly paid-up equity shares",null,4,"in-bse-shp_NumberOfPartlyPaidUpEquityShares","DetailsOfSharesHeldByIndividualShareholdersHoldingNominalShareCapitalInExcessOfRsTwoLakhLineItems","NumberOfPartlyPaidUpEquityShares","ShareholdingPatternIndividualShareholdersHoldingNominalShareCapitalInExcessOfRsTwoLakh","xbrli:sharesItemType",0,"xbrli:item",0,"instant","false","true"]
["in-bse-shp","NumberOfSharesUnderlyingOutstandingDepositoryReceipts","Number of shares underlying outstanding depository receipts",null,5,"in-bse-shp_NumberOfSharesUnderlyingOutstandingDepositoryReceipts","DetailsOfSharesHeldByIndividualShareholdersHoldingNominalShareCapitalInExcessOfRsTwoLakhLineItems","NumberOfSharesUnderlyingOutstandingDepositoryReceipts","ShareholdingPatternIndividualShareholdersHoldingNominalShareCapitalInExcessOfRsTwoLakh","xbrli:sharesItemType",0,"xbrli:item",0,"instant","false","true"]
["in-bse-shp","NumberOfVotingRightsHeldInEachClassOfSecuritiesAbstract","Number of voting rights held in each class of securities [Abstract]",null,8,"in-bse-shp_NumberOfVotingRightsHeldInEachClassOfSecuritiesAbstract","DetailsOfSharesHeldByIndividualShareholdersHoldingNominalShareCapitalInExcessOfRsTwoLakhLineItems","NumberOfVotingRightsHeldInEachClassOfSecuritiesAbstract","ShareholdingPatternIndividualShareholdersHoldingNominalShareCapitalInExcessOfRsTwoLakh","xbrli:stringItemType",0,"xbrli:item",0,"duration","true","true"]
["in-bse-shp","NumberOfVotingRightsHeldBySameClassOfSecurities","Number of voting rights held by same class of securities",null,1,"in-bse-shp_NumberOfVotingRightsHeldBySameClassOfSecurities","NumberOfVotingRightsHeldInEachClassOfSecuritiesAbstract","NumberOfVotingRightsHeldBySameClassOfSecurities","ShareholdingPatternIndividualShareholdersHoldingNominalShareCapitalInExcessOfRsTwoLakh","xbrli:decimalItemType",0,"xbrli:item",0,"instant","false","true"]
["in-bse-shp","NumberOfVotingRightsHeldByDifferentialVotingRights","Number of voting rights held by differential voting rights",null,2,"in-bse-shp_NumberOfVotingRightsHeldByDifferentialVotingRights","NumberOfVotingRightsHeldInEachClassOfSecuritiesAbstract","NumberOfVotingRightsHeldByDifferentialVotingRights","ShareholdingPatternIndividualShareholdersHoldingNominalShareCapitalInExcessOfRsTwoLakh","xbrli:decimalItemType",0,"xbrli:item",0,"instant","false","true"]
["in-bse-shp","NumberOfSharesUnderlyingOutstandingConvertibleSecurities","Number of shares underlying outstanding convertible securities",null,9,"in-bse-shp_NumberOfSharesUnderlyingOutstandingConvertibleSecurities","DetailsOfSharesHeldByIndividualShareholdersHoldingNominalShareCapitalInExcessOfRsTwoLakhLineItems","NumberOfSharesUnderlyingOutstandingConvertibleSecurities","ShareholdingPatternIndividualShareholdersHoldingNominalShareCapitalInExcessOfRsTwoLakh","xbrli:sharesItemType",0,"xbrli:item",0,"instant","false","true"]
["in-bse-shp","DetailsOfTheLockedInSharesAbstract","Details of the locked-in-shares [Abstract]",null,13,"in-bse-shp_DetailsOfTheLockedInSharesAbstract","DetailsOfSharesHeldByIndividualShareholdersHoldingNominalShareCapitalInExcessOfRsTwoLakhLineItems","DetailsOfTheLockedInSharesAbstract","ShareholdingPatternIndividualShareholdersHoldingNominalShareCapitalInExcessOfRsTwoLakh","xbrli:stringItemType",0,"xbrli:item",0,"duration","true","true"]
["in-bse-shp","NumberOfTheLockedInShares","Number of the locked-in-shares ",null,1,"in-bse-shp_NumberOfTheLockedInShares","DetailsOfTheLockedInSharesAbstract","NumberOfTheLockedInShares","ShareholdingPatternIndividualShareholdersHoldingNominalShareCapitalInExcessOfRsTwoLakh","xbrli:sharesItemType",0,"xbrli:item",0,"instant","false","true"]
["in-bse-shp","LockedInSharesAsAPercentageOfTotalNumberOfShares","Locked-in-shares as a percentage of total number of shares",null,2,"in-bse-shp_LockedInSharesAsAPercentageOfTotalNumberOfShares","DetailsOfTheLockedInSharesAbstract","LockedInSharesAsAPercentageOfTotalNumberOfShares","ShareholdingPatternIndividualShareholdersHoldingNominalShareCapitalInExcessOfRsTwoLakh","num:percentItemType",0,"xbrli:item",0,"instant","false","true"]
["in-bse-shp","NumberOfSharesPledgedOrOtherwiseEncumberedAbstract","Number of Shares pledged or otherwise encumbered [Abstract]",null,14,"in-bse-shp_NumberOfSharesPledgedOrOtherwiseEncumberedAbstract","DetailsOfSharesHeldByIndividualShareholdersHoldingNominalShareCapitalInExcessOfRsTwoLakhLineItems","NumberOfSharesPledgedOrOtherwiseEncumberedAbstract","ShareholdingPatternIndividualShareholdersHoldingNominalShareCapitalInExcessOfRsTwoLakh","xbrli:stringItemType",0,"xbrli:item",0,"duration","true","true"]
["in-bse-shp","PledgedOrEncumberedNumberOfShares","Pledged or encumbered - number of shares",null,1,"in-bse-shp_PledgedOrEncumberedNumberOfShares","DetailsOfSharesHeldByIndividualShareholdersHoldingNominalShareCapitalInExcessOfRsTwoLakhLineItems","PledgedOrEncumberedNumberOfShares","ShareholdingPatternIndividualShareholdersHoldingNominalShareCapitalInExcessOfRsTwoLakh","xbrli:sharesItemType",0,"xbrli:item",0,"instant","false","true"]
["in-bse-shp","PledgedOrEncumberedSharesHeldAsPercentageOfTotalNumberOfShares","Pledged or encumbered shares held as percentage of total number of shares",null,2,"in-bse-shp_PledgedOrEncumberedSharesHeldAsPercentageOfTotalNumberOfShares","DetailsOfSharesHeldByIndividualShareholdersHoldingNominalShareCapitalInExcessOfRsTwoLakhLineItems","PledgedOrEncumberedSharesHeldAsPercentageOfTotalNumberOfShares","ShareholdingPatternIndividualShareholdersHoldingNominalShareCapitalInExcessOfRsTwoLakh","num:percentItemType",0,"xbrli:item",0,"instant","false","true"]
["in-bse-shp","NumberOfEquitySharesHeldInDematerializedForm","Number of equity shares held in dematerialized form",null,15,"in-bse-shp_NumberOfEquitySharesHeldInDematerializedForm","DetailsOfSharesHeldByIndividualShareholdersHoldingNominalShareCapitalInExcessOfRsTwoLakhLineItems","NumberOfEquitySharesHeldInDematerializedForm","ShareholdingPatternIndividualShareholdersHoldingNominalShareCapitalInExcessOfRsTwoLakh","xbrli:sharesItemType",0,"xbrli:item",0,"instant","false","true"]
["in-bse-shp","DetailsOfSharesHeldByNbfcsRegisteredWithRbiAbstract","Details of shares held by NBFCs registered with RBI [Abstract]",null,null,"in-bse-shp_DetailsOfSharesHeldByNbfcsRegisteredWithRbiAbstract",null,"DetailsOfSharesHeldByNbfcsRegisteredWithRbiAbstract","ShareholdingPatternNbfcsRegisteredWithRBI","xbrli:stringItemType",0,"xbrli:item",0,"duration","true","true"]
["in-bse-shp","DetailsOfSharesHeldByNbfcsRegisteredWithRbiTable","Details of shares held by NBFCs registered with RBI [Table]",null,1,"in-bse-shp_DetailsOfSharesHeldByNbfcsRegisteredWithRbiTable","DetailsOfSharesHeldByNbfcsRegisteredWithRbiAbstract","DetailsOfSharesHeldByNbfcsRegisteredWithRbiTable","ShareholdingPatternNbfcsRegisteredWithRBI","xbrli:stringItemType",0,"xbrldt:hypercubeItem",0,"duration","true","true"]
["in-bse-shp","DetailsOfSharesHeldByNBFCsRegisteredWithRbiAxis","Details of shares held by NBFCs registered with RBI [Axis]",null,1,"in-bse-shp_DetailsOfSharesHeldByNBFCsRegisteredWithRbiAxis","DetailsOfSharesHeldByNbfcsRegisteredWithRbiTable","DetailsOfSharesHeldByNBFCsRegisteredWithRbiAxis","ShareholdingPatternNbfcsRegisteredWithRBI","xbrli:stringItemType",0,"xbrldt:dimensionItem",0,"duration","true","true"]
[null,"DetailsOfSharesHeldByNbfcsRegisteredWithRbiLineItems","Details of shares held by NBFCs registered with RBI [Line items]",null,2,"in-bse-shp_DetailsOfSharesHeldByNbfcsRegisteredWithRbiLineItems","DetailsOfSharesHeldByNbfcsRegisteredWithRbiAbstract","DetailsOfSharesHeldByNbfcsRegisteredWithRbiLineItems","ShareholdingPatternNbfcsRegisteredWithRBI","xbrli:stringItemType",0,"xbrli:item",0,"duration","true","true"]
["in-bse-shp"]
["in-bse-shp","PermanentAccountNumberOfShareholder","Permanent account number of shareholder",null,2,"in-bse-shp_PermenantAccountNumberOfShareholder","DetailsOfSharesHeldByNbfcsRegisteredWithRbiLineItems","PermenantAccountNumberOfShareholder","ShareholdingPatternNbfcsRegisteredWithRBI","xbrli:PermenantAccountNumberOfShareholder",0,"xbrli:item",0,"duration","false","true"]
["in-bse-shp","NumberOfFullyPaidUpEquityShares","Number of fully paid up equity shares",null,3,"in-bse-shp_NumberOfFullyPaidUpEquityShares","DetailsOfSharesHeldByNbfcsRegisteredWithRbiLineItems","NumberOfFullyPaidUpEquityShares","ShareholdingPatternNbfcsRegisteredWithRBI","xbrli:sharesItemType",0,"xbrli:item",0,"instant","false","true"]
["in-bse-shp","NumberOfPartlyPaidUpEquityShares","Number of partly paid-up equity shares",null,4,"in-bse-shp_NumberOfPartlyPaidUpEquityShares","DetailsOfSharesHeldByNbfcsRegisteredWithRbiLineItems","NumberOfPartlyPaidUpEquityShares","ShareholdingPatternNbfcsRegisteredWithRBI","xbrli:sharesItemType",0,"xbrli:item",0,"instant","false","true"]
["in-bse-shp","NumberOfSharesUnderlyingOutstandingDepositoryReceipts","Number of shares underlying outstanding depository receipts",null,5,"in-bse-shp_NumberOfSharesUnderlyingOutstandingDepositoryReceipts","DetailsOfSharesHeldByNbfcsRegisteredWithRbiLineItems","NumberOfSharesUnderlyingOutstandingDepositoryReceipts","ShareholdingPatternNbfcsRegisteredWithRBI","xbrli:sharesItemType",0,"xbrli:item",0,"instant","false","true"]
["in-bse-shp","NumberOfVotingRightsHeldInEachClassOfSecuritiesAbstract","Number of voting rights held in each class of securities [Abstract]",null,8,"in-bse-shp_NumberOfVotingRightsHeldInEachClassOfSecuritiesAbstract","DetailsOfSharesHeldByNbfcsRegisteredWithRbiLineItems","NumberOfVotingRightsHeldInEachClassOfSecuritiesAbstract","ShareholdingPatternNbfcsRegisteredWithRBI","xbrli:stringItemType",0,"xbrli:item",0,"duration","true","true"]
["in-bse-shp","NumberOfVotingRightsHeldBySameClassOfSecurities","Number of voting rights held by same class of securities",null,1,"in-bse-shp_NumberOfVotingRightsHeldBySameClassOfSecurities","NumberOfVotingRightsHeldInEachClassOfSecuritiesAbstract","NumberOfVotingRightsHeldBySameClassOfSecurities","ShareholdingPatternNbfcsRegisteredWithRBI","xbrli:decimalItemType",0,"xbrli:item",0,"instant","false","true"]
["in-bse-shp","NumberOfVotingRightsHeldByDifferentialVotingRights","Number of voting rights held by differential voting rights",null,2,"in-bse-shp_NumberOfVotingRightsHeldByDifferentialVotingRights","NumberOfVotingRightsHeldInEachClassOfSecuritiesAbstract","NumberOfVotingRightsHeldByDifferentialVotingRights","ShareholdingPatternNbfcsRegisteredWithRBI","xbrli:decimalItemType",0,"xbrli:item",0,"instant","false","true"]
["in-bse-shp","NumberOfVotingRights","Total number of voting rights",null,3,"in-bse-shp_NumberOfVotingRights","NumberOfVotingRightsHeldInEachClassOfSecuritiesAbstract","NumberOfVotingRights","ShareholdingPatternNbfcsRegisteredWithRBI","xbrli:decimalItemType",0,"xbrli:item",0,"instant","false","true"]
["in-bse-shp","NumberOfSharesUnderlyingOutstandingConvertibleSecurities","Number of shares underlying outstanding convertible securities",null,9,"in-bse-shp_NumberOfSharesUnderlyingOutstandingConvertibleSecurities","DetailsOfSharesHeldByNbfcsRegisteredWithRbiLineItems","NumberOfSharesUnderlyingOutstandingConvertibleSecurities","ShareholdingPatternNbfcsRegisteredWithRBI","xbrli:sharesItemType",0,"xbrli:item",0,"instant","false","true"]
["in-bse-shp","DetailsOfTheLockedInSharesAbstract","Details of the locked-in-shares [Abstract]",null,13,"in-bse-shp_DetailsOfTheLockedInSharesAbstract","DetailsOfSharesHeldByNbfcsRegisteredWithRbiLineItems","DetailsOfTheLockedInSharesAbstract","ShareholdingPatternNbfcsRegisteredWithRBI","xbrli:stringItemType",0,"xbrli:item",0,"duration","true","true"]
["in-bse-shp","NumberOfTheLockedInShares","Number of the locked-in-shares ",null,1,"in-bse-shp_NumberOfTheLockedInShares","DetailsOfTheLockedInSharesAbstract","NumberOfTheLockedInShares","ShareholdingPatternNbfcsRegisteredWithRBI","xbrli:sharesItemType",0,"xbrli:item",0,"instant","false","true"]
["in-bse-shp","LockedInSharesAsAPercentageOfTotalNumberOfShares","Locked-in-shares as a percentage of total number of shares",null,2,"in-bse-shp_LockedInSharesAsAPercentageOfTotalNumberOfShares","DetailsOfTheLockedInSharesAbstract","LockedInSharesAsAPercentageOfTotalNumberOfShares","ShareholdingPatternNbfcsRegisteredWithRBI","num:percentItemType",0,"xbrli:item",0,"instant","false","true"]
["in-bse-shp","NumberOfSharesPledgedOrOtherwiseEncumberedAbstract","Number of Shares pledged or otherwise encumbered [Abstract]",null,14,"in-bse-shp_NumberOfSharesPledgedOrOtherwiseEncumberedAbstract","DetailsOfSharesHeldByNbfcsRegisteredWithRbiLineItems","NumberOfSharesPledgedOrOtherwiseEncumberedAbstract","ShareholdingPatternNbfcsRegisteredWithRBI","xbrli:stringItemType",0,"xbrli:item",0,"duration","true","true"]
["in-bse-shp","PledgedOrEncumberedNumberOfShares","Pledged or encumbered - number of shares",null,1,"in-bse-shp_PledgedOrEncumberedNumberOfShares","LockedInSharesAsAPercentageOfTotalNumberOfShares","PledgedOrEncumberedNumberOfShares","ShareholdingPatternNbfcsRegisteredWithRBI","xbrli:sharesItemType",0,"xbrli:item",0,"instant","false","true"]
["in-bse-shp","PledgedOrEncumberedSharesHeldAsPercentageOfTotalNumberOfShares","Pledged or encumbered shares held as percentage of total number of shares",null,2,"in-bse-shp_PledgedOrEncumberedSharesHeldAsPercentageOfTotalNumberOfShares","NumberOfSharesPledgedOrOtherwiseEncumberedAbstract","PledgedOrEncumberedSharesHeldAsPercentageOfTotalNumberOfShares","ShareholdingPatternNbfcsRegisteredWithRBI","num:percentItemType",0,"xbrli:item",0,"instant","false","true"]
["in-bse-shp","NumberOfEquitySharesHeldInDematerializedForm","Number of equity shares held in dematerialized form",null,15,"in-bse-shp_NumberOfEquitySharesHeldInDematerializedForm","DetailsOfSharesHeldByNbfcsRegisteredWithRbiLineItems","NumberOfEquitySharesHeldInDematerializedForm","ShareholdingPatternNbfcsRegisteredWithRBI","xbrli:sharesItemType",0,"xbrli:item",0,"instant","false","true"]
["in-bse-shp","DetailsOfSharesHeldByEmployeeTrustsAbstract","Details of shares held by Employee Trusts [Abstract]",null,null,"in-bse-shp_DetailsOfSharesHeldByEmployeeTrustsAbstract",null,null,"ShareholdingPatternEmployeeTrusts","xbrli:stringItemType",0,"xbrli:item",0,"duration","true","true"]
["in-bse-shp","DetailsOfSharesHeldByEmployeeTrustsTable","Details of shares held by Employee Trusts [Table]",null,1,"in-bse-shp_DetailsOfSharesHeldByEmployeeTrustsTable","DetailsOfSharesHeldByEmployeeTrustsAbstract","DetailsOfSharesHeldByEmployeeTrustsTable","ShareholdingPatternEmployeeTrusts","xbrli:stringItemType",0,"xbrldt:hypercubeItem",0,"duration","true","true"]
["in-bse-shp","DetailsOfSharesHeldByEmployeeTrustsAxis","Details of shares held by Employee Trusts [Axis]",null,1,"in-bse-shp_DetailsOfSharesHeldByEmployeeTrustsAxis","DetailsOfSharesHeldByEmployeeTrustsTable","DetailsOfSharesHeldByEmployeeTrustsAxis","ShareholdingPatternEmployeeTrusts","xbrli:stringItemType",0,"xbrldt:dimensionItem",0,"duration","true","true"]
[null,"DetailsOfSharesHeldByEmployeeTrustsLineItems","Details of shares held by Employee Trusts [Line items]",null,2,"in-bse-shp_DetailsOfSharesHeldByEmployeeTrustsLineItems","DetailsOfSharesHeldByEmployeeTrustsAbstract","DetailsOfSharesHeldByEmployeeTrustsLineItems","ShareholdingPatternEmployeeTrusts","xbrli:stringItemType",0,"xbrli:item",0,"duration","true","true"]
["in-bse-shp"]
["in-bse-shp","PermanentAccountNumberOfShareholder","Permanent account number of shareholder",null,2,"in-bse-shp_PermenantAccountNumberOfShareholder","DetailsOfSharesHeldByEmployeeTrustsLineItems","PermenantAccountNumberOfShareholder","ShareholdingPatternEmployeeTrusts","xbrli:PermenantAccountNumberOfShareholder",0,"xbrli:item",0,"duration","false","true"]
["in-bse-shp","NumberOfFullyPaidUpEquityShares","Number of fully paid up equity shares",null,3,"in-bse-shp_NumberOfFullyPaidUpEquityShares","DetailsOfSharesHeldByEmployeeTrustsLineItems","NumberOfFullyPaidUpEquityShares","ShareholdingPatternEmployeeTrusts","xbrli:sharesItemType",0,"xbrli:item",0,"instant","false","true"]
["in-bse-shp","NumberOfPartlyPaidUpEquityShares","Number of partly paid-up equity shares",null,4,"in-bse-shp_NumberOfPartlyPaidUpEquityShares","DetailsOfSharesHeldByEmployeeTrustsLineItems","NumberOfPartlyPaidUpEquityShares","ShareholdingPatternEmployeeTrusts","xbrli:sharesItemType",0,"xbrli:item",0,"instant","false","true"]
["in-bse-shp","NumberOfSharesUnderlyingOutstandingDepositoryReceipts","Number of shares underlying outstanding depository receipts",null,5,"in-bse-shp_NumberOfSharesUnderlyingOutstandingDepositoryReceipts","DetailsOfSharesHeldByEmployeeTrustsLineItems","NumberOfSharesUnderlyingOutstandingDepositoryReceipts","ShareholdingPatternEmployeeTrusts","xbrli:sharesItemType",0,"xbrli:item",0,"instant","false","true"]
["in-bse-shp","NumberOfVotingRightsHeldInEachClassOfSecuritiesAbstract","Number of voting rights held in each class of securities [Abstract]",null,8,"in-bse-shp_NumberOfVotingRightsHeldInEachClassOfSecuritiesAbstract","DetailsOfSharesHeldByEmployeeTrustsLineItems","NumberOfVotingRightsHeldInEachClassOfSecuritiesAbstract","ShareholdingPatternEmployeeTrusts","xbrli:stringItemType",0,"xbrli:item",0,"duration","true","true"]
["in-bse-shp","NumberOfVotingRightsHeldBySameClassOfSecurities","Number of voting rights held by same class of securities",null,1,"in-bse-shp_NumberOfVotingRightsHeldBySameClassOfSecurities","NumberOfVotingRightsHeldInEachClassOfSecuritiesAbstract","NumberOfVotingRightsHeldBySameClassOfSecurities","ShareholdingPatternEmployeeTrusts","xbrli:decimalItemType",0,"xbrli:item",0,"instant","false","true"]
["in-bse-shp","NumberOfVotingRightsHeldByDifferentialVotingRights","Number of voting rights held by differential voting rights",null,2,"in-bse-shp_NumberOfVotingRightsHeldByDifferentialVotingRights","NumberOfVotingRightsHeldInEachClassOfSecuritiesAbstract","NumberOfVotingRightsHeldByDifferentialVotingRights","ShareholdingPatternEmployeeTrusts","xbrli:decimalItemType",0,"xbrli:item",0,"instant","false","true"]
["in-bse-shp","NumberOfVotingRights","Total number of voting rights",null,3,"in-bse-shp_NumberOfVotingRights","NumberOfVotingRightsHeldInEachClassOfSecuritiesAbstract","NumberOfVotingRights","ShareholdingPatternEmployeeTrusts","xbrli:decimalItemType",0,"xbrli:item",0,"instant","false","true"]
["in-bse-shp","NumberOfSharesUnderlyingOutstandingConvertibleSecurities","Number of shares underlying outstanding convertible securities",null,9,"in-bse-shp_NumberOfSharesUnderlyingOutstandingConvertibleSecurities","DetailsOfSharesHeldByEmployeeTrustsLineItems","NumberOfSharesUnderlyingOutstandingConvertibleSecurities","ShareholdingPatternEmployeeTrusts","xbrli:sharesItemType",0,"xbrli:item",0,"instant","false","true"]
["in-bse-shp","DetailsOfTheLockedInSharesAbstract","Details of the locked-in-shares [Abstract]",null,13,"in-bse-shp_DetailsOfTheLockedInSharesAbstract","DetailsOfSharesHeldByEmployeeTrustsLineItems","DetailsOfTheLockedInSharesAbstract","ShareholdingPatternEmployeeTrusts","xbrli:stringItemType",0,"xbrli:item",0,"duration","true","true"]
["in-bse-shp","NumberOfTheLockedInShares","Number of the locked-in-shares ",null,1,"in-bse-shp_NumberOfTheLockedInShares","DetailsOfTheLockedInSharesAbstract","NumberOfTheLockedInShares","ShareholdingPatternEmployeeTrusts","xbrli:sharesItemType",0,"xbrli:item",0,"instant","false","true"]
["in-bse-shp","LockedInSharesAsAPercentageOfTotalNumberOfShares","Locked-in-shares as a percentage of total number of shares",null,2,"in-bse-shp_LockedInSharesAsAPercentageOfTotalNumberOfShares","DetailsOfTheLockedInSharesAbstract","LockedInSharesAsAPercentageOfTotalNumberOfShares","ShareholdingPatternEmployeeTrusts","num:percentItemType",0,"xbrli:item",0,"instant","false","true"]
["in-bse-shp","NumberOfSharesPledgedOrOtherwiseEncumberedAbstract","Number of Shares pledged or otherwise encumbered [Abstract]",null,14,"in-bse-shp_NumberOfSharesPledgedOrOtherwiseEncumberedAbstract","DetailsOfSharesHeldByEmployeeTrustsLineItems","NumberOfSharesPledgedOrOtherwiseEncumberedAbstract","ShareholdingPatternEmployeeTrusts","xbrli:stringItemType",0,"xbrli:item",0,"duration","true","true"]
["in-bse-shp","PledgedOrEncumberedNumberOfShares","Pledged or encumbered - number of shares",null,1,"in-bse-shp_PledgedOrEncumberedNumberOfShares","NumberOfSharesPledgedOrOtherwiseEncumberedAbstract","PledgedOrEncumberedNumberOfShares","ShareholdingPatternEmployeeTrusts","xbrli:sharesItemType",0,"xbrli:item",0,"instant","false","true"]
["in-bse-shp","PledgedOrEncumberedSharesHeldAsPercentageOfTotalNumberOfShares","Pledged or encumbered shares held as percentage of total number of shares",null,2,"in-bse-shp_PledgedOrEncumberedSharesHeldAsPercentageOfTotalNumberOfShares","NumberOfSharesPledgedOrOtherwiseEncumberedAbstract","PledgedOrEncumberedSharesHeldAsPercentageOfTotalNumberOfShares","ShareholdingPatternEmployeeTrusts","num:percentItemType",0,"xbrli:item",0,"instant","false","true"]
["in-bse-shp","NumberOfEquitySharesHeldInDematerializedForm","Number of equity shares held in dematerialized form",null,15,"in-bse-shp_NumberOfEquitySharesHeldInDematerializedForm","DetailsOfSharesHeldByEmployeeTrustsLineItems","NumberOfEquitySharesHeldInDematerializedForm","ShareholdingPatternEmployeeTrusts","xbrli:sharesItemType",0,"xbrli:item",0,"instant","false","true"]
["in-bse-shp","DetailsOfSharesHeldByOthersIndianShareholdersAbstract","Details of shares held by others indian shareholders [Abstract]",null,null,"in-bse-shp_DetailsOfSharesHeldByOthersIndianShareholdersAbstract",null,null,"ShareholdingPatternOtherIndianShareholders","xbrli:stringItemType",0,"xbrli:item",0,"duration","true","true"]
["in-bse-shp","DetailsOfSharesHeldByOthersIndianShareholdersTable","Details of shares held by others indian shareholders [Table]",null,1,"in-bse-shp_DetailsOfSharesHeldByOthersIndianShareholdersTable","DetailsOfSharesHeldByOthersIndianShareholdersAbstract","DetailsOfSharesHeldByOthersIndianShareholdersTable","ShareholdingPatternOtherIndianShareholders","xbrli:stringItemType",0,"xbrldt:hypercubeItem",0,"duration","true","true"]
["in-bse-shp","DetailsOfSharesHeldByOthersIndianShareholdersAxis","Details of shares held by others indian shareholders [Axis]",null,1,"in-bse-shp_DetailsOfSharesHeldByOthersIndianShareholdersAxis","DetailsOfSharesHeldByOthersIndianShareholdersTable","DetailsOfSharesHeldByOthersIndianShareholdersAxis","ShareholdingPatternOtherIndianShareholders","xbrli:stringItemType",0,"xbrldt:dimensionItem",0,"duration","true","true"]
["in-bse-shp","DetailsOfSharesHeldByOthersIndianShareholdersLineItems","Details of shares held by others indian shareholders [Line items]",null,2,"in-bse-shp_DetailsOfSharesHeldByOthersIndianShareholdersLineItems","DetailsOfSharesHeldByOthersIndianShareholdersAbstract","DetailsOfSharesHeldByOthersIndianShareholdersLineItems","ShareholdingPatternOtherIndianShareholders","xbrli:stringItemType",0,"xbrli:item",0,"duration","true","true"]
[null,"CategoryOfOtherIndianShareholders","Category of other indian shareholders",null,1,"in-bse-shp_CategoryOfOtherIndianShareholders","DetailsOfSharesHeldByOthersIndianShareholdersLineItems","CategoryOfOtherIndianShareholders","ShareholdingPatternOtherIndianShareholders","in-bse-shp-types:CategoryOfIndianShareholders",0,"xbrli:item",0,"duration","true","true"]
["in-bse-shp"]
["in-bse-shp","PermanentAccountNumberOfShareholder","Permanent account number of shareholder",null,3,"in-bse-shp_PermenantAccountNumberOfShareholder","DetailsOfSharesHeldByOthersIndianShareholdersLineItems","PermenantAccountNumberOfShareholder","ShareholdingPatternOtherIndianShareholders","xbrli:PermenantAccountNumberOfShareholder",0,"xbrli:item",0,"duration","false","true"]
["in-bse-shp","NumberOfFullyPaidUpEquityShares","Number of fully paid up equity shares",null,4,"in-bse-shp_NumberOfFullyPaidUpEquityShares","DetailsOfSharesHeldByOthersIndianShareholdersLineItems","NumberOfFullyPaidUpEquityShares","ShareholdingPatternOtherIndianShareholders","xbrli:sharesItemType",0,"xbrli:item",0,"instant","false","true"]
["in-bse-shp","NumberOfPartlyPaidUpEquityShares","Number of partly paid-up equity shares",null,5,"in-bse-shp_NumberOfPartlyPaidUpEquityShares","DetailsOfSharesHeldByOthersIndianShareholdersLineItems","NumberOfPartlyPaidUpEquityShares","ShareholdingPatternOtherIndianShareholders","xbrli:sharesItemType",0,"xbrli:item",0,"instant","false","true"]
["in-bse-shp","NumberOfSharesUnderlyingOutstandingDepositoryReceipts","Number of shares underlying outstanding depository receipts",null,6,"in-bse-shp_NumberOfSharesUnderlyingOutstandingDepositoryReceipts","DetailsOfSharesHeldByOthersIndianShareholdersLineItems","NumberOfSharesUnderlyingOutstandingDepositoryReceipts","ShareholdingPatternOtherIndianShareholders","xbrli:sharesItemType",0,"xbrli:item",0,"instant","false","true"]
["in-bse-shp","NumberOfVotingRightsHeldInEachClassOfSecuritiesAbstract","Number of voting rights held in each class of securities [Abstract]",null,9,"in-bse-shp_NumberOfVotingRightsHeldInEachClassOfSecuritiesAbstract","DetailsOfSharesHeldByOthersIndianShareholdersLineItems","NumberOfVotingRightsHeldInEachClassOfSecuritiesAbstract","ShareholdingPatternOtherIndianShareholders","xbrli:stringItemType",0,"xbrli:item",0,"duration","true","true"]
["in-bse-shp","NumberOfVotingRightsHeldBySameClassOfSecurities","Number of voting rights held by same class of securities",null,1,"in-bse-shp_NumberOfVotingRightsHeldBySameClassOfSecurities","NumberOfVotingRightsHeldInEachClassOfSecuritiesAbstract","NumberOfVotingRightsHeldBySameClassOfSecurities","ShareholdingPatternOtherIndianShareholders","xbrli:decimalItemType",0,"xbrli:item",0,"instant","false","true"]
["in-bse-shp","NumberOfVotingRightsHeldByDifferentialVotingRights","Number of voting rights held by differential voting rights",null,2,"in-bse-shp_NumberOfVotingRightsHeldByDifferentialVotingRights","NumberOfVotingRightsHeldInEachClassOfSecuritiesAbstract","NumberOfVotingRightsHeldByDifferentialVotingRights","ShareholdingPatternOtherIndianShareholders","xbrli:decimalItemType",0,"xbrli:item",0,"instant","false","true"]
["in-bse-shp","NumberOfVotingRights","Total number of voting rights",null,3,"in-bse-shp_NumberOfVotingRights","NumberOfVotingRightsHeldInEachClassOfSecuritiesAbstract","NumberOfVotingRights","ShareholdingPatternOtherIndianShareholders","xbrli:decimalItemType",0,"xbrli:item",0,"instant","false","true"]
["in-bse-shp","NumberOfSharesUnderlyingOutstandingConvertibleSecurities","Number of shares underlying outstanding convertible securities",null,10,"in-bse-shp_NumberOfSharesUnderlyingOutstandingConvertibleSecurities","DetailsOfSharesHeldByOthersIndianShareholdersLineItems","NumberOfSharesUnderlyingOutstandingConvertibleSecurities","ShareholdingPatternOtherIndianShareholders","xbrli:sharesItemType",0,"xbrli:item",0,"instant","false","true"]
["in-bse-shp","DetailsOfTheLockedInSharesAbstract","Details of the locked-in-shares [Abstract]",null,14,"in-bse-shp_DetailsOfTheLockedInSharesAbstract","DetailsOfSharesHeldByOthersIndianShareholdersLineItems","DetailsOfTheLockedInSharesAbstract","ShareholdingPatternOtherIndianShareholders","xbrli:stringItemType",0,"xbrli:item",0,"duration","true","true"]
["in-bse-shp","NumberOfTheLockedInShares","Number of the locked-in-shares ",null,1,"in-bse-shp_NumberOfTheLockedInShares","DetailsOfTheLockedInSharesAbstract","NumberOfTheLockedInShares","ShareholdingPatternOtherIndianShareholders","xbrli:sharesItemType",0,"xbrli:item",0,"instant","false","true"]
["in-bse-shp","LockedInSharesAsAPercentageOfTotalNumberOfShares","Locked-in-shares as a percentage of total number of shares",null,2,"in-bse-shp_LockedInSharesAsAPercentageOfTotalNumberOfShares","DetailsOfTheLockedInSharesAbstract","LockedInSharesAsAPercentageOfTotalNumberOfShares","ShareholdingPatternOtherIndianShareholders","num:percentItemType",0,"xbrli:item",0,"instant","false","true"]
["in-bse-shp","NumberOfSharesPledgedOrOtherwiseEncumberedAbstract","Number of Shares pledged or otherwise encumbered [Abstract]",null,15,"in-bse-shp_NumberOfSharesPledgedOrOtherwiseEncumberedAbstract","DetailsOfSharesHeldByOthersIndianShareholdersLineItems","NumberOfSharesPledgedOrOtherwiseEncumberedAbstract","ShareholdingPatternOtherIndianShareholders","xbrli:stringItemType",0,"xbrli:item",0,"duration","true","true"]
["in-bse-shp","PledgedOrEncumberedNumberOfShares","Pledged or encumbered - number of shares",null,1,"in-bse-shp_PledgedOrEncumberedNumberOfShares","NumberOfSharesPledgedOrOtherwiseEncumberedAbstract","PledgedOrEncumberedNumberOfShares","ShareholdingPatternOtherIndianShareholders","xbrli:sharesItemType",0,"xbrli:item",0,"instant","false","true"]
["in-bse-shp","PledgedOrEncumberedSharesHeldAsPercentageOfTotalNumberOfShares","Pledged or encumbered shares held as percentage of total number of shares",null,2,"in-bse-shp_PledgedOrEncumberedSharesHeldAsPercentageOfTotalNumberOfShares","NumberOfSharesPledgedOrOtherwiseEncumberedAbstract","PledgedOrEncumberedSharesHeldAsPercentageOfTotalNumberOfShares","ShareholdingPatternOtherIndianShareholders","num:percentItemType",0,"xbrli:item",0,"instant","false","true"]
["in-bse-shp","NumberOfEquitySharesHeldInDematerializedForm","Number of equity shares held in dematerialized form",null,16,"in-bse-shp_NumberOfEquitySharesHeldInDematerializedForm","DetailsOfSharesHeldByOthersIndianShareholdersLineItems","NumberOfEquitySharesHeldInDematerializedForm","ShareholdingPatternOtherIndianShareholders","xbrli:sharesItemType",0,"xbrli:item",0,"instant","false","true"]
["in-bse-shp","DetailsOfSharesHeldByForeignInstitutionsAbstract","Details of shares held by Foreign institutions [Abstract]",null,null,"in-bse-shp_DetailsOfSharesHeldByForeignInstitutionsAbstract",null,null,"ShareholdingPatternForeignInstitutions","xbrli:stringItemType",0,"xbrli:item",0,"duration","true","true"]
["in-bse-shp","DetailsOfSharesHeldByForeignInstitutionsTable","Details of shares held by Foreign institutions [Table]",null,1,"in-bse-shp_DetailsOfSharesHeldByForeignInstitutionsTable","DetailsOfSharesHeldByForeignInstitutionsAbstract","DetailsOfSharesHeldByForeignInstitutionsTable","ShareholdingPatternForeignInstitutions","xbrli:stringItemType",0,"xbrldt:hypercubeItem",0,"duration","true","true"]
["in-bse-shp","DetailsOfSharesHeldByForeignInstitutionsAxis","Details of shares held by Foreign institutions [Axis]",null,1,"in-bse-shp_DetailsOfSharesHeldByForeignInstitutionsAxis","DetailsOfSharesHeldByForeignInstitutionsTable","DetailsOfSharesHeldByForeignInstitutionsAxis","ShareholdingPatternForeignInstitutions","xbrli:stringItemType",0,"xbrldt:dimensionItem",0,"duration","true","true"]
[null,"DetailsOfSharesHeldByForeignInstitutionsLineItems","Details of shares held by Foreign institutions [Line items]",null,2,"in-bse-shp_DetailsOfSharesHeldByForeignInstitutionsLineItems","DetailsOfSharesHeldByForeignInstitutionsAbstract","DetailsOfSharesHeldByForeignInstitutionsLineItems","ShareholdingPatternForeignInstitutions","xbrli:stringItemType",0,"xbrli:item",0,"duration","true","true"]
["in-bse-shp"]
["in-bse-shp","PermanentAccountNumberOfShareholder","Permanent account number of shareholder",null,2,"in-bse-shp_PermenantAccountNumberOfShareholder","DetailsOfSharesHeldByForeignInstitutionsLineItems","PermenantAccountNumberOfShareholder","ShareholdingPatternForeignInstitutions","xbrli:PermenantAccountNumberOfShareholder",0,"xbrli:item",0,"duration","false","true"]
["in-bse-shp","NumberOfFullyPaidUpEquityShares","Number of fully paid up equity shares",null,3,"in-bse-shp_NumberOfFullyPaidUpEquityShares","DetailsOfSharesHeldByForeignInstitutionsLineItems","NumberOfFullyPaidUpEquityShares","ShareholdingPatternForeignInstitutions","xbrli:sharesItemType",0,"xbrli:item",0,"instant","false","true"]
["in-bse-shp","NumberOfPartlyPaidUpEquityShares","Number of partly paid-up equity shares",null,4,"in-bse-shp_NumberOfPartlyPaidUpEquityShares","DetailsOfSharesHeldByForeignInstitutionsLineItems","NumberOfPartlyPaidUpEquityShares","ShareholdingPatternForeignInstitutions","xbrli:sharesItemType",0,"xbrli:item",0,"instant","false","true"]
["in-bse-shp","NumberOfSharesUnderlyingOutstandingDepositoryReceipts","Number of shares underlying outstanding depository receipts",null,5,"in-bse-shp_NumberOfSharesUnderlyingOutstandingDepositoryReceipts","DetailsOfSharesHeldByForeignInstitutionsLineItems","NumberOfSharesUnderlyingOutstandingDepositoryReceipts","ShareholdingPatternForeignInstitutions","xbrli:sharesItemType",0,"xbrli:item",0,"instant","false","true"]
["in-bse-shp","NumberOfVotingRightsHeldInEachClassOfSecuritiesAbstract","Number of voting rights held in each class of securities [Abstract]",null,8,"in-bse-shp_NumberOfVotingRightsHeldInEachClassOfSecuritiesAbstract","DetailsOfSharesHeldByForeignInstitutionsLineItems","NumberOfVotingRightsHeldInEachClassOfSecuritiesAbstract","ShareholdingPatternForeignInstitutions","xbrli:stringItemType",0,"xbrli:item",0,"duration","true","true"]
["in-bse-shp","NumberOfVotingRightsHeldBySameClassOfSecurities","Number of voting rights held by same class of securities",null,1,"in-bse-shp_NumberOfVotingRightsHeldBySameClassOfSecurities","NumberOfVotingRightsHeldInEachClassOfSecuritiesAbstract","NumberOfVotingRightsHeldBySameClassOfSecurities","ShareholdingPatternForeignInstitutions","xbrli:decimalItemType",0,"xbrli:item",0,"instant","false","true"]
["in-bse-shp","NumberOfVotingRightsHeldByDifferentialVotingRights","Number of voting rights held by differential voting rights",null,2,"in-bse-shp_NumberOfVotingRightsHeldByDifferentialVotingRights","NumberOfVotingRightsHeldInEachClassOfSecuritiesAbstract","NumberOfVotingRightsHeldByDifferentialVotingRights","ShareholdingPatternForeignInstitutions","xbrli:decimalItemType",0,"xbrli:item",0,"instant","false","true"]
["in-bse-shp","NumberOfVotingRights","Total number of voting rights",null,3,"in-bse-shp_NumberOfVotingRights","NumberOfVotingRightsHeldInEachClassOfSecuritiesAbstract","NumberOfVotingRights","ShareholdingPatternForeignInstitutions","xbrli:decimalItemType",0,"xbrli:item",0,"instant","false","true"]
["in-bse-shp","NumberOfSharesUnderlyingOutstandingConvertibleSecurities","Number of shares underlying outstanding convertible securities",null,9,"in-bse-shp_NumberOfSharesUnderlyingOutstandingConvertibleSecurities","DetailsOfSharesHeldByForeignInstitutionsLineItems","NumberOfSharesUnderlyingOutstandingConvertibleSecurities","ShareholdingPatternForeignInstitutions","xbrli:sharesItemType",0,"xbrli:item",0,"instant","false","true"]
["in-bse-shp","DetailsOfTheLockedInSharesAbstract","Details of the locked-in-shares [Abstract]",null,13,"in-bse-shp_DetailsOfTheLockedInSharesAbstract","DetailsOfSharesHeldByForeignInstitutionsLineItems","DetailsOfTheLockedInSharesAbstract","ShareholdingPatternForeignInstitutions","xbrli:stringItemType",0,"xbrli:item",0,"duration","true","true"]
["in-bse-shp","NumberOfTheLockedInShares","Number of the locked-in-shares ",null,1,"in-bse-shp_NumberOfTheLockedInShares","DetailsOfTheLockedInSharesAbstract","NumberOfTheLockedInShares","ShareholdingPatternForeignInstitutions","xbrli:sharesItemType",0,"xbrli:item",0,"instant","false","true"]
["in-bse-shp","LockedInSharesAsAPercentageOfTotalNumberOfShares","Locked-in-shares as a percentage of total number of shares",null,2,"in-bse-shp_LockedInSharesAsAPercentageOfTotalNumberOfShares","DetailsOfTheLockedInSharesAbstract","LockedInSharesAsAPercentageOfTotalNumberOfShares","ShareholdingPatternForeignInstitutions","num:percentItemType",0,"xbrli:item",0,"instant","false","true"]
["in-bse-shp","NumberOfSharesPledgedOrOtherwiseEncumberedAbstract","Number of Shares pledged or otherwise encumbered [Abstract]",null,14,"in-bse-shp_NumberOfSharesPledgedOrOtherwiseEncumberedAbstract","DetailsOfSharesHeldByForeignInstitutionsLineItems","NumberOfSharesPledgedOrOtherwiseEncumberedAbstract","ShareholdingPatternForeignInstitutions","xbrli:stringItemType",0,"xbrli:item",0,"duration","true","true"]
["in-bse-shp","PledgedOrEncumberedNumberOfShares","Pledged or encumbered - number of shares",null,1,"in-bse-shp_PledgedOrEncumberedNumberOfShares","NumberOfSharesPledgedOrOtherwiseEncumberedAbstract","PledgedOrEncumberedNumberOfShares","ShareholdingPatternForeignInstitutions","xbrli:sharesItemType",0,"xbrli:item",0,"instant","false","true"]
["in-bse-shp","PledgedOrEncumberedSharesHeldAsPercentageOfTotalNumberOfShares","Pledged or encumbered shares held as percentage of total number of shares",null,2,"in-bse-shp_PledgedOrEncumberedSharesHeldAsPercentageOfTotalNumberOfShares","NumberOfSharesPledgedOrOtherwiseEncumberedAbstract","PledgedOrEncumberedSharesHeldAsPercentageOfTotalNumberOfShares","ShareholdingPatternForeignInstitutions","num:percentItemType",0,"xbrli:item",0,"instant","false","true"]
["in-bse-shp","NumberOfEquitySharesHeldInDematerializedForm","Number of equity shares held in dematerialized form",null,15,"in-bse-shp_NumberOfEquitySharesHeldInDematerializedForm","DetailsOfSharesHeldByForeignInstitutionsLineItems","NumberOfEquitySharesHeldInDematerializedForm","ShareholdingPatternForeignInstitutions","xbrli:sharesItemType",0,"xbrli:item",0,"instant","false","true"]
["in-bse-shp","DetailsOfSharesHeldByOtherForeignShareholdersAbstract","Details of shares held by other foreign shareholders [Abstract]",null,null,"in-bse-shp_DetailsOfSharesHeldByOtherForeignShareholdersAbstract",null,null,"ShareholdingPatternOtherForeignShareholders","xbrli:stringItemType",0,"xbrli:item",0,"duration","true","true"]
["in-bse-shp","DetailsOfSharesHeldByOtherForeignShareholdersTable","Details of shares held by other foreign shareholders [Table]",null,1,"in-bse-shp_DetailsOfSharesHeldByOtherForeignShareholdersTable","DetailsOfSharesHeldByOtherForeignShareholdersAbstract","DetailsOfSharesHeldByOtherForeignShareholdersTable","ShareholdingPatternOtherForeignShareholders","xbrli:stringItemType",0,"xbrldt:hypercubeItem",0,"duration","true","true"]
["in-bse-shp","DetailsOfSharesHeldByOtherForeignShareholdersAxis","Details of shares held by other foreign shareholders [Axis]",null,1,"in-bse-shp_DetailsOfSharesHeldByOtherForeignShareholdersAxis","DetailsOfSharesHeldByOtherForeignShareholdersTable","DetailsOfSharesHeldByOtherForeignShareholdersAxis","ShareholdingPatternOtherForeignShareholders","xbrli:stringItemType",0,"xbrldt:dimensionItem",0,"duration","true","true"]
["in-bse-shp","DetailsOfSharesHeldByOtherForeignShareholdersLineItems","Details of shares held by other foreign shareholders [Line items]",null,2,"in-bse-shp_DetailsOfSharesHeldByOtherForeignShareholdersLineItems","DetailsOfSharesHeldByOtherForeignShareholdersAbstract","DetailsOfSharesHeldByOtherForeignShareholdersLineItems","ShareholdingPatternOtherForeignShareholders","xbrli:stringItemType",0,"xbrli:item",0,"duration","true","true"]
[null,"CategoryOfOtherForeignShareholders","Category of other foreign shareholders",null,1,"in-bse-shp_CategoryOfOtherForeignShareholders","DetailsOfSharesHeldByOtherForeignShareholdersLineItems","CategoryOfOtherForeignShareholders","ShareholdingPatternOtherForeignShareholders","in-bse-shp-types:CategoryOfForeignShareholders",0,"xbrli:item",0,"duration","true","true"]
["in-bse-shp"]
["in-bse-shp","PermanentAccountNumberOfShareholder","Permanent account number of shareholder",null,3,"in-bse-shp_PermenantAccountNumberOfShareholder","DetailsOfSharesHeldByOtherForeignShareholdersLineItems","PermenantAccountNumberOfShareholder","ShareholdingPatternOtherForeignShareholders","xbrli:PermenantAccountNumberOfShareholder",0,"xbrli:item",0,"duration","false","true"]
["in-bse-shp","NumberOfFullyPaidUpEquityShares","Number of fully paid up equity shares",null,4,"in-bse-shp_NumberOfFullyPaidUpEquityShares","DetailsOfSharesHeldByOtherForeignShareholdersLineItems","NumberOfFullyPaidUpEquityShares","ShareholdingPatternOtherForeignShareholders","xbrli:sharesItemType",0,"xbrli:item",0,"instant","false","true"]
["in-bse-shp","NumberOfPartlyPaidUpEquityShares","Number of partly paid-up equity shares",null,5,"in-bse-shp_NumberOfPartlyPaidUpEquityShares","DetailsOfSharesHeldByOtherForeignShareholdersLineItems","NumberOfPartlyPaidUpEquityShares","ShareholdingPatternOtherForeignShareholders","xbrli:sharesItemType",0,"xbrli:item",0,"instant","false","true"]
["in-bse-shp","NumberOfSharesUnderlyingOutstandingDepositoryReceipts","Number of shares underlying outstanding depository receipts",null,6,"in-bse-shp_NumberOfSharesUnderlyingOutstandingDepositoryReceipts","DetailsOfSharesHeldByOtherForeignShareholdersLineItems","NumberOfSharesUnderlyingOutstandingDepositoryReceipts","ShareholdingPatternOtherForeignShareholders","xbrli:sharesItemType",0,"xbrli:item",0,"instant","false","true"]
["in-bse-shp","NumberOfVotingRightsHeldInEachClassOfSecuritiesAbstract","Number of voting rights held in each class of securities [Abstract]",null,9,"in-bse-shp_NumberOfVotingRightsHeldInEachClassOfSecuritiesAbstract","DetailsOfSharesHeldByOtherForeignShareholdersLineItems","NumberOfVotingRightsHeldInEachClassOfSecuritiesAbstract","ShareholdingPatternOtherForeignShareholders","xbrli:stringItemType",0,"xbrli:item",0,"duration","true","true"]
["in-bse-shp","NumberOfVotingRightsHeldBySameClassOfSecurities","Number of voting rights held by same class of securities",null,1,"in-bse-shp_NumberOfVotingRightsHeldBySameClassOfSecurities","NumberOfVotingRightsHeldInEachClassOfSecuritiesAbstract","NumberOfVotingRightsHeldBySameClassOfSecurities","ShareholdingPatternOtherForeignShareholders","xbrli:decimalItemType",0,"xbrli:item",0,"instant","false","true"]
["in-bse-shp","NumberOfVotingRightsHeldByDifferentialVotingRights","Number of voting rights held by differential voting rights",null,2,"in-bse-shp_NumberOfVotingRightsHeldByDifferentialVotingRights","NumberOfVotingRightsHeldInEachClassOfSecuritiesAbstract","NumberOfVotingRightsHeldByDifferentialVotingRights","ShareholdingPatternOtherForeignShareholders","xbrli:decimalItemType",0,"xbrli:item",0,"instant","false","true"]
["in-bse-shp","NumberOfVotingRights","Total number of voting rights",null,3,"in-bse-shp_NumberOfVotingRights","NumberOfVotingRightsHeldInEachClassOfSecuritiesAbstract","NumberOfVotingRights","ShareholdingPatternOtherForeignShareholders","xbrli:decimalItemType",0,"xbrli:item",0,"instant","false","true"]
["in-bse-shp","NumberOfSharesUnderlyingOutstandingConvertibleSecurities","Number of shares underlying outstanding convertible securities",null,10,"in-bse-shp_NumberOfSharesUnderlyingOutstandingConvertibleSecurities","DetailsOfSharesHeldByOtherForeignShareholdersLineItems","NumberOfSharesUnderlyingOutstandingConvertibleSecurities","ShareholdingPatternOtherForeignShareholders","xbrli:sharesItemType",0,"xbrli:item",0,"instant","false","true"]
["in-bse-shp","DetailsOfTheLockedInSharesAbstract","Details of the locked-in-shares [Abstract]",null,14,"in-bse-shp_DetailsOfTheLockedInSharesAbstract","DetailsOfSharesHeldByOtherForeignShareholdersLineItems","DetailsOfTheLockedInSharesAbstract","ShareholdingPatternOtherForeignShareholders","xbrli:stringItemType",0,"xbrli:item",0,"duration","true","true"]
["in-bse-shp","NumberOfTheLockedInShares","Number of the locked-in-shares ",null,1,"in-bse-shp_NumberOfTheLockedInShares","DetailsOfTheLockedInSharesAbstract","NumberOfTheLockedInShares","ShareholdingPatternOtherForeignShareholders","xbrli:sharesItemType",0,"xbrli:item",0,"instant","false","true"]
["in-bse-shp","LockedInSharesAsAPercentageOfTotalNumberOfShares","Locked-in-shares as a percentage of total number of shares",null,2,"in-bse-shp_LockedInSharesAsAPercentageOfTotalNumberOfShares","DetailsOfTheLockedInSharesAbstract","LockedInSharesAsAPercentageOfTotalNumberOfShares","ShareholdingPatternOtherForeignShareholders","num:percentItemType",0,"xbrli:item",0,"instant","false","true"]
["in-bse-shp","NumberOfSharesPledgedOrOtherwiseEncumberedAbstract","Number of Shares pledged or otherwise encumbered [Abstract]",null,15,"in-bse-shp_NumberOfSharesPledgedOrOtherwiseEncumberedAbstract","DetailsOfSharesHeldByOtherForeignShareholdersLineItems","NumberOfSharesPledgedOrOtherwiseEncumberedAbstract","ShareholdingPatternOtherForeignShareholders","xbrli:stringItemType",0,"xbrli:item",0,"duration","true","true"]
["in-bse-shp","PledgedOrEncumberedNumberOfShares","Pledged or encumbered - number of shares",null,1,"in-bse-shp_PledgedOrEncumberedNumberOfShares","NumberOfSharesPledgedOrOtherwiseEncumberedAbstract","PledgedOrEncumberedNumberOfShares","ShareholdingPatternOtherForeignShareholders","xbrli:sharesItemType",0,"xbrli:item",0,"instant","false","true"]
["in-bse-shp","PledgedOrEncumberedSharesHeldAsPercentageOfTotalNumberOfShares","Pledged or encumbered shares held as percentage of total number of shares",null,2,"in-bse-shp_PledgedOrEncumberedSharesHeldAsPercentageOfTotalNumberOfShares","NumberOfSharesPledgedOrOtherwiseEncumberedAbstract","PledgedOrEncumberedSharesHeldAsPercentageOfTotalNumberOfShares","ShareholdingPatternOtherForeignShareholders","num:percentItemType",0,"xbrli:item",0,"instant","false","true"]
["in-bse-shp","NumberOfEquitySharesHeldInDematerializedForm","Number of equity shares held in dematerialized form",null,16,"in-bse-shp_NumberOfEquitySharesHeldInDematerializedForm","DetailsOfSharesHeldByOtherForeignShareholdersLineItems","NumberOfEquitySharesHeldInDematerializedForm","ShareholdingPatternOtherForeignShareholders","xbrli:sharesItemType",0,"xbrli:item",0,"instant","false","true"]
["in-bse-shp","DetailsOfSharesHeldByMutualFundsOrUtiAbstract","Details of shares held by mutual funds or uti [Abstract]",null,null,"in-bse-shp_DetailsOfSharesHeldByMutualFundsOrUtiAbstract",null,null,"ShareholdingPatternMutualFundsOrUti","xbrli:stringItemType",0,"xbrli:item",0,"duration","true","true"]
["in-bse-shp","DetailsOfSharesHeldByMutualFundsOrUtiTable","Details of shares held by mutual funds or uti [Table]",null,1,"in-bse-shp_DetailsOfSharesHeldByMutualFundsOrUtiTable","DetailsOfSharesHeldByMutualFundsOrUtiAbstract","DetailsOfSharesHeldByMutualFundsOrUtiTable","ShareholdingPatternMutualFundsOrUti","xbrli:stringItemType",0,"xbrldt:hypercubeItem",0,"duration","true","true"]
["in-bse-shp","DetailsOfSharesHeldByMutualFundsOrUtiAxis","Details of shares held by mutual funds or uti [Axis]",null,1,"in-bse-shp_DetailsOfSharesHeldByMutualFundsOrUtiAxis","DetailsOfSharesHeldByMutualFundsOrUtiTable","DetailsOfSharesHeldByMutualFundsOrUtiAxis","ShareholdingPatternMutualFundsOrUti","xbrli:stringItemType",0,"xbrldt:dimensionItem",0,"duration","true","true"]
[null,"DetailsOfSharesHeldByMutualFundsOrUtiLineItems","Details of shares held by mutual funds or uti [Line items]",null,2,"in-bse-shp_DetailsOfSharesHeldByMutualFundsOrUtiLineItems","DetailsOfSharesHeldByMutualFundsOrUtiAbstract","DetailsOfSharesHeldByMutualFundsOrUtiLineItems","ShareholdingPatternMutualFundsOrUti","xbrli:stringItemType",0,"xbrli:item",0,"duration","true","true"]
["in-bse-shp"]
["in-bse-shp","PermanentAccountNumberOfShareholder","Permanent account number of shareholder",null,2,"in-bse-shp_PermenantAccountNumberOfShareholder","DetailsOfSharesHeldByMutualFundsOrUtiLineItems","PermenantAccountNumberOfShareholder","ShareholdingPatternMutualFundsOrUti","xbrli:PermenantAccountNumberOfShareholder",0,"xbrli:item",0,"duration","false","true"]
["in-bse-shp","NumberOfFullyPaidUpEquityShares","Number of fully paid up equity shares",null,3,"in-bse-shp_NumberOfFullyPaidUpEquityShares","DetailsOfSharesHeldByMutualFundsOrUtiLineItems","NumberOfFullyPaidUpEquityShares","ShareholdingPatternMutualFundsOrUti","xbrli:sharesItemType",0,"xbrli:item",0,"instant","false","true"]
["in-bse-shp","NumberOfPartlyPaidUpEquityShares","Number of partly paid-up equity shares",null,4,"in-bse-shp_NumberOfPartlyPaidUpEquityShares","DetailsOfSharesHeldByMutualFundsOrUtiLineItems","NumberOfPartlyPaidUpEquityShares","ShareholdingPatternMutualFundsOrUti","xbrli:sharesItemType",0,"xbrli:item",0,"instant","false","true"]
["in-bse-shp","NumberOfSharesUnderlyingOutstandingDepositoryReceipts","Number of shares underlying outstanding depository receipts",null,5,"in-bse-shp_NumberOfSharesUnderlyingOutstandingDepositoryReceipts","DetailsOfSharesHeldByMutualFundsOrUtiLineItems","NumberOfSharesUnderlyingOutstandingDepositoryReceipts","ShareholdingPatternMutualFundsOrUti","xbrli:sharesItemType",0,"xbrli:item",0,"instant","false","true"]
["in-bse-shp","NumberOfVotingRightsHeldInEachClassOfSecuritiesAbstract","Number of voting rights held in each class of securities [Abstract]",null,8,"in-bse-shp_NumberOfVotingRightsHeldInEachClassOfSecuritiesAbstract","DetailsOfSharesHeldByMutualFundsOrUtiLineItems","NumberOfVotingRightsHeldInEachClassOfSecuritiesAbstract","ShareholdingPatternMutualFundsOrUti","xbrli:stringItemType",0,"xbrli:item",0,"duration","true","true"]
["in-bse-shp","NumberOfVotingRightsHeldBySameClassOfSecurities","Number of voting rights held by same class of securities",null,1,"in-bse-shp_NumberOfVotingRightsHeldBySameClassOfSecurities","NumberOfVotingRightsHeldInEachClassOfSecuritiesAbstract","NumberOfVotingRightsHeldBySameClassOfSecurities","ShareholdingPatternMutualFundsOrUti","xbrli:decimalItemType",0,"xbrli:item",0,"instant","false","true"]
["in-bse-shp","NumberOfVotingRightsHeldByDifferentialVotingRights","Number of voting rights held by differential voting rights",null,2,"in-bse-shp_NumberOfVotingRightsHeldByDifferentialVotingRights","NumberOfVotingRightsHeldInEachClassOfSecuritiesAbstract","NumberOfVotingRightsHeldByDifferentialVotingRights","ShareholdingPatternMutualFundsOrUti","xbrli:decimalItemType",0,"xbrli:item",0,"instant","false","true"]
["in-bse-shp","NumberOfVotingRights","Total number of voting rights",null,3,"in-bse-shp_NumberOfVotingRights","NumberOfVotingRightsHeldInEachClassOfSecuritiesAbstract","NumberOfVotingRights","ShareholdingPatternMutualFundsOrUti","xbrli:decimalItemType",0,"xbrli:item",0,"instant","false","true"]
["in-bse-shp","NumberOfSharesUnderlyingOutstandingConvertibleSecurities","Number of shares underlying outstanding convertible securities",null,9,"in-bse-shp_NumberOfSharesUnderlyingOutstandingConvertibleSecurities","DetailsOfSharesHeldByMutualFundsOrUtiLineItems","NumberOfSharesUnderlyingOutstandingConvertibleSecurities","ShareholdingPatternMutualFundsOrUti","xbrli:sharesItemType",0,"xbrli:item",0,"instant","false","true"]
["in-bse-shp","DetailsOfTheLockedInSharesAbstract","Details of the locked-in-shares [Abstract]",null,13,"in-bse-shp_DetailsOfTheLockedInSharesAbstract","DetailsOfSharesHeldByMutualFundsOrUtiLineItems","DetailsOfTheLockedInSharesAbstract","ShareholdingPatternMutualFundsOrUti","xbrli:stringItemType",0,"xbrli:item",0,"duration","true","true"]
["in-bse-shp","NumberOfTheLockedInShares","Number of the locked-in-shares ",null,1,"in-bse-shp_NumberOfTheLockedInShares","DetailsOfTheLockedInSharesAbstract","NumberOfTheLockedInShares","ShareholdingPatternMutualFundsOrUti","xbrli:sharesItemType",0,"xbrli:item",0,"instant","false","true"]
["in-bse-shp","LockedInSharesAsAPercentageOfTotalNumberOfShares","Locked-in-shares as a percentage of total number of shares",null,2,"in-bse-shp_LockedInSharesAsAPercentageOfTotalNumberOfShares","DetailsOfTheLockedInSharesAbstract","LockedInSharesAsAPercentageOfTotalNumberOfShares","ShareholdingPatternMutualFundsOrUti","num:percentItemType",0,"xbrli:item",0,"instant","false","true"]
["in-bse-shp","NumberOfSharesPledgedOrOtherwiseEncumberedAbstract","Number of Shares pledged or otherwise encumbered [Abstract]",null,14,"in-bse-shp_NumberOfSharesPledgedOrOtherwiseEncumberedAbstract","DetailsOfSharesHeldByMutualFundsOrUtiLineItems","NumberOfSharesPledgedOrOtherwiseEncumberedAbstract","ShareholdingPatternMutualFundsOrUti","xbrli:stringItemType",0,"xbrli:item",0,"duration","true","true"]
["in-bse-shp","PledgedOrEncumberedNumberOfShares","Pledged or encumbered - number of shares",null,1,"in-bse-shp_PledgedOrEncumberedNumberOfShares","NumberOfSharesPledgedOrOtherwiseEncumberedAbstract","PledgedOrEncumberedNumberOfShares","ShareholdingPatternMutualFundsOrUti","xbrli:sharesItemType",0,"xbrli:item",0,"instant","false","true"]
["in-bse-shp","PledgedOrEncumberedSharesHeldAsPercentageOfTotalNumberOfShares","Pledged or encumbered shares held as percentage of total number of shares",null,2,"in-bse-shp_PledgedOrEncumberedSharesHeldAsPercentageOfTotalNumberOfShares","NumberOfSharesPledgedOrOtherwiseEncumberedAbstract","PledgedOrEncumberedSharesHeldAsPercentageOfTotalNumberOfShares","ShareholdingPatternMutualFundsOrUti","num:percentItemType",0,"xbrli:item",0,"instant","false","true"]
["in-bse-shp","NumberOfEquitySharesHeldInDematerializedForm","Number of equity shares held in dematerialized form",null,15,"in-bse-shp_NumberOfEquitySharesHeldInDematerializedForm","DetailsOfSharesHeldByMutualFundsOrUtiLineItems","NumberOfEquitySharesHeldInDematerializedForm","ShareholdingPatternMutualFundsOrUti","xbrli:sharesItemType",0,"xbrli:item",0,"instant","false","true"]
["in-bse-shp","DetailsOfSharesHeldByOtherInstitutionsAbstract","Details of shares held by other institutions [Abstract]",null,null,"in-bse-shp_DetailsOfSharesHeldByOtherInstitutionsAbstract",null,null,"ShareholdingPatternOtherInstitutions","xbrli:stringItemType",0,"xbrli:item",0,"duration","true","true"]
["in-bse-shp","DetailsOfSharesHeldByOtherInstitutionsTable","Details of shares held by other institutions [Table]",null,1,"in-bse-shp_DetailsOfSharesHeldByOtherInstitutionsTable","DetailsOfSharesHeldByOtherInstitutionsAbstract","DetailsOfSharesHeldByOtherInstitutionsTable","ShareholdingPatternOtherInstitutions","xbrli:stringItemType",0,"xbrldt:hypercubeItem",0,"duration","true","true"]
["in-bse-shp","DetailsOfSharesHeldByOtherInstitutionsAxis","Details of shares held by other institutions [Axis]",null,1,"in-bse-shp_DetailsOfSharesHeldByOtherInstitutionsAxis","DetailsOfSharesHeldByOtherInstitutionsTable","DetailsOfSharesHeldByOtherInstitutionsAxis","ShareholdingPatternOtherInstitutions","xbrli:stringItemType",0,"xbrldt:dimensionItem",0,"duration","true","true"]
["in-bse-shp","DetailsOfSharesHeldByOtherInstitutionsLineItems","Details of shares held by other institutions [Line items]",null,2,"in-bse-shp_DetailsOfSharesHeldByOtherInstitutionsLineItems","DetailsOfSharesHeldByOtherInstitutionsAbstract","DetailsOfSharesHeldByOtherInstitutionsLineItems","ShareholdingPatternOtherInstitutions","xbrli:stringItemType",0,"xbrli:item",0,"duration","true","true"]
[null,"CategoryOfOtherInstitutions","Category of other institutions",null,1,"in-bse-shp_CategoryOfOtherInstitutions","DetailsOfSharesHeldByOtherInstitutionsLineItems","CategoryOfOtherInstitutions","ShareholdingPatternOtherInstitutions","in-bse-shp-types:CategoryOfInstitutionShareholders",0,"xbrli:item",0,"duration","true","true"]
["in-bse-shp"]
["in-bse-shp","PermanentAccountNumberOfShareholder","Permanent account number of shareholder",null,3,"in-bse-shp_PermenantAccountNumberOfShareholder","DetailsOfSharesHeldByOtherInstitutionsLineItems","PermenantAccountNumberOfShareholder","ShareholdingPatternOtherInstitutions","xbrli:PermenantAccountNumberOfShareholder",0,"xbrli:item",0,"duration","false","true"]
["in-bse-shp","NumberOfFullyPaidUpEquityShares","Number of fully paid up equity shares",null,4,"in-bse-shp_NumberOfFullyPaidUpEquityShares","DetailsOfSharesHeldByOtherInstitutionsLineItems","NumberOfFullyPaidUpEquityShares","ShareholdingPatternOtherInstitutions","xbrli:sharesItemType",0,"xbrli:item",0,"instant","false","true"]
["in-bse-shp","NumberOfPartlyPaidUpEquityShares","Number of partly paid-up equity shares",null,5,"in-bse-shp_NumberOfPartlyPaidUpEquityShares","DetailsOfSharesHeldByOtherInstitutionsLineItems","NumberOfPartlyPaidUpEquityShares","ShareholdingPatternOtherInstitutions","xbrli:sharesItemType",0,"xbrli:item",0,"instant","false","true"]
["in-bse-shp","NumberOfSharesUnderlyingOutstandingDepositoryReceipts","Number of shares underlying outstanding depository receipts",null,6,"in-bse-shp_NumberOfSharesUnderlyingOutstandingDepositoryReceipts","DetailsOfSharesHeldByOtherInstitutionsLineItems","NumberOfSharesUnderlyingOutstandingDepositoryReceipts","ShareholdingPatternOtherInstitutions","xbrli:sharesItemType",0,"xbrli:item",0,"instant","false","true"]
["in-bse-shp","NumberOfVotingRightsHeldInEachClassOfSecuritiesAbstract","Number of voting rights held in each class of securities [Abstract]",null,9,"in-bse-shp_NumberOfVotingRightsHeldInEachClassOfSecuritiesAbstract","DetailsOfSharesHeldByOtherInstitutionsLineItems","NumberOfVotingRightsHeldInEachClassOfSecuritiesAbstract","ShareholdingPatternOtherInstitutions","xbrli:stringItemType",0,"xbrli:item",0,"duration","true","true"]
["in-bse-shp","NumberOfVotingRightsHeldBySameClassOfSecurities","Number of voting rights held by same class of securities",null,1,"in-bse-shp_NumberOfVotingRightsHeldBySameClassOfSecurities","NumberOfVotingRightsHeldInEachClassOfSecuritiesAbstract","NumberOfVotingRightsHeldBySameClassOfSecurities","ShareholdingPatternOtherInstitutions","xbrli:decimalItemType",0,"xbrli:item",0,"instant","false","true"]
["in-bse-shp","NumberOfVotingRightsHeldByDifferentialVotingRights","Number of voting rights held by differential voting rights",null,2,"in-bse-shp_NumberOfVotingRightsHeldByDifferentialVotingRights","NumberOfVotingRightsHeldInEachClassOfSecuritiesAbstract","NumberOfVotingRightsHeldByDifferentialVotingRights","ShareholdingPatternOtherInstitutions","xbrli:decimalItemType",0,"xbrli:item",0,"instant","false","true"]
["in-bse-shp","NumberOfVotingRights","Total number of voting rights",null,3,"in-bse-shp_NumberOfVotingRights","NumberOfVotingRightsHeldInEachClassOfSecuritiesAbstract","NumberOfVotingRights","ShareholdingPatternOtherInstitutions","xbrli:decimalItemType",0,"xbrli:item",0,"instant","false","true"]
["in-bse-shp","NumberOfSharesUnderlyingOutstandingConvertibleSecurities","Number of shares underlying outstanding convertible securities",null,10,"in-bse-shp_NumberOfSharesUnderlyingOutstandingConvertibleSecurities","DetailsOfSharesHeldByOtherInstitutionsLineItems","NumberOfSharesUnderlyingOutstandingConvertibleSecurities","ShareholdingPatternOtherInstitutions","xbrli:sharesItemType",0,"xbrli:item",0,"instant","false","true"]
["in-bse-shp","DetailsOfTheLockedInSharesAbstract","Details of the locked-in-shares [Abstract]",null,14,"in-bse-shp_DetailsOfTheLockedInSharesAbstract","DetailsOfSharesHeldByOtherInstitutionsLineItems","DetailsOfTheLockedInSharesAbstract","ShareholdingPatternOtherInstitutions","xbrli:stringItemType",0,"xbrli:item",0,"duration","true","true"]
["in-bse-shp","NumberOfTheLockedInShares","Number of the locked-in-shares ",null,1,"in-bse-shp_NumberOfTheLockedInShares","DetailsOfTheLockedInSharesAbstract","NumberOfTheLockedInShares","ShareholdingPatternOtherInstitutions","xbrli:sharesItemType",0,"xbrli:item",0,"instant","false","true"]
["in-bse-shp","LockedInSharesAsAPercentageOfTotalNumberOfShares","Locked-in-shares as a percentage of total number of shares",null,2,"in-bse-shp_LockedInSharesAsAPercentageOfTotalNumberOfShares","DetailsOfTheLockedInSharesAbstract","LockedInSharesAsAPercentageOfTotalNumberOfShares","ShareholdingPatternOtherInstitutions","num:percentItemType",0,"xbrli:item",0,"instant","false","true"]
["in-bse-shp","NumberOfSharesPledgedOrOtherwiseEncumberedAbstract","Number of Shares pledged or otherwise encumbered [Abstract]",null,15,"in-bse-shp_NumberOfSharesPledgedOrOtherwiseEncumberedAbstract","DetailsOfSharesHeldByOtherInstitutionsLineItems","NumberOfSharesPledgedOrOtherwiseEncumberedAbstract","ShareholdingPatternOtherInstitutions","xbrli:stringItemType",0,"xbrli:item",0,"duration","true","true"]
["in-bse-shp","PledgedOrEncumberedNumberOfShares","Pledged or encumbered - number of shares",null,1,"in-bse-shp_PledgedOrEncumberedNumberOfShares","NumberOfSharesPledgedOrOtherwiseEncumberedAbstract","PledgedOrEncumberedNumberOfShares","ShareholdingPatternOtherInstitutions","xbrli:sharesItemType",0,"xbrli:item",0,"instant","false","true"]
["in-bse-shp","PledgedOrEncumberedSharesHeldAsPercentageOfTotalNumberOfShares","Pledged or encumbered shares held as percentage of total number of shares",null,2,"in-bse-shp_PledgedOrEncumberedSharesHeldAsPercentageOfTotalNumberOfShares","NumberOfSharesPledgedOrOtherwiseEncumberedAbstract","PledgedOrEncumberedSharesHeldAsPercentageOfTotalNumberOfShares","ShareholdingPatternOtherInstitutions","num:percentItemType",0,"xbrli:item",0,"instant","false","true"]
["in-bse-shp","NumberOfEquitySharesHeldInDematerializedForm","Number of equity shares held in dematerialized form",null,16,"in-bse-shp_NumberOfEquitySharesHeldInDematerializedForm","DetailsOfSharesHeldByOtherInstitutionsLineItems","NumberOfEquitySharesHeldInDematerializedForm","ShareholdingPatternOtherInstitutions","xbrli:sharesItemType",0,"xbrli:item",0,"instant","false","true"]
["in-bse-shp","DetailsOfSharesHeldByOverseasDepositoriesAbstract","Details of shares held by overseas depositories [Abstract]",null,null,"in-bse-shp_DetailsOfSharesHeldByOverseasDepositoriesAbstract",null,null,"ShareholdingPatternOverseasDepositories","xbrli:stringItemType",0,"xbrli:item",0,"duration","true","true"]
["in-bse-shp","DetailsOfSharesHeldByOverseasDepositoriesTable","Details of shares held by overseas depositories [Table]",null,1,"in-bse-shp_DetailsOfSharesHeldByOverseasDepositoriesTable","DetailsOfSharesHeldByOverseasDepositoriesAbstract","DetailsOfSharesHeldByOverseasDepositoriesTable","ShareholdingPatternOverseasDepositories","xbrli:stringItemType",0,"xbrldt:hypercubeItem",0,"duration","true","true"]
["in-bse-shp","DetailsOfSharesHeldByOverseasDepositoriesAxis","Details of shares held by overseas depositories [Axis]",null,1,"in-bse-shp_DetailsOfSharesHeldByOverseasDepositoriesAxis","DetailsOfSharesHeldByOverseasDepositoriesTable","DetailsOfSharesHeldByOverseasDepositoriesAxis","ShareholdingPatternOverseasDepositories","xbrli:stringItemType",0,"xbrldt:dimensionItem",0,"duration","true","true"]
[null,"DetailsOfSharesHeldByOverseasDepositoriesLineItems","Details of shares held by overseas depositories [Line items]",null,2,"in-bse-shp_DetailsOfSharesHeldByOverseasDepositoriesLineItems","DetailsOfSharesHeldByOverseasDepositoriesAbstract","DetailsOfSharesHeldByOverseasDepositoriesLineItems","ShareholdingPatternOverseasDepositories","xbrli:stringItemType",0,"xbrli:item",0,"duration","true","true"]
["in-bse-shp"]
["in-bse-shp","PermanentAccountNumberOfShareholder","Permanent account number of shareholder",null,2,"in-bse-shp_PermenantAccountNumberOfShareholder","DetailsOfSharesHeldByOverseasDepositoriesLineItems","PermenantAccountNumberOfShareholder","ShareholdingPatternOverseasDepositories","xbrli:PermenantAccountNumberOfShareholder",0,"xbrli:item",0,"duration","false","true"]
["in-bse-shp","NumberOfFullyPaidUpEquityShares","Number of fully paid up equity shares",null,3,"in-bse-shp_NumberOfFullyPaidUpEquityShares","DetailsOfSharesHeldByOverseasDepositoriesLineItems","NumberOfFullyPaidUpEquityShares","ShareholdingPatternOverseasDepositories","xbrli:sharesItemType",0,"xbrli:item",0,"instant","false","true"]
["in-bse-shp","NumberOfPartlyPaidUpEquityShares","Number of partly paid-up equity shares",null,4,"in-bse-shp_NumberOfPartlyPaidUpEquityShares","DetailsOfSharesHeldByOverseasDepositoriesLineItems","NumberOfPartlyPaidUpEquityShares","ShareholdingPatternOverseasDepositories","xbrli:sharesItemType",0,"xbrli:item",0,"instant","false","true"]
["in-bse-shp","NumberOfSharesUnderlyingOutstandingDepositoryReceipts","Number of shares underlying outstanding depository receipts",null,5,"in-bse-shp_NumberOfSharesUnderlyingOutstandingDepositoryReceipts","DetailsOfSharesHeldByOverseasDepositoriesLineItems","NumberOfSharesUnderlyingOutstandingDepositoryReceipts","ShareholdingPatternOverseasDepositories","xbrli:sharesItemType",0,"xbrli:item",0,"instant","false","true"]
["in-bse-shp","NumberOfVotingRightsHeldInEachClassOfSecuritiesAbstract","Number of voting rights held in each class of securities [Abstract]",null,8,"in-bse-shp_NumberOfVotingRightsHeldInEachClassOfSecuritiesAbstract","DetailsOfSharesHeldByOverseasDepositoriesLineItems","NumberOfVotingRightsHeldInEachClassOfSecuritiesAbstract","ShareholdingPatternOverseasDepositories","xbrli:stringItemType",0,"xbrli:item",0,"duration","true","true"]
["in-bse-shp","NumberOfVotingRightsHeldBySameClassOfSecurities","Number of voting rights held by same class of securities",null,1,"in-bse-shp_NumberOfVotingRightsHeldBySameClassOfSecurities","NumberOfVotingRightsHeldInEachClassOfSecuritiesAbstract","NumberOfVotingRightsHeldBySameClassOfSecurities","ShareholdingPatternOverseasDepositories","xbrli:decimalItemType",0,"xbrli:item",0,"instant","false","true"]
["in-bse-shp","NumberOfVotingRightsHeldByDifferentialVotingRights","Number of voting rights held by differential voting rights",null,2,"in-bse-shp_NumberOfVotingRightsHeldByDifferentialVotingRights","NumberOfVotingRightsHeldInEachClassOfSecuritiesAbstract","NumberOfVotingRightsHeldByDifferentialVotingRights","ShareholdingPatternOverseasDepositories","xbrli:decimalItemType",0,"xbrli:item",0,"instant","false","true"]
["in-bse-shp","NumberOfVotingRights","Total number of voting rights",null,3,"in-bse-shp_NumberOfVotingRights","NumberOfVotingRightsHeldInEachClassOfSecuritiesAbstract","NumberOfVotingRights","ShareholdingPatternOverseasDepositories","xbrli:decimalItemType",0,"xbrli:item",0,"instant","false","true"]
["in-bse-shp","NumberOfSharesUnderlyingOutstandingConvertibleSecurities","Number of shares underlying outstanding convertible securities",null,9,"in-bse-shp_NumberOfSharesUnderlyingOutstandingConvertibleSecurities","DetailsOfSharesHeldByOverseasDepositoriesLineItems","NumberOfSharesUnderlyingOutstandingConvertibleSecurities","ShareholdingPatternOverseasDepositories","xbrli:sharesItemType",0,"xbrli:item",0,"instant","false","true"]
["in-bse-shp","DetailsOfTheLockedInSharesAbstract","Details of the locked-in-shares [Abstract]",null,13,"in-bse-shp_DetailsOfTheLockedInSharesAbstract","DetailsOfSharesHeldByOverseasDepositoriesLineItems","DetailsOfTheLockedInSharesAbstract","ShareholdingPatternOverseasDepositories","xbrli:stringItemType",0,"xbrli:item",0,"duration","true","true"]
["in-bse-shp","NumberOfTheLockedInShares","Number of the locked-in-shares ",null,1,"in-bse-shp_NumberOfTheLockedInShares","DetailsOfTheLockedInSharesAbstract","NumberOfTheLockedInShares","ShareholdingPatternOverseasDepositories","xbrli:sharesItemType",0,"xbrli:item",0,"instant","false","true"]
["in-bse-shp","LockedInSharesAsAPercentageOfTotalNumberOfShares","Locked-in-shares as a percentage of total number of shares",null,2,"in-bse-shp_LockedInSharesAsAPercentageOfTotalNumberOfShares","DetailsOfTheLockedInSharesAbstract","LockedInSharesAsAPercentageOfTotalNumberOfShares","ShareholdingPatternOverseasDepositories","num:percentItemType",0,"xbrli:item",0,"instant","false","true"]
["in-bse-shp","NumberOfSharesPledgedOrOtherwiseEncumberedAbstract","Number of Shares pledged or otherwise encumbered [Abstract]",null,14,"in-bse-shp_NumberOfSharesPledgedOrOtherwiseEncumberedAbstract","DetailsOfSharesHeldByOverseasDepositoriesLineItems","NumberOfSharesPledgedOrOtherwiseEncumberedAbstract","ShareholdingPatternOverseasDepositories","xbrli:stringItemType",0,"xbrli:item",0,"duration","true","true"]
["in-bse-shp","PledgedOrEncumberedNumberOfShares","Pledged or encumbered - number of shares",null,1,"in-bse-shp_PledgedOrEncumberedNumberOfShares","NumberOfSharesPledgedOrOtherwiseEncumberedAbstract","PledgedOrEncumberedNumberOfShares","ShareholdingPatternOverseasDepositories","xbrli:sharesItemType",0,"xbrli:item",0,"instant","false","true"]
["in-bse-shp","PledgedOrEncumberedSharesHeldAsPercentageOfTotalNumberOfShares","Pledged or encumbered shares held as percentage of total number of shares",null,2,"in-bse-shp_PledgedOrEncumberedSharesHeldAsPercentageOfTotalNumberOfShares","NumberOfSharesPledgedOrOtherwiseEncumberedAbstract","PledgedOrEncumberedSharesHeldAsPercentageOfTotalNumberOfShares","ShareholdingPatternOverseasDepositories","num:percentItemType",0,"xbrli:item",0,"instant","false","true"]
["in-bse-shp","NumberOfEquitySharesHeldInDematerializedForm","Number of equity shares held in dematerialized form",null,15,"in-bse-shp_NumberOfEquitySharesHeldInDematerializedForm","DetailsOfSharesHeldByOverseasDepositoriesLineItems","NumberOfEquitySharesHeldInDematerializedForm","ShareholdingPatternOverseasDepositories","xbrli:sharesItemType",0,"xbrli:item",0,"instant","false","true"]
["in-bse-shp","DetailsOfSharesHeldByOtherNonInstitutionsAbstract","Details of shares held by other non-Institutions [Abstract]",null,null,"in-bse-shp_DetailsOfSharesHeldByOtherNonInstitutionsAbstract",null,null,"ShareholdingPatternOtherNonInstitutions","xbrli:stringItemType",0,"xbrli:item",0,"duration","true","true"]
["in-bse-shp","DetailsOfSharesHeldByOtherNonInstitutionsTable","Details of shares held by other non-Institutions [Table]",null,1,"in-bse-shp_DetailsOfSharesHeldByOtherNonInstitutionsTable","DetailsOfSharesHeldByOtherNonInstitutionsAbstract","DetailsOfSharesHeldByOtherNonInstitutionsTable","ShareholdingPatternOtherNonInstitutions","xbrli:stringItemType",0,"xbrldt:hypercubeItem",0,"duration","true","true"]
["in-bse-shp","DetailsOfSharesHeldByOtherNonInstitutionsAxis","Details of shares held by other non-Institutions [Axis]",null,1,"in-bse-shp_DetailsOfSharesHeldByOtherNonInstitutionsAxis","DetailsOfSharesHeldByOtherNonInstitutionsTable","DetailsOfSharesHeldByOtherNonInstitutionsAxis","ShareholdingPatternOtherNonInstitutions","xbrli:stringItemType",0,"xbrldt:dimensionItem",0,"duration","true","true"]
["in-bse-shp","DetailsOfSharesHeldByOtherNonInstitutionsLineItems","Details of shares held by other non-Institutions [Line items]",null,2,"in-bse-shp_DetailsOfSharesHeldByOtherNonInstitutionsLineItems","DetailsOfSharesHeldByOtherNonInstitutionsAbstract","DetailsOfSharesHeldByOtherNonInstitutionsLineItems","ShareholdingPatternOtherNonInstitutions","xbrli:stringItemType",0,"xbrli:item",0,"duration","true","true"]
[null,"CategoryOfOtherNonInstitutions","Category of other non-institutions",null,1,"in-bse-shp_CategoryOfOtherNonInstitutions","DetailsOfSharesHeldByOtherNonInstitutionsLineItems","CategoryOfOtherNonInstitutions","ShareholdingPatternOtherNonInstitutions","in-bse-shp-types:CategoryOfNonInstitutionsShareholders",0,"xbrli:item",0,"duration","true","true"]
["in-bse-shp"]
["in-bse-shp","PermanentAccountNumberOfShareholder","Permanent account number of shareholder",null,3,"in-bse-shp_PermenantAccountNumberOfShareholder","DetailsOfSharesHeldByOtherNonInstitutionsLineItems","PermenantAccountNumberOfShareholder","ShareholdingPatternOtherNonInstitutions","xbrli:PermenantAccountNumberOfShareholder",0,"xbrli:item",0,"duration","false","true"]
["in-bse-shp","NumberOfShareholders","Number of shareholders",null,4,"in-bse-shp_NumberOfShareholders","DetailsOfSharesHeldByOtherNonInstitutionsLineItems","NumberOfShareholders","ShareholdingPatternOtherNonInstitutions","xbrli:decimalItemType",0,"xbrli:item",0,"instant","false","true"]
["in-bse-shp","NumberOfFullyPaidUpEquityShares","Number of fully paid up equity shares",null,5,"in-bse-shp_NumberOfFullyPaidUpEquityShares","DetailsOfSharesHeldByOtherNonInstitutionsLineItems","NumberOfFullyPaidUpEquityShares","ShareholdingPatternOtherNonInstitutions","xbrli:sharesItemType",0,"xbrli:item",0,"instant","false","true"]
["in-bse-shp","NumberOfPartlyPaidUpEquityShares","Number of partly paid-up equity shares",null,6,"in-bse-shp_NumberOfPartlyPaidUpEquityShares","DetailsOfSharesHeldByOtherNonInstitutionsLineItems","NumberOfPartlyPaidUpEquityShares","ShareholdingPatternOtherNonInstitutions","xbrli:sharesItemType",0,"xbrli:item",0,"instant","false","true"]
["in-bse-shp","NumberOfSharesUnderlyingOutstandingDepositoryReceipts","Number of shares underlying outstanding depository receipts",null,7,"in-bse-shp_NumberOfSharesUnderlyingOutstandingDepositoryReceipts","DetailsOfSharesHeldByOtherNonInstitutionsLineItems","NumberOfSharesUnderlyingOutstandingDepositoryReceipts","ShareholdingPatternOtherNonInstitutions","xbrli:sharesItemType",0,"xbrli:item",0,"instant","false","true"]
["in-bse-shp","NumberOfVotingRightsHeldInEachClassOfSecuritiesAbstract","Number of voting rights held in each class of securities [Abstract]",null,10,"in-bse-shp_NumberOfVotingRightsHeldInEachClassOfSecuritiesAbstract","DetailsOfSharesHeldByOtherNonInstitutionsLineItems","NumberOfVotingRightsHeldInEachClassOfSecuritiesAbstract","ShareholdingPatternOtherNonInstitutions","xbrli:stringItemType",0,"xbrli:item",0,"duration","true","true"]
["in-bse-shp","NumberOfVotingRightsHeldBySameClassOfSecurities","Number of voting rights held by same class of securities",null,1,"in-bse-shp_NumberOfVotingRightsHeldBySameClassOfSecurities","NumberOfVotingRightsHeldInEachClassOfSecuritiesAbstract","NumberOfVotingRightsHeldBySameClassOfSecurities","ShareholdingPatternOtherNonInstitutions","xbrli:decimalItemType",0,"xbrli:item",0,"instant","false","true"]
["in-bse-shp","NumberOfVotingRightsHeldByDifferentialVotingRights","Number of voting rights held by differential voting rights",null,2,"in-bse-shp_NumberOfVotingRightsHeldByDifferentialVotingRights","NumberOfVotingRightsHeldInEachClassOfSecuritiesAbstract","NumberOfVotingRightsHeldByDifferentialVotingRights","ShareholdingPatternOtherNonInstitutions","xbrli:decimalItemType",0,"xbrli:item",0,"instant","false","true"]
["in-bse-shp","NumberOfSharesUnderlyingOutstandingConvertibleSecurities","Number of shares underlying outstanding convertible securities",null,11,"in-bse-shp_NumberOfSharesUnderlyingOutstandingConvertibleSecurities","DetailsOfSharesHeldByOtherNonInstitutionsLineItems","NumberOfSharesUnderlyingOutstandingConvertibleSecurities","ShareholdingPatternOtherNonInstitutions","xbrli:sharesItemType",0,"xbrli:item",0,"instant","false","true"]
["in-bse-shp","DetailsOfTheLockedInSharesAbstract","Details of the locked-in-shares [Abstract]",null,15,"in-bse-shp_DetailsOfTheLockedInSharesAbstract","DetailsOfSharesHeldByOtherNonInstitutionsLineItems","DetailsOfTheLockedInSharesAbstract","ShareholdingPatternOtherNonInstitutions","xbrli:stringItemType",0,"xbrli:item",0,"duration","true","true"]
["in-bse-shp","NumberOfTheLockedInShares","Number of the locked-in-shares ",null,1,"in-bse-shp_NumberOfTheLockedInShares","DetailsOfTheLockedInSharesAbstract","NumberOfTheLockedInShares","ShareholdingPatternOtherNonInstitutions","xbrli:sharesItemType",0,"xbrli:item",0,"instant","false","true"]
["in-bse-shp","LockedInSharesAsAPercentageOfTotalNumberOfShares","Locked-in-shares as a percentage of total number of shares",null,2,"in-bse-shp_LockedInSharesAsAPercentageOfTotalNumberOfShares","DetailsOfTheLockedInSharesAbstract","LockedInSharesAsAPercentageOfTotalNumberOfShares","ShareholdingPatternOtherNonInstitutions","num:percentItemType",0,"xbrli:item",0,"instant","false","true"]
["in-bse-shp","NumberOfSharesPledgedOrOtherwiseEncumberedAbstract","Number of Shares pledged or otherwise encumbered [Abstract]",null,16,"in-bse-shp_NumberOfSharesPledgedOrOtherwiseEncumberedAbstract","DetailsOfSharesHeldByOtherNonInstitutionsLineItems","NumberOfSharesPledgedOrOtherwiseEncumberedAbstract","ShareholdingPatternOtherNonInstitutions","xbrli:stringItemType",0,"xbrli:item",0,"duration","true","true"]
["in-bse-shp","PledgedOrEncumberedNumberOfShares","Pledged or encumbered - number of shares",null,1,"in-bse-shp_PledgedOrEncumberedNumberOfShares","NumberOfSharesPledgedOrOtherwiseEncumberedAbstract","PledgedOrEncumberedNumberOfShares","ShareholdingPatternOtherNonInstitutions","xbrli:sharesItemType",0,"xbrli:item",0,"instant","false","true"]
["in-bse-shp","PledgedOrEncumberedSharesHeldAsPercentageOfTotalNumberOfShares","Pledged or encumbered shares held as percentage of total number of shares",null,2,"in-bse-shp_PledgedOrEncumberedSharesHeldAsPercentageOfTotalNumberOfShares","NumberOfSharesPledgedOrOtherwiseEncumberedAbstract","PledgedOrEncumberedSharesHeldAsPercentageOfTotalNumberOfShares","ShareholdingPatternOtherNonInstitutions","num:percentItemType",0,"xbrli:item",0,"instant","false","true"]
["in-bse-shp","NumberOfEquitySharesHeldInDematerializedForm","Number of equity shares held in dematerialized form",null,17,"in-bse-shp_NumberOfEquitySharesHeldInDematerializedForm","DetailsOfSharesHeldByOtherNonInstitutionsLineItems","NumberOfEquitySharesHeldInDematerializedForm","ShareholdingPatternOtherNonInstitutions","xbrli:sharesItemType",0,"xbrli:item",0,"instant","false","true"]
["in-bse-shp","DetailsOfSharesHeldByCustodianOrDRHolderAbstract","Details of shares held by custodian or DR holder [Abstract]",null,null,"in-bse-shp_DetailsOfSharesHeldByCustodianOrDRHolderAbstract",null,null,"ShareholdingPatternCustodianOrDRHolder","xbrli:stringItemType",0,"xbrli:item",0,"duration","true","true"]
["in-bse-shp","DetailsOfSharesHeldByCustodianOrDRHolderTable","Details of shares held by custodian or DR holder [Table]",null,1,"in-bse-shp_DetailsOfSharesHeldByCustodianOrDRHolderTable","DetailsOfSharesHeldByCustodianOrDRHolderAbstract","DetailsOfSharesHeldByCustodianOrDRHolderTable","ShareholdingPatternCustodianOrDRHolder","xbrli:stringItemType",0,"xbrldt:hypercubeItem",0,"duration","true","true"]
["in-bse-shp","DetailsOfSharesHeldByCustodianOrDRHolderAxis","Details of shares held by custodian or DR holder [Axis]",null,1,"in-bse-shp_DetailsOfSharesHeldByCustodianOrDRHolderAxis","DetailsOfSharesHeldByCustodianOrDRHolderTable","DetailsOfSharesHeldByCustodianOrDRHolderAxis","ShareholdingPatternCustodianOrDRHolder","xbrli:stringItemType",0,"xbrldt:dimensionItem",0,"duration","true","true"]
["in-bse-shp","DetailsOfSharesHeldByCustodianOrDRHolderLineItems","Details of shares held by custodian or DR holder [Line items]",null,2,"in-bse-shp_DetailsOfSharesHeldByCustodianOrDRHolderLineItems","DetailsOfSharesHeldByCustodianOrDRHolderAbstract","DetailsOfSharesHeldByCustodianOrDRHolderLineItems","ShareholdingPatternCustodianOrDRHolder","xbrli:stringItemType",0,"xbrli:item",0,"duration","true","true"]
["in-bse-shp","TypeOfDepositoryReceipts","Type of depository receipts",null,1,"in-bse-shp_TypeOfDepositoryReceipts","DetailsOfSharesHeldByCustodianOrDRHolderLineItems","TypeOfDepositoryReceipts","ShareholdingPatternCustodianOrDRHolder","xbrli:TypeOfDepositoryReceipts",0,"xbrli:item",0,"duration","true","true"]
[null,"NameOfTheBank","Name of the bank",null,2,"in-bse-shp_NameOfTheBank","DetailsOfSharesHeldByCustodianOrDRHolderLineItems","NameOfTheBank","ShareholdingPatternCustodianOrDRHolder","xbrli:stringItemType",0,"xbrli:item",0,"duration","true","true"]
["in-bse-shp"]
["in-bse-shp","PermanentAccountNumberOfShareholder","Permanent account number of shareholder",null,4,"in-bse-shp_PermenantAccountNumberOfShareholder","DetailsOfSharesHeldByCustodianOrDRHolderLineItems","PermenantAccountNumberOfShareholder","ShareholdingPatternCustodianOrDRHolder","xbrli:PermenantAccountNumberOfShareholder",0,"xbrli:item",0,"duration","false","true"]
["in-bse-shp","NumberOfFullyPaidUpEquityShares","Number of fully paid up equity shares",null,5,"in-bse-shp_NumberOfFullyPaidUpEquityShares","DetailsOfSharesHeldByCustodianOrDRHolderLineItems","NumberOfFullyPaidUpEquityShares","ShareholdingPatternCustodianOrDRHolder","xbrli:sharesItemType",0,"xbrli:item",0,"instant","false","true"]
["in-bse-shp","NumberOfPartlyPaidUpEquityShares","Number of partly paid-up equity shares",null,6,"in-bse-shp_NumberOfPartlyPaidUpEquityShares","DetailsOfSharesHeldByCustodianOrDRHolderLineItems","NumberOfPartlyPaidUpEquityShares","ShareholdingPatternCustodianOrDRHolder","xbrli:sharesItemType",0,"xbrli:item",0,"instant","false","true"]
["in-bse-shp","NumberOfSharesUnderlyingOutstandingDepositoryReceipts","Number of shares underlying outstanding depository receipts",null,7,"in-bse-shp_NumberOfSharesUnderlyingOutstandingDepositoryReceipts","DetailsOfSharesHeldByCustodianOrDRHolderLineItems","NumberOfSharesUnderlyingOutstandingDepositoryReceipts","ShareholdingPatternCustodianOrDRHolder","xbrli:sharesItemType",0,"xbrli:item",0,"instant","false","true"]
["in-bse-shp","NumberOfVotingRightsHeldInEachClassOfSecuritiesAbstract","Number of voting rights held in each class of securities [Abstract]",null,10,"in-bse-shp_NumberOfVotingRightsHeldInEachClassOfSecuritiesAbstract","DetailsOfSharesHeldByCustodianOrDRHolderLineItems","NumberOfVotingRightsHeldInEachClassOfSecuritiesAbstract","ShareholdingPatternCustodianOrDRHolder","xbrli:stringItemType",0,"xbrli:item",0,"duration","true","true"]
["in-bse-shp","NumberOfVotingRightsHeldBySameClassOfSecurities","Number of voting rights held by same class of securities",null,1,"in-bse-shp_NumberOfVotingRightsHeldBySameClassOfSecurities","NumberOfVotingRightsHeldInEachClassOfSecuritiesAbstract","NumberOfVotingRightsHeldBySameClassOfSecurities","ShareholdingPatternCustodianOrDRHolder","xbrli:decimalItemType",0,"xbrli:item",0,"instant","false","true"]
["in-bse-shp","NumberOfVotingRightsHeldByDifferentialVotingRights","Number of voting rights held by differential voting rights",null,2,"in-bse-shp_NumberOfVotingRightsHeldByDifferentialVotingRights","NumberOfVotingRightsHeldInEachClassOfSecuritiesAbstract","NumberOfVotingRightsHeldByDifferentialVotingRights","ShareholdingPatternCustodianOrDRHolder","xbrli:decimalItemType",0,"xbrli:item",0,"instant","false","true"]
["in-bse-shp","NumberOfVotingRights","Total number of voting rights",null,3,"in-bse-shp_NumberOfVotingRights","NumberOfVotingRightsHeldInEachClassOfSecuritiesAbstract","NumberOfVotingRights","ShareholdingPatternCustodianOrDRHolder","xbrli:decimalItemType",0,"xbrli:item",0,"instant","false","true"]
["in-bse-shp","NumberOfSharesUnderlyingOutstandingConvertibleSecurities","Number of shares underlying outstanding convertible securities",null,11,"in-bse-shp_NumberOfSharesUnderlyingOutstandingConvertibleSecurities","DetailsOfSharesHeldByCustodianOrDRHolderLineItems","NumberOfSharesUnderlyingOutstandingConvertibleSecurities","ShareholdingPatternCustodianOrDRHolder","xbrli:sharesItemType",0,"xbrli:item",0,"instant","false","true"]
["in-bse-shp","DetailsOfTheLockedInSharesAbstract","Details of the locked-in-shares [Abstract]",null,15,"in-bse-shp_DetailsOfTheLockedInSharesAbstract","DetailsOfSharesHeldByCustodianOrDRHolderLineItems","DetailsOfTheLockedInSharesAbstract","ShareholdingPatternCustodianOrDRHolder","xbrli:stringItemType",0,"xbrli:item",0,"duration","true","true"]
["in-bse-shp","NumberOfTheLockedInShares","Number of the locked-in-shares ",null,1,"in-bse-shp_NumberOfTheLockedInShares","DetailsOfTheLockedInSharesAbstract","NumberOfTheLockedInShares","ShareholdingPatternCustodianOrDRHolder","xbrli:sharesItemType",0,"xbrli:item",0,"instant","false","true"]
["in-bse-shp","LockedInSharesAsAPercentageOfTotalNumberOfShares","Locked-in-shares as a percentage of total number of shares",null,2,"in-bse-shp_LockedInSharesAsAPercentageOfTotalNumberOfShares","DetailsOfTheLockedInSharesAbstract","LockedInSharesAsAPercentageOfTotalNumberOfShares","ShareholdingPatternCustodianOrDRHolder","num:percentItemType",0,"xbrli:item",0,"instant","false","true"]
["in-bse-shp","NumberOfSharesPledgedOrOtherwiseEncumberedAbstract","Number of Shares pledged or otherwise encumbered [Abstract]",null,16,"in-bse-shp_NumberOfSharesPledgedOrOtherwiseEncumberedAbstract","DetailsOfSharesHeldByCustodianOrDRHolderLineItems","NumberOfSharesPledgedOrOtherwiseEncumberedAbstract","ShareholdingPatternCustodianOrDRHolder","xbrli:stringItemType",0,"xbrli:item",0,"duration","true","true"]
["in-bse-shp","PledgedOrEncumberedNumberOfShares","Pledged or encumbered - number of shares",null,1,"in-bse-shp_PledgedOrEncumberedNumberOfShares","NumberOfSharesPledgedOrOtherwiseEncumberedAbstract","PledgedOrEncumberedNumberOfShares","ShareholdingPatternCustodianOrDRHolder","xbrli:sharesItemType",0,"xbrli:item",0,"instant","false","true"]
["in-bse-shp","PledgedOrEncumberedSharesHeldAsPercentageOfTotalNumberOfShares","Pledged or encumbered shares held as percentage of total number of shares",null,2,"in-bse-shp_PledgedOrEncumberedSharesHeldAsPercentageOfTotalNumberOfShares","NumberOfSharesPledgedOrOtherwiseEncumberedAbstract","PledgedOrEncumberedSharesHeldAsPercentageOfTotalNumberOfShares","ShareholdingPatternCustodianOrDRHolder","num:percentItemType",0,"xbrli:item",0,"instant","false","true"]
["in-bse-shp","NumberOfEquitySharesHeldInDematerializedForm","Number of equity shares held in dematerialized form",null,17,"in-bse-shp_NumberOfEquitySharesHeldInDematerializedForm","DetailsOfSharesHeldByCustodianOrDRHolderLineItems","NumberOfEquitySharesHeldInDematerializedForm","ShareholdingPatternCustodianOrDRHolder","xbrli:sharesItemType",0,"xbrli:item",0,"instant","false","true"]
["in-bse-shp","DetailsOfSharesHeldByEmployeeBenefitsTrustsAbstract","Details of shares held by employee benefits trusts [Abstract]",null,null,"in-bse-shp_DetailsOfSharesHeldByEmployeeBenefitsTrustsAbstract",null,null,"ShareholdingPatternEmployeeBenefitsTrusts","xbrli:stringItemType",0,"xbrli:item",0,"duration","true","true"]
["in-bse-shp","DetailsOfSharesHeldByEmployeeBenefitsTrustsTable","Details of shares held by employee benefits trusts [Table]",null,1,"in-bse-shp_DetailsOfSharesHeldByEmployeeBenefitsTrustsTable","DetailsOfSharesHeldByEmployeeBenefitsTrustsAbstract","DetailsOfSharesHeldByEmployeeBenefitsTrustsTable","ShareholdingPatternEmployeeBenefitsTrusts","xbrli:stringItemType",0,"xbrldt:hypercubeItem",0,"duration","true","true"]
["in-bse-shp","DetailsOfSharesHeldByEmployeeBenefitsTrustsAxis","Details of shares held by employee benefits trusts [Axis]",null,1,"in-bse-shp_DetailsOfSharesHeldByEmployeeBenefitsTrustsAxis","DetailsOfSharesHeldByEmployeeBenefitsTrustsTable","DetailsOfSharesHeldByEmployeeBenefitsTrustsAxis","ShareholdingPatternEmployeeBenefitsTrusts","xbrli:stringItemType",0,"xbrldt:dimensionItem",0,"duration","true","true"]
[null,"DetailsOfSharesHeldByEmployeeBenefitsTrustsLineItems","Details of shares held by employee benefits trusts [Line items]",null,1,"in-bse-shp_DetailsOfSharesHeldByEmployeeBenefitsTrustsLineItems","DetailsOfSharesHeldByEmployeeBenefitsTrustsTable","DetailsOfSharesHeldByEmployeeBenefitsTrustsLineItems","ShareholdingPatternEmployeeBenefitsTrusts","xbrli:stringItemType",0,"xbrli:item",0,"duration","true","true"]
["in-bse-shp"]
["in-bse-shp","PermanentAccountNumberOfShareholder","Permanent account number of shareholder",null,2,"in-bse-shp_PermenantAccountNumberOfShareholder","DetailsOfSharesHeldByEmployeeBenefitsTrustsLineItems","PermenantAccountNumberOfShareholder","ShareholdingPatternEmployeeBenefitsTrusts","xbrli:PermenantAccountNumberOfShareholder",0,"xbrli:item",0,"duration","false","true"]
["in-bse-shp","NumberOfFullyPaidUpEquityShares","Number of fully paid up equity shares",null,3,"in-bse-shp_NumberOfFullyPaidUpEquityShares","DetailsOfSharesHeldByEmployeeBenefitsTrustsLineItems","NumberOfFullyPaidUpEquityShares","ShareholdingPatternEmployeeBenefitsTrusts","xbrli:sharesItemType",0,"xbrli:item",0,"instant","false","true"]
["in-bse-shp","NumberOfPartlyPaidUpEquityShares","Number of partly paid-up equity shares",null,4,"in-bse-shp_NumberOfPartlyPaidUpEquityShares","DetailsOfSharesHeldByEmployeeBenefitsTrustsLineItems","NumberOfPartlyPaidUpEquityShares","ShareholdingPatternEmployeeBenefitsTrusts","xbrli:sharesItemType",0,"xbrli:item",0,"instant","false","true"]
["in-bse-shp","NumberOfSharesUnderlyingOutstandingDepositoryReceipts","Number of shares underlying outstanding depository receipts",null,5,"in-bse-shp_NumberOfSharesUnderlyingOutstandingDepositoryReceipts","DetailsOfSharesHeldByEmployeeBenefitsTrustsLineItems","NumberOfSharesUnderlyingOutstandingDepositoryReceipts","ShareholdingPatternEmployeeBenefitsTrusts","xbrli:sharesItemType",0,"xbrli:item",0,"instant","false","true"]
["in-bse-shp","NumberOfVotingRightsHeldInEachClassOfSecuritiesAbstract","Number of voting rights held in each class of securities [Abstract]",null,8,"in-bse-shp_NumberOfVotingRightsHeldInEachClassOfSecuritiesAbstract","DetailsOfSharesHeldByEmployeeBenefitsTrustsLineItems","NumberOfVotingRightsHeldInEachClassOfSecuritiesAbstract","ShareholdingPatternEmployeeBenefitsTrusts","xbrli:stringItemType",0,"xbrli:item",0,"duration","true","true"]
["in-bse-shp","NumberOfVotingRightsHeldBySameClassOfSecurities","Number of voting rights held by same class of securities",null,1,"in-bse-shp_NumberOfVotingRightsHeldBySameClassOfSecurities","NumberOfVotingRightsHeldInEachClassOfSecuritiesAbstract","NumberOfVotingRightsHeldBySameClassOfSecurities","ShareholdingPatternEmployeeBenefitsTrusts","xbrli:decimalItemType",0,"xbrli:item",0,"instant","false","true"]
["in-bse-shp","NumberOfVotingRightsHeldByDifferentialVotingRights","Number of voting rights held by differential voting rights",null,2,"in-bse-shp_NumberOfVotingRightsHeldByDifferentialVotingRights","NumberOfVotingRightsHeldInEachClassOfSecuritiesAbstract","NumberOfVotingRightsHeldByDifferentialVotingRights","ShareholdingPatternEmployeeBenefitsTrusts","xbrli:decimalItemType",0,"xbrli:item",0,"instant","false","true"]
["in-bse-shp","NumberOfVotingRights","Total number of voting rights",null,3,"in-bse-shp_NumberOfVotingRights","NumberOfVotingRightsHeldInEachClassOfSecuritiesAbstract","NumberOfVotingRights","ShareholdingPatternEmployeeBenefitsTrusts","xbrli:decimalItemType",0,"xbrli:item",0,"instant","false","true"]
["in-bse-shp","NumberOfSharesUnderlyingOutstandingConvertibleSecurities","Number of shares underlying outstanding convertible securities",null,9,"in-bse-shp_NumberOfSharesUnderlyingOutstandingConvertibleSecurities","DetailsOfSharesHeldByEmployeeBenefitsTrustsLineItems","NumberOfSharesUnderlyingOutstandingConvertibleSecurities","ShareholdingPatternEmployeeBenefitsTrusts","xbrli:sharesItemType",0,"xbrli:item",0,"instant","false","true"]
["in-bse-shp","DetailsOfTheLockedInSharesAbstract","Details of the locked-in-shares [Abstract]",null,13,"in-bse-shp_DetailsOfTheLockedInSharesAbstract","DetailsOfSharesHeldByEmployeeBenefitsTrustsLineItems","DetailsOfTheLockedInSharesAbstract","ShareholdingPatternEmployeeBenefitsTrusts","xbrli:stringItemType",0,"xbrli:item",0,"duration","true","true"]
["in-bse-shp","NumberOfTheLockedInShares","Number of the locked-in-shares ",null,1,"in-bse-shp_NumberOfTheLockedInShares","DetailsOfTheLockedInSharesAbstract","NumberOfTheLockedInShares","ShareholdingPatternEmployeeBenefitsTrusts","xbrli:sharesItemType",0,"xbrli:item",0,"instant","false","true"]
["in-bse-shp","LockedInSharesAsAPercentageOfTotalNumberOfShares","Locked-in-shares as a percentage of total number of shares",null,2,"in-bse-shp_LockedInSharesAsAPercentageOfTotalNumberOfShares","DetailsOfTheLockedInSharesAbstract","LockedInSharesAsAPercentageOfTotalNumberOfShares","ShareholdingPatternEmployeeBenefitsTrusts","num:percentItemType",0,"xbrli:item",0,"instant","false","true"]
["in-bse-shp","NumberOfSharesPledgedOrOtherwiseEncumberedAbstract","Number of Shares pledged or otherwise encumbered [Abstract]",null,14,"in-bse-shp_NumberOfSharesPledgedOrOtherwiseEncumberedAbstract","DetailsOfSharesHeldByEmployeeBenefitsTrustsLineItems","NumberOfSharesPledgedOrOtherwiseEncumberedAbstract","ShareholdingPatternEmployeeBenefitsTrusts","xbrli:stringItemType",0,"xbrli:item",0,"duration","true","true"]
["in-bse-shp","PledgedOrEncumberedNumberOfShares","Pledged or encumbered - number of shares",null,1,"in-bse-shp_PledgedOrEncumberedNumberOfShares","NumberOfSharesPledgedOrOtherwiseEncumberedAbstract","PledgedOrEncumberedNumberOfShares","ShareholdingPatternEmployeeBenefitsTrusts","xbrli:sharesItemType",0,"xbrli:item",0,"instant","false","true"]
["in-bse-shp","PledgedOrEncumberedSharesHeldAsPercentageOfTotalNumberOfShares","Pledged or encumbered shares held as percentage of total number of shares",null,2,"in-bse-shp_PledgedOrEncumberedSharesHeldAsPercentageOfTotalNumberOfShares","NumberOfSharesPledgedOrOtherwiseEncumberedAbstract","PledgedOrEncumberedSharesHeldAsPercentageOfTotalNumberOfShares","ShareholdingPatternEmployeeBenefitsTrusts","num:percentItemType",0,"xbrli:item",0,"instant","false","true"]
["in-bse-shp","NumberOfEquitySharesHeldInDematerializedForm","Number of equity shares held in dematerialized form",null,15,"in-bse-shp_NumberOfEquitySharesHeldInDematerializedForm","DetailsOfSharesHeldByEmployeeBenefitsTrustsLineItems","NumberOfEquitySharesHeldInDematerializedForm","ShareholdingPatternEmployeeBenefitsTrusts","xbrli:sharesItemType",0,"xbrli:item",0,"instant","false","true"]
["in-bse-shp","DetailsOfSharesWhichRemainUnclaimedForPromoterAndPromoterGroupAbstract","Details of shares which remain unclaimed for promoter and promoter group [Abstract]",null,null,"in-bse-shp_DetailsOfSharesWhichRemainUnclaimedForPromoterAndPromoterGroupAbstract",null,null,"ShareholdingPatternAdditionalInformation","xbrli:stringItemType",0,"xbrli:item",0,"duration","true","true"]
["in-bse-shp","DetailsOfSharesWhichRemainUnclaimedForPromoterAndPromoterGroupTable","Details of shares which remain unclaimed for promoter and promoter group [Table]",null,1,"in-bse-shp_DetailsOfSharesWhichRemainUnclaimedForPromoterAndPromoterGroupTable","DetailsOfSharesWhichRemainUnclaimedForPromoterAndPromoterGroupAbstract","DetailsOfSharesWhichRemainUnclaimedForPromoterAndPromoterGroupTable","ShareholdingPatternAdditionalInformation","xbrli:stringItemType",0,"xbrldt:hypercubeItem",0,"duration","true","true"]
["in-bse-shp","DetailsOfPromoterAndPromoterGroupAxis","Details of shares which remain unclaimed for promoter and promoter group [Axis]",null,1,"in-bse-shp_DetailsOfPromoterAndPromoterGroupAxis","DetailsOfSharesWhichRemainUnclaimedForPromoterAndPromoterGroupTable","DetailsOfPromoterAndPromoterGroupAxis","ShareholdingPatternAdditionalInformation","xbrli:stringItemType",0,"xbrldt:dimensionItem",0,"duration","true","true"]
["in-bse-shp","DetailsOfSharesWhichRemainUnclaimedForPromoterAndPromoterGroupLineItems","Details of shares which remain unclaimed for promoter and promoter group [Line Items]",null,2,"in-bse-shp_DetailsOfSharesWhichRemainUnclaimedForPromoterAndPromoterGroupLineItems","DetailsOfSharesWhichRemainUnclaimedForPromoterAndPromoterGroupAbstract","DetailsOfSharesWhichRemainUnclaimedForPromoterAndPromoterGroupLineItems","ShareholdingPatternAdditionalInformation","xbrli:stringItemType",0,"xbrli:item",0,"duration","true","true"]
["in-bse-shp","NumberOfShareholders","Number of shareholders",null,1,"in-bse-shp_NumberOfShareholders","DetailsOfSharesWhichRemainUnclaimedForPromoterAndPromoterGroupLineItems","NumberOfShareholders","ShareholdingPatternAdditionalInformation","xbrli:decimalItemType",0,"xbrli:item",0,"instant","false","true"]
["in-bse-shp","OutstandingSharesHeldInDematOrUnclaimedSuspenseAccount","Outstanding shares held in demat or unclaimed suspense account",null,2,"in-bse-shp_OutstandingSharesHeldInDematOrUnclaimedSuspenseAccount","DetailsOfSharesWhichRemainUnclaimedForPromoterAndPromoterGroupLineItems","OutstandingSharesHeldInDematOrUnclaimedSuspenseAccount","ShareholdingPatternAdditionalInformation","xbrli:sharesItemType",0,"xbrli:item",0,"instant","false","true"]
["in-bse-shp","VotingRightsWhichAreFrozen","Voting rights which are frozen",null,3,"in-bse-shp_VotingRightsWhichAreFrozen","DetailsOfSharesWhichRemainUnclaimedForPromoterAndPromoterGroupLineItems","VotingRightsWhichAreFrozen","ShareholdingPatternAdditionalInformation","xbrli:decimalItemType",0,"xbrli:item",0,"instant","false","true"]
["in-bse-shp","DisclosureOfNotesOnSharesWhichRemainUnclaimedForPromoterAndPromoterGroupExplanatoryTextBlock","Disclosure of notes on shares which remain unclaimed for promoter and promoter group",null,4,"in-bse-shp_DisclosureOfNotesOnSharesWhichRemainUnclaimedForPromoterAndPromoterGroup","DetailsOfSharesWhichRemainUnclaimedForPromoterAndPromoterGroupLineItems","DisclosureOfNotesOnSharesWhichRemainUnclaimedForPromoterAndPromoterGroup","ShareholdingPatternAdditionalInformation","nonnum:textBlockItemType",0,"xbrli:item",0,"instant","false","true"]
["in-bse-shp","DetailsOfTheShareholdersActingAsPersonsInConcertForPublicAbstact",{"$nulls":3},"in-bse-shp_DetailsOfTheShareholdersActingAsPersonsInConcertForPublicAbstact",null,null,"ShareholdingPatternAdditionalInformation","xbrli:stringItemType",0,"xbrli:item",0,"duration","true","true"]
["in-bse-shp","DetailsOfTheShareholdersActingAsPersonsInConcertForPublicTable",null,null,1,"in-bse-shp_DetailsOfTheShareholdersActingAsPersonsInConcertForPublicTable","DetailsOfTheShareholdersActingAsPersonsInConcertForPublicAbstact","DetailsOfTheShareholdersActingAsPersonsInConcertForPublicTable","ShareholdingPatternAdditionalInformation","xbrli:stringItemType",0,"xbrldt:hypercubeItem",0,"duration","true","true"]
["in-bse-shp","DetailsOfTheShareholdersActingAsPersonsInConcertForPublicAxis","Details of the shareholders acting as persons in concert for public [Axis]",null,1,"in-bse-shp_DetailsOfTheShareholdersActingAsPersonsInConcertForPublicAxis","DetailsOfTheShareholdersActingAsPersonsInConcertForPublicTable","DetailsOfTheShareholdersActingAsPersonsInConcertForPublicAxis","ShareholdingPatternAdditionalInformation","xbrli:stringItemType",0,"xbrldt:dimensionItem",0,"duration","true","true"]
["in-bse-shp","DetailsOfTheShareholdersActingAsPersonsInConcertForPublicLineItems","Details of the shareholders acting as persons in concert for public [Line Items]",null,2,"in-bse-shp_DetailsOfTheShareholdersActingAsPersonsInConcertForPublicLineItems","DetailsOfTheShareholdersActingAsPersonsInConcertForPublicTable","DetailsOfTheShareholdersActingAsPersonsInConcertForPublicLineItems","ShareholdingPatternAdditionalInformation","xbrli:stringItemType",0,"xbrli:item",0,"duration","true","true"]
["in-bse-shp","NameOfThePAC","Name of the PAC",null,1,"in-bse-shp_NameOfThePAC","DetailsOfTheShareholdersActingAsPersonsInConcertForPublicLineItems","NameOfThePAC","ShareholdingPatternAdditionalInformation","xbrli:stringItemType",0,"xbrli:item",0,"duration","false","true"]
["in-bse-shp","NumberOfShares","Number of shares",null,2,"in-bse-shp_NumberOfShares","DetailsOfTheShareholdersActingAsPersonsInConcertForPublicLineItems","NumberOfShares","ShareholdingPatternAdditionalInformation","xbrli:sharesItemType",0,"xbrli:item",0,"instant","false","true"]
["in-bse-shp","PercentageOfShareholdingByPAC","Percentage of shareholding by PAC",null,3,"in-bse-shp_PercentageOfShareholdingByPAC","DetailsOfTheShareholdersActingAsPersonsInConcertForPublicLineItems","PercentageOfShareholdingByPAC","ShareholdingPatternAdditionalInformation","num:percentItemType",0,"xbrli:item",0,"instant","false","true"]
["in-bse-shp","DetailsOfSharesWhichRemainUnclaimedForPublicShareholdersAbstract","Details of shares which remain unclaimed for public shareholders [Abstract]",null,null,"in-bse-shp_DetailsOfSharesWhichRemainUnclaimedForPublicShareholdersAbstract",null,null,"ShareholdingPatternAdditionalInformation","xbrli:stringItemType",0,"xbrli:item",0,"duration","true","true"]
["in-bse-shp","DetailsOfSharesWhichRemainUnclaimedForPublicShareholdersTable","Details of shares which remain unclaimed for public shareholders [Table]",null,1,"in-bse-shp_DetailsOfSharesWhichRemainUnclaimedForPublicShareholdersTable","DetailsOfSharesWhichRemainUnclaimedForPublicShareholdersAbstract","DetailsOfSharesWhichRemainUnclaimedForPublicShareholdersTable","ShareholdingPatternAdditionalInformation","xbrli:stringItemType",0,"xbrldt:hypercubeItem",0,"duration","true","true"]
["in-bse-shp","DetailsOfSharesWhichRemainUnclaimedForPublicShareholdersAxis","Details of shares which remain unclaimed for public shareholders [Axis]",null,1,"in-bse-shp_DetailsOfSharesWhichRemainUnclaimedForPublicShareholdersAxis","DetailsOfSharesWhichRemainUnclaimedForPublicShareholdersTable","DetailsOfSharesWhichRemainUnclaimedForPublicShareholdersAxis","ShareholdingPatternAdditionalInformation","xbrli:stringItemType",0,"xbrldt:dimensionItem",0,"duration","true","true"]
["in-bse-shp","DetailsOfSharesWhichRemainUnclaimedForPublicShareholdersLineItems","Details of shares which remain unclaimed for public shareholders [Line Items]",null,2,"in-bse-shp_DetailsOfSharesWhichRemainUnclaimedForPublicShareholdersLineItems","DetailsOfSharesWhichRemainUnclaimedForPublicShareholdersAbstract","DetailsOfSharesWhichRemainUnclaimedForPublicShareholdersLineItems","ShareholdingPatternAdditionalInformation","xbrli:stringItemType",0,"xbrli:item",0,"duration","true","true"]
["in-bse-shp","NumberOfShareholders","Number of shareholders",null,1,"in-bse-shp_NumberOfShareholders","DetailsOfSharesWhichRemainUnclaimedForPublicShareholdersLineItems","NumberOfShareholders","ShareholdingPatternAdditionalInformation","xbrli:decimalItemType",0,"xbrli:item",0,"instant","false","true"]
["in-bse-shp","OutstandingSharesHeldInDematOrUnclaimedSuspenseAccount","Outstanding shares held in demat or unclaimed suspense account",null,2,"in-bse-shp_OutstandingSharesHeldInDematOrUnclaimedSuspenseAccount","DetailsOfSharesWhichRemainUnclaimedForPublicShareholdersLineItems","OutstandingSharesHeldInDematOrUnclaimedSuspenseAccount","ShareholdingPatternAdditionalInformation","xbrli:sharesItemType",0,"xbrli:item",0,"instant","false","true"]
["in-bse-shp","VotingRightsWhichAreFrozen","voting rights which are frozen",null,3,"in-bse-shp_VotingRightsWhichAreFrozen","DetailsOfSharesWhichRemainUnclaimedForPublicShareholdersLineItems","VotingRightsWhichAreFrozen","ShareholdingPatternAdditionalInformation","xbrli:decimalItemType",0,"xbrli:item",0,"instant","false","true"]
[null,"DisclosureOfNotesOnSharesWhichRemainUnclaimedForPublicShareholdersExplanatoryTextBlock","Disclosure of notes on shares which remain unclaimed for public shareholders",null,4,"in-bse-shp_DisclosureOfNotesOnSharesWhichRemainUnclaimedForPublicShareholders","DetailsOfSharesWhichRemainUnclaimedForPublicShareholdersLineItems","DisclosureOfNotesOnSharesWhichRemainUnclaimedForPublicShareholders","ShareholdingPatternAdditionalInformation","nonnum:textBlockItemType",0,"xbrli:item",0,"instant","false","true"]
[null,"WhetherACategoryOrMoreThan1PercentageOfShareHolding","Category or more than one percentage",{"$nulls":6},"xbrli:stringItemType",{"$nulls":3},"duration"]

{"sheet":"Shareholding Pattern","index":5,"n_rows":59,"n_cols":58,"rows_kept":59,"merged":[[8,4,10,4],[8,5,10,6],[8,7,10,7],[8,8,10,8],[8,9,10,9],[8,10,10,10],[8,11,10,11],[8,12,10,12],[8,13,8,16],[8,17,10,17],[8,18,10,18],[8,19,10,19],[8,20,10,20],[8,21,9,22],[8,23,9,24],[8,25,10,25],[9,13,9,15],[9,16,10,16],[11,5,11,24],[17,4,17,6],[24,4,24,6],[25,4,25,6],[28,5,28,25],[29,23,49,24],[38,4,38,6],[40,4,40,6],[48,4,48,6],[49,4,49,6],[52,5,52,25],[53,23,56,24],[55,4,55,6],[56,4,56,6],[57,4,57,6],[58,4,58,12],[58,13,58,14],[58,23,58,25]]}
[]
[{"$nulls":7},"Number of shareholders","Number of fully paid up equity shares","Number of partly paid-up equity shares","Number of shares underlying outstanding depository receipts","Total number of shares","Shareholding as a percentage of total number of shares held by promoters and public shareholders and custodians or DR holders","Number of voting rights held by same class of securities","Number of voting rights held by differential voting rights","Total Number of voting rights","Percentage of total number of voting rights","Number of shares underlying outstanding convertible securities","Number of warrant","Number of warrant and convertible securities","Total shareholding as a percentage assuming full conversion of convertible securities","Number of the locked-in-shares ","Locked-in-shares as a percentage of total number of shares","Pledged or encumbered - number of shares","Pledged or encumbered shares held as percentage of total number of shares","Number of equity shares held in dematerialized form"]
[]
[]
[]
[]
[]
[]
[{"$nulls":4},"Sr.","Category & Name\nof the\nShareholders\n(I)",null,"Nos. Of shareholders\n(III)","No. of fully paid up equity shares held\n(IV)","No. Of Partly paid-up equity shares held\n(V)","No. Of shares underlying Depository Receipts\n(VI)","Total nos. shares\nheld\n(VII) = (IV)+(V)+ (VI)","Shareholding as a % of total no. of shares (calculated as per SCRR, 1957)\n(VIII)\nAs a % of (A+B+C2)","Number of Voting Rights held in each class of securities\n(IX)",{"$nulls":3},"No. Of Shares Underlying Outstanding convertible securities\n(X)","No. of Shares Underlying Outstanding Warrants (Xi)","No. Of Shares Underlying Outstanding convertible securities and No. Of Warrants\n(Xi) (a)","Shareholding , as a % assuming full conversion of convertible securities ( as a percentage of diluted share capital)\n(XI)= (VII)+(X)\nAs a % of (A+B+C2)","Number of Locked in shares\n(XII)",null,"Number of Shares pledged or otherwise encumbered\n(XIII)",null,"Number of equity shares held in dematerialized form \n(XIV)"]
[{"$nulls":13},"No of Voting (XIV)\nRights",null,null,"Total as\na % of\nTotal\nVoting\nrights"]
[{"$nulls":13},"Class\neg:\nX","Class\neg:y","Total",{"$nulls":5},"No.\n(a)","As a % of total Shares held\n(b)","No.\n(a)","As a % of total Shares held\n(b)"]
[{"$nulls":4},"A","Table II - Statement showing shareholding pattern of the Promoter and Promoter Group"]
[{"$nulls":4},"(1)","Indian"]
[{"$nulls":4},"(a)","Individuals/Hindu undivided Family",null,{"$f":"IFERROR(IF(COUNT(IndHUF!$AD$13),IF(IndHUF!$AD$13=0,\"0\",IndHUF!$AD$13),\"\"),\"\")","v":265},{"$f":"+IF(COUNT(IndHUF!H281),IndHUF!H281,\"\")","v":11549400},{"$f":"+IF(COUNT(IndHUF!I281),IndHUF!I281,\"\")","v":""},{"$f":"+IF(COUNT(IndHUF!J281),IndHUF!J281,\"\")","v":""},{"$f":"+IF(COUNT(IndHUF!K281),IndHUF!K281,\"\")","v":11549400},{"$f":"+IFERROR(IF(COUNT(L14),ROUND(L14/'Shareholding Pattern'!$L$57*100,2),\"\"),0)","v":52.47},{"$f":"+IF(COUNT(+IndHUF!M281),SUM(+IndHUF!M281),\"\")","v":{"v":11549400,"d":"11549400.00"}},{"$f":"+IF(COUNT(+IndHUF!N281),SUM(+IndHUF!N281),\"\")","v":""},{"$f":"+IF(COUNT(IndHUF!O281),IndHUF!O281,\"\")","v":11549400},{"$f":"+IF(COUNT(IndHUF!P281),IndHUF!P281,\"\")","v":52.47},{"$f":"+IF(COUNT(IndHUF!Q281),IndHUF!Q281,\"\")","v":""},{"$f":"+IF(COUNT(IndHUF!R281),IndHUF!R281,\"\")","v":""},{"$f":"+IF(COUNT(IndHUF!S281),IndHUF!S281,\"\")","v":""},{"$f":"+IFERROR(IF(COUNT(L14,T14),ROUND(SUM(L14,T14)/SUM('Shareholding Pattern'!$L$57,'Shareholding Pattern'!$T$57)*100,2),\"\"),0)","v":52.47},{"$f":"+IF(COUNT(IndHUF!U281),IndHUF!U281,\"\")","v":""},{"$f":"+IFERROR(IF(COUNT(V14),ROUND(SUM(V14)/SUM(L14)*100,2),\"\"),0)","v":""},{"$f":"+IF(COUNT(IndHUF!W281),IndHUF!W281,\"\")","v":""},{"$f":"+IFERROR(IF(COUNT(X14),ROUND(SUM(X14)/SUM(L14)*100,2),\"\"),0)","v":""},{"$f":"+IF(COUNT(IndHUF!Y281),IndHUF!Y281,\"\")","v":0},{"$nulls":17},"Individuals or Hindu undivided family [Member]",{"$nulls":5},"IndHUF",null,"IndividualsOrHUFDomain",{"$nulls":5},"DetailsSharesHeldByIndividualsOrHUFAxis"]
[{"$nulls":4},"(b)","Central  Government/ State Government(s)",null,{"$f":"IFERROR(IF(COUNT(CGAndSG!$AD$13),IF(CGAndSG!$AD$13=0,\"0\",CGAndSG!$AD$13),\"\"),\"\")","v":""},{"$f":"IFERROR(IF(COUNT(CGAndSG!H16),(CGAndSG!H16),\"\"),\"\")","v":""},{"$f":"IFERROR(IF(COUNT(CGAndSG!I16),(CGAndSG!I16),\"\"),\"\")","v":""},{"$f":"IFERROR(IF(COUNT(CGAndSG!J16),(CGAndSG!J16),\"\"),\"\")","v":""},{"$f":"IFERROR(IF(COUNT(CGAndSG!K16),(CGAndSG!K16),\"\"),\"\")","v":""},{"$f":"+IFERROR(IF(COUNT(L15),ROUND(L15/'Shareholding Pattern'!$L$57*100,2),\"\"),0)","v":""},{"$f":"IFERROR(IF(COUNT(CGAndSG!M16),(CGAndSG!M16),\"\"),\"\")","v":""},{"$f":"IFERROR(IF(COUNT(CGAndSG!N16),(CGAndSG!N16),\"\"),\"\")","v":""},{"$f":"IFERROR(IF(COUNT(CGAndSG!O16),(CGAndSG!O16),\"\"),\"\")","v":""},{"$f":"IFERROR(IF(COUNT(CGAndSG!P16),(CGAndSG!P16),\"\"),0)","v":""},{"$f":"IFERROR(IF(COUNT(CGAndSG!Q16),(CGAndSG!Q16),\"\"),\"\")","v":""},{"$f":"IFERROR(IF(COUNT(CGAndSG!R16),(CGAndSG!R16),\"\"),\"\")","v":""},{"$f":"IFERROR(IF(COUNT(CGAndSG!S16),(CGAndSG!S16),\"\"),\"\")","v":""},{"$f":"+IFERROR(IF(COUNT(L15,T15),ROUND(SUM(L15,T15)/SUM('Shareholding Pattern'!$L$57,'Shareholding Pattern'!$T$57)*100,2),\"\"),0)","v":""},{"$f":"IFERROR(IF(COUNT(CGAndSG!U16),(CGAndSG!U16),\"\"),\"\")","v":""},{"$f":"+IFERROR(IF(COUNT(V15),ROUND(SUM(V15)/SUM(L15)*100,2),\"\"),0)","v":""},{"$f":"IFERROR(IF(COUNT(CGAndSG!W16),(CGAndSG!W16),\"\"),\"\")","v":""},{"$f":"+IFERROR(IF(COUNT(X15),ROUND(SUM(X15)/SUM(L15)*100,2),\"\"),0)","v":""},{"$f":"IFERROR(IF(COUNT(CGAndSG!Y16),(CGAndSG!Y16),\"\"),\"\")","v":""},{"$nulls":17},"Central government or State government(s) [Member]",{"$nulls":5},"CGAndSG",null,"CentralGovernmentOrStateGovernmentsDomain",{"$nulls":5},"DetailsOfSharesHeldByCentralGovernmentOrStateGovernmentsAxis"]
[{"$nulls":4},"(c)","Financial  Institutions/ Banks",null,{"$f":"IFERROR(IF(COUNT(Banks!$AD$13),IF(Banks!$AD$13=0,\"0\",Banks!$AD$13),\"\"),\"\")","v":""},{"$f":"IFERROR(IF(COUNT(Banks!H16),(Banks!H16),\"\"),\"\")","v":""},{"$f":"IFERROR(IF(COUNT(Banks!I16),(Banks!I16),\"\"),\"\")","v":""},{"$f":"IFERROR(IF(COUNT(Banks!J16),(Banks!J16),\"\"),\"\")","v":""},{"$f":"IFERROR(IF(COUNT(Banks!K16),(Banks!K16),\"\"),\"\")","v":""},{"$f":"+IFERROR(IF(COUNT(L16),ROUND(L16/'Shareholding Pattern'!$L$57*100,2),\"\"),0)","v":""},{"$f":"IFERROR(IF(COUNT(Banks!M16),(Banks!M16),\"\"),\"\")","v":""},{"$f":"IFERROR(IF(COUNT(Banks!N16),(Banks!N16),\"\"),\"\")","v":""},{"$f":"IFERROR(IF(COUNT(Banks!O16),(Banks!O16),\"\"),\"\")","v":""},{"$f":"IFERROR(IF(COUNT(Banks!P16),(Banks!P16),\"\"),0)","v":""},{"$f":"IFERROR(IF(COUNT(Banks!Q16),(Banks!Q16),\"\"),\"\")","v":""},{"$f":"IFERROR(IF(COUNT(Banks!R16),(Banks!R16),\"\"),\"\")","v":""},{"$f":"IFERROR(IF(COUNT(Banks!S16),(Banks!S16),\"\"),\"\")","v":""},{"$f":"+IFERROR(IF(COUNT(L16,T16),ROUND(SUM(L16,T16)/SUM('Shareholding Pattern'!$L$57,'Shareholding Pattern'!$T$57)*100,2),\"\"),0)","v":""},{"$f":"IFERROR(IF(COUNT(Banks!U16),(Banks!U16),\"\"),\"\")","v":""},"",{"$f":"IFERROR(IF(COUNT(Banks!W16),(Banks!W16),\"\"),\"\")","v":""},"",{"$f":"IFERROR(IF(COUNT(Banks!Y16),(Banks!Y16),\"\"),\"\")","v":""},{"$nulls":17},"Indian - financial institutions or banks [Member]",{"$nulls":5},"Banks",null,"IndianFinancialInstitutionsOrBanksDomain",{"$nulls":5},"DetailsOfSharesHeldByIndianFinancialInstitutionsOrBanksAxis"]
[{"$nulls":4},"(d)","Any Other (specify)",null,{"$f":"IFERROR(IF(COUNT(OtherIND!$AD$13),IF(OtherIND!$AD$13=0,\"0\",OtherIND!$AD$13),\"\"),\"\")","v":1},{"$f":"IFERROR(IF(COUNT(OtherIND!J17),(OtherIND!J17),\"\"),\"\")","v":100},{"$f":"IFERROR(IF(COUNT(OtherIND!K17),(OtherIND!K17),\"\"),\"\")","v":""},{"$f":"IFERROR(IF(COUNT(OtherIND!L17),(OtherIND!L17),\"\"),\"\")","v":""},{"$f":"IFERROR(IF(COUNT(OtherIND!M17),(OtherIND!M17),\"\"),\"\")","v":100},{"$f":"+IFERROR(IF(COUNT(L17),ROUND(L17/'Shareholding Pattern'!$L$57*100,2),\"\"),0)","v":{"v":0,"d":"0.00"}},{"$f":"IFERROR(IF(COUNT(OtherIND!O17),(OtherIND!O17),\"\"),\"\")","v":{"v":100,"d":"100.00"}},{"$f":"IFERROR(IF(COUNT(OtherIND!P17),(OtherIND!P17),\"\"),\"\")","v":""},{"$f":"IFERROR(IF(COUNT(OtherIND!Q17),(OtherIND!Q17),\"\"),\"\")","v":100},{"$f":"IFERROR(IF(COUNT(OtherIND!R17),(OtherIND!R17),\"\"),0)","v":{"v":0,"d":"0.00"}},{"$f":"IFERROR(IF(COUNT(OtherIND!S17),(OtherIND!S17),\"\"),\"\")","v":""},{"$f":"IFERROR(IF(COUNT(OtherIND!T17),(OtherIND!T17),\"\"),\"\")","v":""},{"$f":"IFERROR(IF(COUNT(OtherIND!U17),(OtherIND!U17),\"\"),\"\")","v":""},{"$f":"+IFERROR(IF(COUNT(L17,T17),ROUND(SUM(L17,T17)/SUM('Shareholding Pattern'!$L$57,'Shareholding Pattern'!$T$57)*100,2),\"\"),0)","v":{"v":0,"d":"0.00"}},{"$f":"IFERROR(IF(COUNT(OtherIND!W17),(OtherIND!W17),\"\"),\"\")","v":""},"",{"$f":"IFERROR(IF(COUNT(OtherIND!Y17),(OtherIND!Y17),\"\"),\"\")","v":""},"",{"$f":"IFERROR(IF(COUNT(OtherIND!AA17),(OtherIND!AA17),\"\"),\"\")","v":0},{"$nulls":17},"Other Indian shareholders [Member]",{"$nulls":5},"OtherIND",null,"OthersIndianShareholdersDomain",{"$nulls":5},"DetailsOfSharesHeldByOthersIndianShareholdersAxis"]
[{"$nulls":4},"Sub-Total (A)(1)",null,null,{"$f":"+IFERROR(IF(COUNT(H14:H17),ROUND(SUM(H14:H17),0),\"\"),\"\")","v":266},{"$f":"+IFERROR(IF(COUNT(I14:I17),ROUND(SUM(I14:I17),0),\"\"),\"\")","v":11549500},"","",11549500,{"$f":"+IFERROR(IF(COUNT(L18),ROUND(L18/'Shareholding Pattern'!$L$57*100,2),\"\"),0)","v":52.47},{"v":11549500,"d":"11549500.00"},"",11549500,{"$f":"IFERROR(IF(COUNT(P18),ROUND(P18/$P$58*100,2),\"\"),0)","v":52.47},"","","",{"$f":"+IFERROR(IF(COUNT(L18,T18),ROUND(SUM(L18,T18)/SUM('Shareholding Pattern'!$L$57,'Shareholding Pattern'!$T$57)*100,2),\"\"),0)","v":52.47},"",{"$f":"+IFERROR(IF(COUNT(V18),ROUND(SUM(V18)/SUM(L18)*100,2),\"\"),0)","v":""},"",{"$f":"+IFERROR(IF(COUNT(X18),ROUND(SUM(X18)/SUM(L18)*100,2),\"\"),0)","v":""},0,{"$nulls":17},"Indian [Member]",{"$nulls":5},"Individuals",null,"NonResidentIndividualsOrForeignIndividualsDomain",{"$nulls":5},"DetailsOfSharesHeldByNonResidentIndividualsOrForeignIndividualsAxis"]
[{"$nulls":4},"(2)","Foreign",{"$nulls":43},"Government",null,"ForeignGovernmentDomain",{"$nulls":5},"DetailsOfSharesHeldByForeignGovernmentAxis"]
[{"$nulls":4},"(a)","Individuals (NonResident Individuals/ Foreign Individuals)",null,{"$f":"IFERROR(IF(COUNT(Individuals!$AD$13),IF(Individuals!$AD$13=0,\"0\",Individuals!$AD$13),\"\"),\"\")","v":118},{"$f":"IFERROR(IF(COUNT(Individuals!H134),(Individuals!H134),\"\"),\"\")","v":448000},{"$f":"IFERROR(IF(COUNT(Individuals!I134),(Individuals!I134),\"\"),\"\")","v":""},{"$f":"IFERROR(IF(COUNT(Individuals!J134),(Individuals!J134),\"\"),\"\")","v":""},{"$f":"IFERROR(IF(COUNT(Individuals!K134),(Individuals!K134),\"\"),\"\")","v":448000},{"$f":"+IFERROR(IF(COUNT(L20),ROUND(L20/'Shareholding Pattern'!$L$57*100,2),\"\"),0)","v":2.04},{"$f":"IFERROR(IF(COUNT(Individuals!M134),(Individuals!M134),\"\"),\"\")","v":{"v":448000,"d":"448000.00"}},{"$f":"IFERROR(IF(COUNT(Individuals!N134),(Individuals!N134),\"\"),\"\")","v":""},{"$f":"IFERROR(IF(COUNT(Individuals!O134),(Individuals!O134),\"\"),\"\")","v":448000},{"$f":"IFERROR(IF(COUNT(Individuals!P134),(Individuals!P134),\"\"),0)","v":2.04},{"$f":"IFERROR(IF(COUNT(Individuals!Q134),(Individuals!Q134),\"\"),\"\")","v":""},{"$f":"IFERROR(IF(COUNT(Individuals!R134),(Individuals!R134),\"\"),\"\")","v":""},{"$f":"IFERROR(IF(COUNT(Individuals!S134),(Individuals!S134),\"\"),\"\")","v":""},{"$f":"+IFERROR(IF(COUNT(L20,T20),ROUND(SUM(L20,T20)/SUM('Shareholding Pattern'!$L$57,'Shareholding Pattern'!$T$57)*100,2),\"\"),0)","v":2.04},{"$f":"IFERROR(IF(COUNT(Individuals!U134),(Individuals!U134),\"\"),\"\")","v":""},{"$f":"+IFERROR(IF(COUNT(V20),ROUND(SUM(V20)/SUM(L20)*100,2),\"\"),0)","v":""},{"$f":"IFERROR(IF(COUNT(Individuals!W134),(Individuals!W134),\"\"),\"\")","v":""},{"$f":"+IFERROR(IF(COUNT(X20),ROUND(SUM(X20)/SUM(L20)*100,2),\"\"),0)","v":""},{"$f":"IFERROR(IF(COUNT(Individuals!Y134),(Individuals!Y134),\"\"),\"\")","v":0},{"$nulls":17},"Non-resident individuals or foreign individuals [Member]",{"$nulls":5},"Institutions",null,"ForeignInstitutionsDomain",{"$nulls":5},"DetailsOfSharesHeldByForeignInstitutionsAxis"]
[{"$nulls":4},"(b)","Government",null,{"$f":"IFERROR(IF(COUNT(Government!$AD$13),IF(Government!$AD$13=0,\"0\",Government!$AD$13),\"\"),\"\")","v":""},{"$f":"IFERROR(IF(COUNT(Government!H16),(Government!H16),\"\"),\"\")","v":""},{"$f":"IFERROR(IF(COUNT(Government!I16),(Government!I16),\"\"),\"\")","v":""},{"$f":"IFERROR(IF(COUNT(Government!J16),(Government!J16),\"\"),\"\")","v":""},{"$f":"IFERROR(IF(COUNT(Government!K16),(Government!K16),\"\"),\"\")","v":""},{"$f":"+IFERROR(IF(COUNT(L21),ROUND(L21/'Shareholding Pattern'!$L$57*100,2),\"\"),0)","v":""},{"$f":"IFERROR(IF(COUNT(Government!M16),(Government!M16),\"\"),\"\")","v":""},{"$f":"IFERROR(IF(COUNT(Government!N16),(Government!N16),\"\"),\"\")","v":""},{"$f":"IFERROR(IF(COUNT(Government!O16),(Government!O16),\"\"),\"\")","v":""},{"$f":"IFERROR(IF(COUNT(Government!P16),(Government!P16),\"\"),0)","v":""},{"$f":"IFERROR(IF(COUNT(Government!Q16),(Government!Q16),\"\"),\"\")","v":""},{"$f":"IFERROR(IF(COUNT(Government!R16),(Government!R16),\"\"),\"\")","v":""},{"$f":"IFERROR(IF(COUNT(Government!S16),(Government!S16),\"\"),\"\")","v":""},{"$f":"+IFERROR(IF(COUNT(L21,T21),ROUND(SUM(L21,T21)/SUM('Shareholding Pattern'!$L$57,'Shareholding Pattern'!$T$57)*100,2),\"\"),0)","v":""},{"$f":"IFERROR(IF(COUNT(Government!U16),(Government!U16),\"\"),\"\")","v":""},"",{"$f":"IFERROR(IF(COUNT(Government!W16),(Government!W16),\"\"),\"\")","v":""},"",{"$f":"IFERROR(IF(COUNT(Government!Y16),(Government!Y16),\"\"),\"\")","v":""},{"$nulls":17},"Foreign - Government [Member]",{"$nulls":5},"FPIPromoter",null,"ForeignPortfolioInvestorDomain",{"$nulls":5},"DetailsOfSharesHeldByForeignPortfolioInvestorAxis"]
[{"$nulls":4},"(c)","Institutions",null,{"$f":"IFERROR(IF(COUNT(Institutions!$AD$13),IF(Institutions!$AD$13=0,\"0\",Institutions!$AD$13),\"\"),\"\")","v":""},{"$f":"IFERROR(IF(COUNT(Institutions!H16),(Institutions!H16),\"\"),\"\")","v":""},{"$f":"IFERROR(IF(COUNT(Institutions!I16),(Institutions!I16),\"\"),\"\")","v":""},{"$f":"IFERROR(IF(COUNT(Institutions!J16),(Institutions!J16),\"\"),\"\")","v":""},{"$f":"IFERROR(IF(COUNT(Institutions!K16),(Institutions!K16),\"\"),\"\")","v":""},{"$f":"+IFERROR(IF(COUNT(L22),ROUND(L22/'Shareholding Pattern'!$L$57*100,2),\"\"),0)","v":""},{"$f":"IFERROR(IF(COUNT(Institutions!M16),(Institutions!M16),\"\"),\"\")","v":""},{"$f":"IFERROR(IF(COUNT(Institutions!N16),(Institutions!N16),\"\"),\"\")","v":""},{"$f":"IFERROR(IF(COUNT(Institutions!O16),(Institutions!O16),\"\"),\"\")","v":""},{"$f":"IFERROR(IF(COUNT(Institutions!P16),(Institutions!P16),\"\"),0)","v":""},{"$f":"IFERROR(IF(COUNT(Institutions!Q16),(Institutions!Q16),\"\"),\"\")","v":""},{"$f":"IFERROR(IF(COUNT(Institutions!R16),(Institutions!R16),\"\"),\"\")","v":""},{"$f":"IFERROR(IF(COUNT(Institutions!S16),(Institutions!S16),\"\"),\"\")","v":""},{"$f":"+IFERROR(IF(COUNT(L22,T22),ROUND(SUM(L22,T22)/SUM('Shareholding Pattern'!$L$57,'Shareholding Pattern'!$T$57)*100,2),\"\"),0)","v":""},{"$f":"IFERROR(IF(COUNT(Institutions!U16),(Institutions!U16),\"\"),\"\")","v":""},"",{"$f":"IFERROR(IF(COUNT(Institutions!W16),(Institutions!W16),\"\"),\"\")","v":""},"",{"$f":"IFERROR(IF(COUNT(Institutions!Y16),(Institutions!Y16),\"\"),\"\")","v":""},{"$nulls":17},"Foreign - institutions [Member]",{"$nulls":5},"OtherForeign",null,"OtherForeignShareholdersDomain",{"$nulls":5},"DetailsOfSharesHeldByOtherForeignShareholdersAxis"]
[{"$nulls":4},"(d)","Foreign Portfolio Investor",null,{"$f":"IFERROR(IF(COUNT(FPIPromoter!$AD$13),IF(FPIPromoter!$AD$13=0,\"0\",FPIPromoter!$AD$13),\"\"),\"\")","v":""},{"$f":"IFERROR(IF(COUNT(FPIPromoter!H16),(FPIPromoter!H16),\"\"),\"\")","v":""},{"$f":"IFERROR(IF(COUNT(FPIPromoter!I16),(FPIPromoter!I16),\"\"),\"\")","v":""},{"$f":"IFERROR(IF(COUNT(FPIPromoter!J16),(FPIPromoter!J16),\"\"),\"\")","v":""},{"$f":"IFERROR(IF(COUNT(FPIPromoter!K16),(FPIPromoter!K16),\"\"),\"\")","v":""},{"$f":"+IFERROR(IF(COUNT(L23),ROUND(L23/'Shareholding Pattern'!$L$57*100,2),\"\"),0)","v":""},{"$f":"IFERROR(IF(COUNT(FPIPromoter!M16),(FPIPromoter!M16),\"\"),\"\")","v":""},{"$f":"IFERROR(IF(COUNT(FPIPromoter!N16),(FPIPromoter!N16),\"\"),\"\")","v":""},{"$f":"IFERROR(IF(COUNT(FPIPromoter!O16),(FPIPromoter!O16),\"\"),\"\")","v":""},{"$f":"IFERROR(IF(COUNT(FPIPromoter!P16),(FPIPromoter!P16),\"\"),0)","v":""},{"$f":"IFERROR(IF(COUNT(FPIPromoter!Q16),(FPIPromoter!Q16),\"\"),\"\")","v":""},{"$f":"IFERROR(IF(COUNT(FPIPromoter!R16),(FPIPromoter!R16),\"\"),\"\")","v":""},{"$f":"IFERROR(IF(COUNT(FPIPromoter!S16),(FPIPromoter!S16),\"\"),\"\")","v":""},{"$f":"+IFERROR(IF(COUNT(L23,T23),ROUND(SUM(L23,T23)/SUM('Shareholding Pattern'!$L$57,'Shareholding Pattern'!$T$57)*100,2),\"\"),0)","v":""},{"$f":"IFERROR(IF(COUNT(FPIPromoter!U16),(FPIPromoter!U16),\"\"),\"\")","v":""},"",{"$f":"IFERROR(IF(COUNT(FPIPromoter!W16),(FPIPromoter!W16),\"\"),\"\")","v":""},"",{"$f":"IFERROR(IF(COUNT(FPIPromoter!Y16),(FPIPromoter!Y16),\"\"),\"\")","v":""},{"$nulls":17},"Foreign portfolio investor [Member]",{"$nulls":5},"MutuaFund",null,"MutualFundsOrUtiDomain",{"$nulls":5},"DetailsOfSharesHeldByMutualFundsOrUtiAxis"]
[{"$nulls":4},"(e)","Any Other (specify)",null,{"$f":"IFERROR(IF(COUNT(OtherForeign!$AD$13),IF(OtherForeign!$AD$13=0,\"0\",OtherForeign!$AD$13),\"\"),\"\")","v":""},{"$f":"IFERROR(IF(COUNT(OtherForeign!J16),(OtherForeign!J16),\"\"),\"\")","v":""},{"$f":"IFERROR(IF(COUNT(OtherForeign!K16),(OtherForeign!K16),\"\"),\"\")","v":""},{"$f":"IFERROR(IF(COUNT(OtherForeign!L16),(OtherForeign!L16),\"\"),\"\")","v":""},{"$f":"IFERROR(IF(COUNT(OtherForeign!M16),(OtherForeign!M16),\"\"),\"\")","v":""},{"$f":"+IFERROR(IF(COUNT(L24),ROUND(L24/'Shareholding Pattern'!$L$57*100,2),\"\"),0)","v":""},{"$f":"IFERROR(IF(COUNT(OtherForeign!O16),(OtherForeign!O16),\"\"),\"\")","v":""},{"$f":"IFERROR(IF(COUNT(OtherForeign!P16),(OtherForeign!P16),\"\"),\"\")","v":""},{"$f":"IFERROR(IF(COUNT(OtherForeign!Q16),(OtherForeign!Q16),\"\"),\"\")","v":""},{"$f":"IFERROR(IF(COUNT(OtherForeign!R16),(OtherForeign!R16),\"\"),0)","v":""},{"$f":"IFERROR(IF(COUNT(OtherForeign!S16),(OtherForeign!S16),\"\"),\"\")","v":""},{"$f":"IFERROR(IF(COUNT(OtherForeign!T16),(OtherForeign!T16),\"\"),\"\")","v":""},{"$f":"IFERROR(IF(COUNT(OtherForeign!U16),(OtherForeign!U16),\"\"),\"\")","v":""},{"$f":"+IFERROR(IF(COUNT(L24,T24),ROUND(SUM(L24,T24)/SUM('Shareholding Pattern'!$L$57,'Shareholding Pattern'!$T$57)*100,2),\"\"),0)","v":""},{"$f":"IFERROR(IF(COUNT(OtherForeign!W16),(OtherForeign!W16),\"\"),\"\")","v":""},"",{"$f":"IFERROR(IF(COUNT(OtherForeign!Y16),(OtherForeign!Y16),\"\"),\"\")","v":""},"",{"$f":"IFERROR(IF(COUNT(OtherForeign!AA16),(OtherForeign!AA16),\"\"),\"\")","v":""},{"$nulls":17},"Other foreign shareholders [Member]",{"$nulls":5},"VentureCap",null,"VentureCapitalFundsDomain",{"$nulls":5},"DetailsOfSharesHeldByVentureCapitalFundsAxis"]
[{"$nulls":4},"Sub-Total (A)(2)",null,null,{"$f":"+IFERROR(IF(COUNT(H20:H24),ROUND(SUM(H20:H24),0),\"\"),\"\")","v":118},{"$f":"+IFERROR(IF(COUNT(I20:I24),ROUND(SUM(I20:I24),0),\"\"),\"\")","v":448000},"","",448000,{"$f":"+IFERROR(IF(COUNT(L25),ROUND(L25/'Shareholding Pattern'!$L$57*100,2),\"\"),0)","v":2.04},{"v":448000,"d":"448000.00"},"",448000,{"$f":"IFERROR(IF(COUNT(P25),ROUND(P25/$P$58*100,2),\"\"),0)","v":2.04},"","","",{"$f":"+IFERROR(IF(COUNT(L25,T25),ROUND(SUM(L25,T25)/SUM('Shareholding Pattern'!$L$57,'Shareholding Pattern'!$T$57)*100,2),\"\"),0)","v":2.04},"","","","",0,{"$nulls":17},"Foreign [Member]",{"$nulls":5},"AIF",null,"AlternativeInvestmentFundsDomain",{"$nulls":5},"DetailsOfSharesHeldByAlternativeInvestmentFundsAxis"]
[{"$nulls":4},"Total Shareholding of Promoter and Promoter Group (A)=(A)(1)+(A)(2) ",null,null,{"$f":"+IFERROR(IF(COUNT(H18,H25),ROUND(SUM(H18,H25),0),\"\"),\"\")","v":384},11997500,"","",11997500,{"$f":"+IFERROR(IF(COUNT(L26),ROUND(L26/'Shareholding Pattern'!$L$57*100,2),\"\"),0)","v":{"v":54.5,"d":"54.50"}},{"v":11997500,"d":"11997500.00"},"",11997500,{"$f":"IFERROR(IF(COUNT(P26),ROUND(P26/$P$58*100,2),\"\"),0)","v":{"v":54.5,"d":"54.50"}},"","","",{"$f":"+IFERROR(IF(COUNT(L26,T26),ROUND(SUM(L26,T26)/SUM('Shareholding Pattern'!$L$57,'Shareholding Pattern'!$T$57)*100,2),\"\"),0)","v":{"v":54.5,"d":"54.50"}},"",{"$f":"+IFERROR(IF(COUNT(V26),ROUND(SUM(V26)/SUM(L26)*100,2),\"\"),0)","v":""},"","",0,{"$nulls":17},"Shareholding of promoter and promoter group [Member]",{"$nulls":5},"FVC",null,"ForeignVentureCapitalInvestorsDomain",{"$nulls":5},"DetailsOfSharesHeldByForeignVentureCapitalInvestorsAxis"]
[{"$nulls":5},"Details of Shares which remain unclaimed for Promoter & Promoter Group",{"$nulls":43},"FPI_Insti",null,"InstitutionsForeignPortfolioInvestorDomain",{"$nulls":5},"DetailsOfSharesHeldByInstitutionsForeignPortfolioInvestorAxis"]
[{"$nulls":4},"B","Table III - Statement showing shareholding pattern of the Public shareholder",null,"Note : Kindly show details of shareholders having more than one percentage of total no of shares. Please refer software manual. ",{"$nulls":41},"Bank_Insti",null,"FinancialInstitutionOrBanksDomain",{"$nulls":5},"DetailsOfSharesHeldByFinancialInstitutionOrBanksAxis"]
[{"$nulls":4},"(1)","Institutions",{"$nulls":43},"Insurance",null,"InsuranceCompaniesDomain",{"$nulls":5},"DetailsOfSharesHeldByInsuranceCompaniesAxis"]
[{"$nulls":4},"(a)","Mutual Funds",{"$nulls":5},{"$f":"+IFERROR(IF(COUNT(I30:K30),ROUND(SUM(I30:K30),0),\"\"),\"\")","v":""},{"$f":"+IFERROR(IF(COUNT(L30),ROUND(L30/'Shareholding Pattern'!$L$57*100,2),\"\"),\"\")","v":""},{"$f":"IF(I30=\"\",\"\",I30)","v":""},null,{"$f":"+IFERROR(IF(COUNT(N30:O30),ROUND(SUM(N30:O30),0),\"\"),\"\")","v":""},{"$f":"+IFERROR(IF(COUNT(P30),ROUND(P30/'Shareholding Pattern'!$P$58*100,2),\"\"),\"\")","v":""},null,null,{"$f":"+IFERROR(IF(COUNT(R30:S30),ROUND(SUM(R30:S30),0),\"\"),\"\")","v":""},{"$f":"+IFERROR(IF(COUNT(L30,T30),ROUND(SUM(L30,T30)/SUM('Shareholding Pattern'!$L$57,'Shareholding Pattern'!$T$57)*100,2),\"\"),\"\")","v":""},null,{"$f":"+IFERROR(IF(COUNT(V30),ROUND(SUM(V30)/SUM(L30)*100,2),\"\"),0)","v":""},{"$nulls":20},"Mutual funds or uti [Member]",{"$nulls":5},"Pension",null,"ProvidentFundsOrPensionFundsDomain",{"$nulls":5},"DetailsOfSharesHeldByProvidentFundsOrPensionFundsAxis"]
[{"$nulls":4},"(b)","Venture Capital Funds",{"$nulls":5},{"$f":"+IFERROR(IF(COUNT(I31:K31),ROUND(SUM(I31:K31),0),\"\"),\"\")","v":""},{"$f":"+IFERROR(IF(COUNT(L31),ROUND(L31/'Shareholding Pattern'!$L$57*100,2),\"\"),\"\")","v":""},"",null,{"$f":"+IFERROR(IF(COUNT(N31:O31),ROUND(SUM(N31:O31),0),\"\"),\"\")","v":""},{"$f":"+IFERROR(IF(COUNT(P31),ROUND(P31/'Shareholding Pattern'!$P$58*100,2),\"\"),\"\")","v":""},null,null,{"$f":"+IFERROR(IF(COUNT(R31:S31),ROUND(SUM(R31:S31),0),\"\"),\"\")","v":""},{"$f":"+IFERROR(IF(COUNT(L31,T31),ROUND(SUM(L31,T31)/SUM('Shareholding Pattern'!$L$57,'Shareholding Pattern'!$T$57)*100,2),\"\"),\"\")","v":""},null,"",{"$nulls":20},"Venture capital funds [Member]",{"$nulls":5},"Other_Insti",null,"OtherInstitutionsDomain",{"$nulls":5},"DetailsOfSharesHeldByOtherInstitutionsAxis"]
[{"$nulls":4},"(c)","Alternate Investment Funds",{"$nulls":5},"",{"$f":"+IFERROR(IF(COUNT(L32),ROUND(L32/'Shareholding Pattern'!$L$57*100,2),\"\"),\"\")","v":""},"",null,"",{"$f":"+IFERROR(IF(COUNT(P32),ROUND(P32/'Shareholding Pattern'!$P$58*100,2),\"\"),\"\")","v":""},null,null,"",{"$f":"+IFERROR(IF(COUNT(L32,T32),ROUND(SUM(L32,T32)/SUM('Shareholding Pattern'!$L$57,'Shareholding Pattern'!$T$57)*100,2),\"\"),\"\")","v":""},null,"",{"$nulls":20},"Alternative investment funds [Member]",{"$nulls":5},"CG&SG&PI",null,"CentralGovernmentOrStateGovernmentSOrPresidentOfIndiaDomain",{"$nulls":5},"DetailsOfSharesHeldByCentralGovernmentOrStateGovernmentSOrPresidentOfIndiaAxis"]
[{"$nulls":4},"(d)","Foreign Venture Capital Investors",{"$nulls":5},"",{"$f":"+IFERROR(IF(COUNT(L33),ROUND(L33/'Shareholding Pattern'!$L$57*100,2),\"\"),\"\")","v":""},"",null,"",{"$f":"+IFERROR(IF(COUNT(P33),ROUND(P33/'Shareholding Pattern'!$P$58*100,2),\"\"),\"\")","v":""},null,null,"",{"$f":"+IFERROR(IF(COUNT(L33,T33),ROUND(SUM(L33,T33)/SUM('Shareholding Pattern'!$L$57,'Shareholding Pattern'!$T$57)*100,2),\"\"),\"\")","v":""},null,"",{"$nulls":20},"Foreign venture capital investors [Member]",{"$nulls":5},"Indivisual(aI)",null,"IndividualShareholdersHoldingNominalShareCapitalUpToRsTwoLakhDomain",{"$nulls":5},"DetailsOfSharesHeldByIndividualShareholdersHoldingNominalShareCapitalUpToRsTwoLakhAxis"]
[{"$nulls":4},"(e)","Foreign Portfolio Investors",{"$nulls":5},"",{"$f":"+IFERROR(IF(COUNT(L34),ROUND(L34/'Shareholding Pattern'!$L$57*100,2),\"\"),\"\")","v":""},"",null,"",{"$f":"+IFERROR(IF(COUNT(P34),ROUND(P34/'Shareholding Pattern'!$P$58*100,2),\"\"),\"\")","v":""},null,null,{"$f":"+IFERROR(IF(COUNT(R34,S34),ROUND(SUM(R34,S34),0),\"\"),\"\")","v":""},{"$f":"+IFERROR(IF(COUNT(L34,T34),ROUND(SUM(L34,T34)/SUM('Shareholding Pattern'!$L$57,'Shareholding Pattern'!$T$57)*100,2),\"\"),\"\")","v":""},null,"",{"$nulls":20},"Institutions - Foreign portfolio investor [Member]",{"$nulls":5},"Indivisual(aII)",null,"IndividualShareholdersHoldingNominalShareCapitalInExcessOfRsTwoLakhDomain",{"$nulls":5},"DetailsOfSharesHeldByIndividualShareholdersHoldingNominalShareCapitalInExcessOfRsTwoLakhAxis"]
[{"$nulls":4},"(f)","Financial  Institutions/ Banks",null,5,70000,null,null,70000,{"$f":"+IFERROR(IF(COUNT(L35),ROUND(L35/'Shareholding Pattern'!$L$57*100,2),\"\"),\"\")","v":0.32},70000,null,70000,{"$f":"+IFERROR(IF(COUNT(P35),ROUND(P35/'Shareholding Pattern'!$P$58*100,2),\"\"),\"\")","v":0.32},null,null,"",{"$f":"+IFERROR(IF(COUNT(L35,T35),ROUND(SUM(L35,T35)/SUM('Shareholding Pattern'!$L$57,'Shareholding Pattern'!$T$57)*100,2),\"\"),\"\")","v":0.32},null,"",null,null,0,{"$nulls":17},"Financial Institution or Banks [Member]",{"$nulls":5},"NBFC",null,"NBFCsRegisteredWithRbiDomain",{"$nulls":5},"DetailsOfSharesHeldByNBFCsRegisteredWithRbiAxis"]
[{"$nulls":4},"(g)","Insurance  Companies",{"$nulls":5},"",{"$f":"+IFERROR(IF(COUNT(L36),ROUND(L36/'Shareholding Pattern'!$L$57*100,2),\"\"),\"\")","v":""},"",null,"",{"$f":"+IFERROR(IF(COUNT(P36),ROUND(P36/'Shareholding Pattern'!$P$58*100,2),\"\"),\"\")","v":""},null,null,"",{"$f":"+IFERROR(IF(COUNT(L36,T36),ROUND(SUM(L36,T36)/SUM('Shareholding Pattern'!$L$57,'Shareholding Pattern'!$T$57)*100,2),\"\"),\"\")","v":""},null,"",{"$nulls":20},"Insurance Companies [Member]",{"$nulls":5},"EmpTrust",null,"EmployeeTrustsDomain",{"$nulls":5},"DetailsOfSharesHeldByEmployeeTrustsAxis"]
[{"$nulls":4},"(h)","Provident Funds/ Pension Funds",{"$nulls":5},"",{"$f":"+IFERROR(IF(COUNT(L37),ROUND(L37/'Shareholding Pattern'!$L$57*100,2),\"\"),\"\")","v":""},"",null,"",{"$f":"+IFERROR(IF(COUNT(P37),ROUND(P37/'Shareholding Pattern'!$P$58*100,2),\"\"),\"\")","v":""},null,null,"",{"$f":"+IFERROR(IF(COUNT(L37,T37),ROUND(SUM(L37,T37)/SUM('Shareholding Pattern'!$L$57,'Shareholding Pattern'!$T$57)*100,2),\"\"),\"\")","v":""},null,"",{"$nulls":20},"Provident Funds or pension funds [Member]",{"$nulls":5},"OD",null,"OverseasDepositoriesDomain",{"$nulls":5},"DetailsOfSharesHeldByOverseasDepositoriesAxis"]
[{"$nulls":4},"(i)","Any Other (specify)",{"$nulls":5},"",{"$f":"+IFERROR(IF(COUNT(L38),ROUND(L38/'Shareholding Pattern'!$L$57*100,2),\"\"),\"\")","v":""},"",null,"",{"$f":"+IFERROR(IF(COUNT(P38),ROUND(P38/'Shareholding Pattern'!$P$58*100,2),\"\"),\"\")","v":""},null,null,"",{"$f":"+IFERROR(IF(COUNT(L38,T38),ROUND(SUM(L38,T38)/SUM('Shareholding Pattern'!$L$57,'Shareholding Pattern'!$T$57)*100,2),\"\"),\"\")","v":""},null,"",{"$nulls":20},"Other institutions [Member]",{"$nulls":5},"Other_NonInsti",null,"OtherNonInstitutionsDomain",{"$nulls":5},"DetailsOfSharesHeldByOtherNonInstitutionsAxis"]
[{"$nulls":4},"Sub-Total (B)(1)",null,null,{"$f":"+IFERROR(IF(COUNT(H30:H38),ROUND(SUM(H30:H38),0),\"\"),\"\")","v":5},70000,"","",70000,{"$f":"+IFERROR(IF(COUNT(L39),ROUND(L39/'Shareholding Pattern'!$L$57*100,2),\"\"),\"\")","v":0.32},{"v":70000,"d":"70000.00"},"",70000,{"$f":"+IFERROR(IF(COUNT(P39),ROUND(P39/'Shareholding Pattern'!$P$58*100,2),\"\"),\"\")","v":0.32},"","","",{"$f":"+IFERROR(IF(COUNT(L39,T39),ROUND(SUM(L39,T39)/SUM('Shareholding Pattern'!$L$57,'Shareholding Pattern'!$T$57)*100,2),\"\"),\"\")","v":0.32},"","",null,null,0,{"$nulls":17},"Institutions [Member]",{"$nulls":5},"DRHolder",null,"CustodianOrDRHolderDomain",{"$nulls":5},"DetailsOfSharesHeldByCustodianOrDRHolderAxis"]
[{"$nulls":4},"( 2 )","Central  Government/  State  Government(s)/ President of India",{"$nulls":5},{"$f":"+IFERROR(IF(COUNT(I40:K40),ROUND(SUM(I40:K40),0),\"\"),\"\")","v":""},{"$f":"+IFERROR(IF(COUNT(L40),ROUND(L40/'Shareholding Pattern'!$L$57*100,2),\"\"),\"\")","v":""},{"$f":"IF(I40=\"\",\"\",I40)","v":""},null,{"$f":"+IFERROR(IF(COUNT(N40:O40),ROUND(SUM(N40:O40),0),\"\"),\"\")","v":""},{"$f":"+IFERROR(IF(COUNT(P40),ROUND(P40/'Shareholding Pattern'!$P$58*100,2),\"\"),\"\")","v":""},null,null,{"$f":"+IFERROR(IF(COUNT(R40:S40),ROUND(SUM(R40:S40),0),\"\"),\"\")","v":""},{"$f":"+IFERROR(IF(COUNT(L40,T40),ROUND(SUM(L40,T40)/SUM('Shareholding Pattern'!$L$57,'Shareholding Pattern'!$T$57)*100,2),\"\"),\"\")","v":""},null,"",{"$nulls":20},"Central Government or State Government(s) or President of India [Member]",{"$nulls":5},"EBT",null,"EmployeeBenefitsTrustsDomain",{"$nulls":5},"DetailsOfSharesHeldByEmployeeBenefitsTrustsAxis"]
[{"$nulls":4},"Sub-Total (B)(2)",null,null,{"$f":"+IF(COUNT(H40),SUM(H40),\"\")","v":""},{"$f":"+IF(COUNT(I40),SUM(I40),\"\")","v":""},"","","",{"$f":"+IFERROR(IF(COUNT(L41),ROUND(L41/'Shareholding Pattern'!$L$57*100,2),\"\"),\"\")","v":""},"","","",{"$f":"+IFERROR(IF(COUNT(P41),ROUND(P41/'Shareholding Pattern'!$P$58*100,2),\"\"),\"\")","v":""},"","","",{"$f":"+IFERROR(IF(COUNT(L41,T41),ROUND(SUM(L41,T41)/SUM('Shareholding Pattern'!$L$57,'Shareholding Pattern'!$T$57)*100,2),\"\"),\"\")","v":""},"","",null,null,{"$f":"+IF(COUNT(Z40),SUM(Z40),\"\")","v":""},{"$nulls":17},"Goverments [Member]"]
[{"$nulls":4},"( 3 )","Non-institutions"]
[{"$nulls":4},"(a(i))","Individuals -  \ni.Individual shareholders holding nominal share capital up to Rs. 2 lakhs. ",null,36531,8647400,null,null,{"$f":"+IFERROR(IF(COUNT(I43:K43),ROUND(SUM(I43:K43),0),\"\"),\"\")","v":8647400},{"$f":"+IFERROR(IF(COUNT(L43),ROUND(L43/'Shareholding Pattern'!$L$57*100,2),\"\"),\"\")","v":39.28},{"$f":"IF(I43=\"\",\"\",I43)","v":8647400},null,{"$f":"+IFERROR(IF(COUNT(N43:O43),ROUND(SUM(N43:O43),0),\"\"),\"\")","v":8647400},{"$f":"+IFERROR(IF(COUNT(P43),ROUND(P43/'Shareholding Pattern'!$P$58*100,2),\"\"),\"\")","v":39.28},null,null,{"$f":"+IFERROR(IF(COUNT(R43:S43),ROUND(SUM(R43:S43),0),\"\"),\"\")","v":""},{"$f":"+IFERROR(IF(COUNT(L43,T43),ROUND(SUM(L43,T43)/SUM('Shareholding Pattern'!$L$57,'Shareholding Pattern'!$T$57)*100,2),\"\"),\"\")","v":39.28},null,{"$f":"+IFERROR(IF(COUNT(V43),ROUND(SUM(V43)/SUM(L43)*100,2),\"\"),0)","v":""},null,null,0,{"$nulls":17},"Individual shareholders holding nominal share capital up to Rs two lakh [Member]"]
[{"$nulls":4},"(a(ii))","Individuals -  \nii. Individual shareholders holding nominal share capital in excess of Rs. 2 lakhs.",null,11,890600,null,null,{"$f":"+IFERROR(IF(COUNT(I44:K44),ROUND(SUM(I44:K44),0),\"\"),\"\")","v":890600},{"$f":"+IFERROR(IF(COUNT(L44),ROUND(L44/'Shareholding Pattern'!$L$57*100,2),\"\"),\"\")","v":4.05},890600,null,{"$f":"+IFERROR(IF(COUNT(N44:O44),ROUND(SUM(N44:O44),0),\"\"),\"\")","v":890600},{"$f":"+IFERROR(IF(COUNT(P44),ROUND(P44/'Shareholding Pattern'!$P$58*100,2),\"\"),\"\")","v":4.05},null,null,{"$f":"+IFERROR(IF(COUNT(R44:S44),ROUND(SUM(R44:S44),0),\"\"),\"\")","v":""},{"$f":"+IFERROR(IF(COUNT(L44,T44),ROUND(SUM(L44,T44)/SUM('Shareholding Pattern'!$L$57,'Shareholding Pattern'!$T$57)*100,2),\"\"),\"\")","v":4.05},null,"",null,null,0,{"$nulls":17},"Individual shareholders holding nominal share capital in excess of Rs two lakh [Member]"]
[{"$nulls":4},"(b)","NBFCs registered with RBI",{"$nulls":5},"",{"$f":"+IFERROR(IF(COUNT(L45),ROUND(L45/'Shareholding Pattern'!$L$57*100,2),\"\"),\"\")","v":""},"",null,"",{"$f":"+IFERROR(IF(COUNT(P45),ROUND(P45/'Shareholding Pattern'!$P$58*100,2),\"\"),\"\")","v":""},null,null,"",{"$f":"+IFERROR(IF(COUNT(L45,T45),ROUND(SUM(L45,T45)/SUM('Shareholding Pattern'!$L$57,'Shareholding Pattern'!$T$57)*100,2),\"\"),\"\")","v":""},null,"",{"$nulls":20},"NBFCs registered with RBI [Member]"]
[{"$nulls":4},"(c)","Employee Trusts",{"$nulls":5},"",{"$f":"+IFERROR(IF(COUNT(L46),ROUND(L46/'Shareholding Pattern'!$L$57*100,2),\"\"),\"\")","v":""},"",null,"",{"$f":"+IFERROR(IF(COUNT(P46),ROUND(P46/'Shareholding Pattern'!$P$58*100,2),\"\"),\"\")","v":""},null,null,"",{"$f":"+IFERROR(IF(COUNT(L46,T46),ROUND(SUM(L46,T46)/SUM('Shareholding Pattern'!$L$57,'Shareholding Pattern'!$T$57)*100,2),\"\"),\"\")","v":""},null,"",{"$nulls":20},"Employee Trusts [Member]"]
[{"$nulls":4},"(d)","Overseas Depositories (holding DRs) (balancing figure)",{"$nulls":5},"",{"$f":"+IFERROR(IF(COUNT(L47),ROUND(L47/'Shareholding Pattern'!$L$57*100,2),\"\"),\"\")","v":""},"",null,"",{"$f":"+IFERROR(IF(COUNT(P47),ROUND(P47/'Shareholding Pattern'!$P$58*100,2),\"\"),\"\")","v":""},null,null,"",{"$f":"+IFERROR(IF(COUNT(L47,T47),ROUND(SUM(L47,T47)/SUM('Shareholding Pattern'!$L$57,'Shareholding Pattern'!$T$57)*100,2),\"\"),\"\")","v":""},null,"",{"$nulls":20},"Overseas Depositories [Member]"]
[{"$nulls":4},"(e)","Any Other (specify)",null,102,407000,null,null,407000,{"$f":"+IFERROR(IF(COUNT(L48),ROUND(L48/'Shareholding Pattern'!$L$57*100,2),\"\"),\"\")","v":1.85},407000,null,407000,{"$f":"+IFERROR(IF(COUNT(P48),ROUND(P48/'Shareholding Pattern'!$P$58*100,2),\"\"),\"\")","v":1.85},null,null,"",{"$f":"+IFERROR(IF(COUNT(L48,T48),ROUND(SUM(L48,T48)/SUM('Shareholding Pattern'!$L$57,'Shareholding Pattern'!$T$57)*100,2),\"\"),\"\")","v":1.85},null,"",null,null,0,{"$nulls":17},"Other non-institutions [Member]"]
[{"$nulls":4},"Sub-Total (B)(3)",null,null,{"$f":"+IFERROR(IF(COUNT(H43:H48),ROUND(SUM(H43:H48),0),\"\"),\"\")","v":36644},{"$f":"+IFERROR(IF(COUNT(I43:I48),ROUND(SUM(I43:I48),0),\"\"),\"\")","v":9945000},"","",9945000,{"$f":"+IFERROR(IF(COUNT(L49),ROUND(L49/'Shareholding Pattern'!$L$57*100,2),\"\"),\"\")","v":45.18},{"v":9945000,"d":"9945000.00"},"",{"$f":"+IFERROR(IF(COUNT(N49:O49),ROUND(SUM(N49:O49),0),\"\"),\"\")","v":9945000},{"$f":"+IFERROR(IF(COUNT(P49),ROUND(P49/'Shareholding Pattern'!$P$58*100,2),\"\"),\"\")","v":45.18},{"$f":"+IFERROR(IF(COUNT(R43:R48),ROUND(SUM(R43:R48),0),\"\"),\"\")","v":""},"",{"$f":"+IFERROR(IF(COUNT(R49:S49),ROUND(SUM(R49:S49),0),\"\"),\"\")","v":""},{"$f":"+IFERROR(IF(COUNT(L49,T49),ROUND(SUM(L49,T49)/SUM('Shareholding Pattern'!$L$57,'Shareholding Pattern'!$T$57)*100,2),\"\"),\"\")","v":45.18},"","",null,null,{"$f":"+IFERROR(IF(COUNT(Z43:Z48),ROUND(SUM(Z43:Z48),0),\"\"),\"\")","v":0},{"$nulls":17},"Non-institutions [Member]"]
[{"$nulls":4},"Total Public Shareholding (B)=(B)(1)+(B)(2)+(B)(3)",null,null,{"$f":"+IFERROR(IF(COUNT(H39,H41,H49),ROUND(SUM(H39,H41,H49),0),\"\"),\"\")","v":36649},{"$f":"+IFERROR(IF(COUNT(I39,I41,I49),ROUND(SUM(I39,I41,I49),0),\"\"),\"\")","v":10015000},"","",10015000,{"$f":"+IFERROR(IF(COUNT(L50),ROUND(L50/'Shareholding Pattern'!$L$57*100,2),\"\"),\"\")","v":{"v":45.5,"d":"45.50"}},{"v":10015000,"d":"10015000.00"},"",10015000,{"$f":"+IFERROR(IF(COUNT(P50),ROUND(P50/'Shareholding Pattern'!$P$58*100,2),\"\"),\"\")","v":{"v":45.5,"d":"45.50"}},{"$f":"+IFERROR(IF(COUNT(R39,R40,R49),ROUND(SUM(R39,R40,R49),0),\"\"),\"\")","v":""},{"$f":"+IFERROR(IF(COUNT(S39,S40,S49),ROUND(SUM(S39,S40,S49),0),\"\"),\"\")","v":""},"",{"$f":"+IFERROR(IF(COUNT(L50,T50),ROUND(SUM(L50,T50)/SUM('Shareholding Pattern'!$L$57,'Shareholding Pattern'!$T$57)*100,2),\"\"),\"\")","v":{"v":45.5,"d":"45.50"}},"","",null,null,{"$f":"+IFERROR(IF(COUNT(Z39,Z41,Z49),ROUND(SUM(Z39,Z41,Z49),0),\"\"),\"\")","v":0},{"$nulls":17},"Public shareholding [Member]"]
[{"$nulls":5},"Details of the shareholders acting as persons in Concert for Public"]
[{"$nulls":5},"Details of Shares which remain unclaimed for Public"]
[{"$nulls":4},"C","Table IV - Statement showing shareholding pattern of the Non Promoter- Non Public shareholder"]
[{"$nulls":4},"( 1 )","Custodian/DR  Holder - Name of DR Holders  (If Available)",{"$nulls":5},{"$f":"+IFERROR(IF(COUNT(I54:K54),ROUND(SUM(I54:K54),2),\"\"),\"\")","v":""},null,{"$f":"IF(I54=\"\",\"\",I54)","v":""},null,{"$f":"+IFERROR(IF(COUNT(N54:O54),ROUND(SUM(N54:O54),2),\"\"),\"\")","v":""},{"$f":"+IFERROR(IF(COUNT(P54),ROUND(P54/'Shareholding Pattern'!$P$58*100,2),\"\"),\"\")","v":""},null,null,{"$f":"+IFERROR(IF(COUNT(R54:S54),ROUND(SUM(R54:S54),2),\"\"),\"\")","v":""},null,null,{"$f":"+IFERROR(IF(COUNT(V54),ROUND(SUM(V54)/SUM(L54)*100,2),\"\"),0)","v":""},{"$nulls":20},"Custodian or DR holder [Member]"]
[{"$nulls":4},"( 2 )","Employee Benefit Trust (under SEBI (Share based Employee Benefit) Regulations, 2014)",{"$nulls":5},{"$f":"+IFERROR(IF(COUNT(I55:K55),ROUND(SUM(I55:K55),2),\"\"),\"\")","v":""},{"$f":"+IFERROR(IF(COUNT(L55),ROUND(L55/'Shareholding Pattern'!$L$57*100,2),\"\"),\"\")","v":""},"",null,{"$f":"+IFERROR(IF(COUNT(N55:O55),ROUND(SUM(N55:O55),2),\"\"),\"\")","v":""},{"$f":"+IFERROR(IF(COUNT(P55),ROUND(P55/'Shareholding Pattern'!$P$58*100,2),\"\"),\"\")","v":""},null,null,{"$f":"+IFERROR(IF(COUNT(R55:S55),ROUND(SUM(R55:S55),2),\"\"),\"\")","v":""},{"$f":"+IFERROR(IF(COUNT(L55,T55),ROUND(SUM(L55,T55)/SUM('Shareholding Pattern'!$L$57,'Shareholding Pattern'!$T$57)*100,2),\"\"),\"\")","v":""},null,"",{"$nulls":20},"Employee benefits trusts [Member]"]
[{"$nulls":4},"Total NonPromoter- Non Public  Shareholding \n(C)= (C)(1)+(C)(2)",null,null,{"$f":"IFERROR(IF(COUNT(H54:H55),ROUND(SUM(H54:H55),0),\"\"),\"\")","v":""},{"$f":"IFERROR(IF(COUNT(I54:I55),ROUND(SUM(I54:I55),0),\"\"),\"\")","v":""},"","","",null,"","","",{"$f":"+IFERROR(IF(COUNT(P56),ROUND(P56/'Shareholding Pattern'!$P$58*100,2),\"\"),\"\")","v":""},"","","",null,"","",null,null,"",{"$nulls":17},"Shares held by non-promoter non-public shareholders [Member]"]
[{"$nulls":4},"Total ( A+B+C2 )",null,null,{"$f":"+IFERROR(IF(COUNT(H26,H50,H55),ROUND(SUM(H26,H50,H55),0),\"\"),\"\")","v":37033},22012500,"","",22012500,{"$f":"+IFERROR(IF(COUNT(L57),ROUND(L57/'Shareholding Pattern'!$L$57*100,2),\"\"),0)","v":{"v":100,"d":"100.00"}},{"v":22012500,"d":"22012500.00"},"",22012500,{"$f":"+IFERROR(IF(COUNT(P57),ROUND(P57/'Shareholding Pattern'!$P$58*100,2),\"\"),0)","v":{"v":100,"d":"100.00"}},"","","",{"$f":"+IFERROR(IF(COUNT(L57,T57),ROUND(SUM(L57,T57)/SUM('Shareholding Pattern'!$L$57,'Shareholding Pattern'!$T$57)*100,2),\"\"),0)","v":{"v":100,"d":"100.00"}},"","",null,null,0]
[{"$nulls":4},"Total (A+B+C )",null,null,{"$f":"+IFERROR(IF(COUNT(H26,H50,H56),ROUND(SUM(H26,H50,H56),0),\"\"),\"\")","v":37033},22012500,"","",22012500,{"$f":"+IFERROR(IF(COUNT(L57),ROUND(L57/'Shareholding Pattern'!$L$57*100,2),\"\"),\"\")","v":{"v":100,"d":"100.00"}},{"v":22012500,"d":"22012500.00"},"",22012500,{"$f":"+IFERROR(IF(COUNT(P58),ROUND(P58/'Shareholding Pattern'!$P$58*100,2),\"\"),\"\")","v":{"v":100,"d":"100.00"}},"","","",{"v":100,"d":"100.00"},"","","",{"$f":"+IFERROR(IF(COUNT(X58),ROUND(SUM(X58)/SUM(L58)*100,2),\"\"),0)","v":""},0,{"$nulls":17},"Shareholding pattern [Member]"]
[{"$nulls":4},"Disclosure of notes on shareholding pattern"]

{"sheet":"IndHUF","index":6,"n_rows":281,"n_cols":30,"rows_kept":281,"hidden":true,"merged":[[8,4,10,4],[8,5,10,5],[8,6,10,6],[8,7,10,7],[8,8,10,8],[8,9,10,9],[8,10,10,10],[8,11,10,11],[8,12,8,15],[8,16,10,16],[8,17,10,17],[8,18,10,18],[8,19,10,19],[8,20,9,21],[8,22,9,23],[8,24,10,24],[8,25,10,25],[9,12,9,14],[9,15,10,15]]}
[{"$nulls":8},265]
[{"$nulls":5},"Name of shareholder","Permanent account number of shareholder","Number of fully paid up equity shares","Number of partly paid-up equity shares","Number of shares underlying outstanding depository receipts","Total number of shares","Shareholding as a percentage of total number of shares held by promoters and public shareholders and custodians or DR holders","Number of voting rights held by same class of securities","Number of voting rights held by differential voting rights","Total Number of voting rights","Percentage of total number of voting rights","Number of shares underlying outstanding convertible securities","Number of warrant","Number of warrant and convertible securities","Total shareholding as a percentage assuming full conversion of convertible securities","Number of the locked-in-shares ","Locked-in-shares as a percentage of total number of shares","Pledged or encumbered - number of shares","Pledged or encumbered shares held as percentage of total number of shares","Number of equity shares held in dematerialized form","Reason for not providing PAN"]
[]
[]
[]
[]
[]
[]
[{"$nulls":4},"Searial No.","Name\nof the \nShareholders\n     (I)","PAN \n(II)","No. of fully paid up equity shares held\n(IV)","No. Of Partly paid-up equity shares held\n(V)","No. Of shares underlying Depository Receipts\n(VI)","Total nos. shares\nheld\n(VII) = (IV)+(V)+ (VI)","Shareholding as a % of total no. of shares (calculated as per SCRR, 1957)\n(VIII)\nAs a % of (A+B+C2)","Number of Voting Rights held in each class of securities\n(IX)",{"$nulls":3},"No. Of Shares Underlying Outstanding convertible securities\n(X)","No. of Shares Underlying Outstanding Warrants (Xi)","No. Of Shares Underlying Outstanding convertible securities and No. Of Warrants\n(Xi) (a)","Shareholding , as a % assuming full conversion of convertible securities (as a percentage of diluted share capital)\n(XI)= (VII)+(Xi)(a)\nAs a % of (A+B+C2)","Number of Locked in shares\n(XII)",null,"Number of Shares pledged or otherwise encumbered\n(XIII)",null,"Number of equity shares held in dematerialized form \n(XIV)","Reason for not providing PAN"]
[{"$nulls":12},"No of Voting (XIV) Rights",null,null,"Total as\na % of\nTotal\nVoting\nrights"]
[{"$nulls":12},"Class\neg:X","Class\neg:y","Total",{"$nulls":5},"No.\n(a)","As a % of total Shares held\n(b)","No.\n(a)","As a % of total Shares held\n(b)"]
[{"$nulls":4},"A1(a)","Individuals/Hindu undivided Family"]
[{"$nulls":10},{"$f":"+IFERROR(IF(COUNT(H13:J13),ROUND(SUM(H13:J13),0),\"\"),\"\")","v":""},{"$f":"+IFERROR(IF(COUNT(K13),ROUND(K13/'Shareholding Pattern'!$L$57*100,2),\"\"),0)","v":""},{"$f":"IF(H13=\"\",\"\",H13)","v":""},null,{"$f":"+IFERROR(IF(COUNT(M13:N13),ROUND(SUM(M13,N13),2),\"\"),\"\")","v":""},{"$f":"+IFERROR(IF(COUNT(O13),ROUND(O13/('Shareholding Pattern'!$P$58)*100,2),\"\"),0)","v":""},null,null,{"$f":"+IFERROR(IF(COUNT(Q13:R13),ROUND(SUM(Q13:R13),0),\"\"),\"\")","v":""},{"$f":"+IFERROR(IF(COUNT(K13,S13),ROUND(SUM(S13,K13)/SUM('Shareholding Pattern'!$L$57,'Shareholding Pattern'!$T$57)*100,2),\"\"),0)","v":""},null,{"$f":"+IFERROR(IF(COUNT(U13),ROUND(SUM(U13)/SUM(K13)*100,2),\"\"),0)","v":""},null,{"$f":"+IFERROR(IF(COUNT(W13),ROUND(SUM(W13)/SUM(K13)*100,2),\"\"),0)","v":""},{"$nulls":4},{"$f":"IF(SUM(H13:Y13)>0,1,0)","v":0},{"$f":"IF(COUNT(H280:$Y$15265)=0,\"\",SUM(AC1:AC65797))","v":265}]
[]
[{"$nulls":4},1,"S PRASADA REDDY","AMRPS2072B",8814800,null,null,{"$f":"+IFERROR(IF(COUNT(H15:J15),ROUND(SUM(H15:J15),0),\"\"),\"\")","v":8814800},{"$f":"+IFERROR(IF(COUNT(K15),ROUND(K15/'Shareholding Pattern'!$L$57*100,2),\"\"),0)","v":40.04},{"$f":"IF(H15=\"\",\"\",H15)","v":{"v":8814800,"d":"8814800.00"}},null,{"$f":"+IFERROR(IF(COUNT(M15:N15),ROUND(SUM(M15,N15),2),\"\"),\"\")","v":{"v":8814800,"d":"8814800.00"}},{"$f":"+IFERROR(IF(COUNT(O15),ROUND(O15/('Shareholding Pattern'!$P$58)*100,2),\"\"),0)","v":40.04},null,null,{"$f":"+IFERROR(IF(COUNT(Q15:R15),ROUND(SUM(Q15:R15),0),\"\"),\"\")","v":""},{"$f":"+IFERROR(IF(COUNT(K15,S15),ROUND(SUM(S15,K15)/SUM('Shareholding Pattern'!$L$57,'Shareholding Pattern'!$T$57)*100,2),\"\"),0)","v":40.04},null,{"$f":"+IFERROR(IF(COUNT(U15),ROUND(SUM(U15)/SUM(K15)*100,2),\"\"),0)","v":""},null,{"$f":"+IFERROR(IF(COUNT(W15),ROUND(SUM(W15)/SUM(K15)*100,2),\"\"),0)","v":""},0,{"$nulls":3},{"$f":"IF(SUM(H15:Y15)>0,1,0)","v":1}]
[{"$nulls":4},2,"S DEVAKI","AMRPS2074H",139100,null,null,139100,{"$f":"+IFERROR(IF(COUNT(K16),ROUND(K16/'Shareholding Pattern'!$L$57*100,2),\"\"),0)","v":0.63},{"v":139100,"d":"139100.00"},null,{"v":139100,"d":"139100.00"},{"$f":"+IFERROR(IF(COUNT(O16),ROUND(O16/('Shareholding Pattern'!$P$58)*100,2),\"\"),0)","v":0.63},null,null,"",{"$f":"+IFERROR(IF(COUNT(K16,S16),ROUND(SUM(S16,K16)/SUM('Shareholding Pattern'!$L$57,'Shareholding Pattern'!$T$57)*100,2),\"\"),0)","v":0.63},null,"",null,"",0,{"$nulls":3},1]
[{"$nulls":4},3,"S CHARITA REDDY","AIRPC9253C",8000,null,null,8000,{"$f":"+IFERROR(IF(COUNT(K17),ROUND(K17/'Shareholding Pattern'!$L$57*100,2),\"\"),0)","v":0.04},{"v":8000,"d":"8000.00"},null,{"v":8000,"d":"8000.00"},{"$f":"+IFERROR(IF(COUNT(O17),ROUND(O17/('Shareholding Pattern'!$P$58)*100,2),\"\"),0)","v":0.04},null,null,"",{"$f":"+IFERROR(IF(COUNT(K17,S17),ROUND(SUM(S17,K17)/SUM('Shareholding Pattern'!$L$57,'Shareholding Pattern'!$T$57)*100,2),\"\"),0)","v":0.04},null,"",null,"",0,{"$nulls":3},1]
[{"$nulls":4},4,"S SHARAT REDDY","BQFPS9213R",2163600,null,null,2163600,{"$f":"+IFERROR(IF(COUNT(K18),ROUND(K18/'Shareholding Pattern'!$L$57*100,2),\"\"),0)","v":9.83},{"v":2163600,"d":"2163600.00"},null,{"v":2163600,"d":"2163600.00"},{"$f":"+IFERROR(IF(COUNT(O18),ROUND(O18/('Shareholding Pattern'!$P$58)*100,2),\"\"),0)","v":9.83},null,null,"",{"$f":"+IFERROR(IF(COUNT(K18,S18),ROUND(SUM(S18,K18)/SUM('Shareholding Pattern'!$L$57,'Shareholding Pattern'!$T$57)*100,2),\"\"),0)","v":9.83},null,"",null,"",0,{"$nulls":3},1]
[{"$nulls":4},5,"SESHADRI MADRAS RAMANATHAN","ABAAA9999Z",1000,null,null,1000,{"$f":"+IFERROR(IF(COUNT(K19),ROUND(K19/'Shareholding Pattern'!$L$57*100,2),\"\"),0)","v":{"v":0,"d":"0.00"}},{"v":1000,"d":"1000.00"},null,{"v":1000,"d":"1000.00"},{"$f":"+IFERROR(IF(COUNT(O19),ROUND(O19/('Shareholding Pattern'!$P$58)*100,2),\"\"),0)","v":{"v":0,"d":"0.00"}},null,null,"",{"$f":"+IFERROR(IF(COUNT(K19,S19),ROUND(SUM(S19,K19)/SUM('Shareholding Pattern'!$L$57,'Shareholding Pattern'!$T$57)*100,2),\"\"),0)","v":{"v":0,"d":"0.00"}},null,"",null,"",0,{"$nulls":3},1]
[{"$nulls":4},6," VENKATA RAMA RAJU DOMMA RAJU","ACAAA9999Z",1000,null,null,1000,{"$f":"+IFERROR(IF(COUNT(K20),ROUND(K20/'Shareholding Pattern'!$L$57*100,2),\"\"),0)","v":{"v":0,"d":"0.00"}},{"v":1000,"d":"1000.00"},null,{"v":1000,"d":"1000.00"},{"$f":"+IFERROR(IF(COUNT(O20),ROUND(O20/('Shareholding Pattern'!$P$58)*100,2),\"\"),0)","v":{"v":0,"d":"0.00"}},null,null,"",{"$f":"+IFERROR(IF(COUNT(K20,S20),ROUND(SUM(S20,K20)/SUM('Shareholding Pattern'!$L$57,'Shareholding Pattern'!$T$57)*100,2),\"\"),0)","v":{"v":0,"d":"0.00"}},null,"",null,"",0,{"$nulls":3},1]
[{"$nulls":4},7,"SITA MANIKYAM KONALA","ADAAA9999Z",500,null,null,500,{"$f":"+IFERROR(IF(COUNT(K21),ROUND(K21/'Shareholding Pattern'!$L$57*100,2),\"\"),0)","v":{"v":0,"d":"0.00"}},{"v":500,"d":"500.00"},null,{"v":500,"d":"500.00"},{"$f":"+IFERROR(IF(COUNT(O21),ROUND(O21/('Shareholding Pattern'!$P$58)*100,2),\"\"),0)","v":{"v":0,"d":"0.00"}},null,null,"",{"$f":"+IFERROR(IF(COUNT(K21,S21),ROUND(SUM(S21,K21)/SUM('Shareholding Pattern'!$L$57,'Shareholding Pattern'!$T$57)*100,2),\"\"),0)","v":{"v":0,"d":"0.00"}},null,"",null,"",0,{"$nulls":3},1]
[{"$nulls":4},8,"ATCHUTA RAMI REDDY KONALA","AEAAA9999Z",500,null,null,500,{"$f":"+IFERROR(IF(COUNT(K22),ROUND(K22/'Shareholding Pattern'!$L$57*100,2),\"\"),0)","v":{"v":0,"d":"0.00"}},{"v":500,"d":"500.00"},null,{"v":500,"d":"500.00"},{"$f":"+IFERROR(IF(COUNT(O22),ROUND(O22/('Shareholding Pattern'!$P$58)*100,2),\"\"),0)","v":{"v":0,"d":"0.00"}},null,null,"",{"$f":"+IFERROR(IF(COUNT(K22,S22),ROUND(SUM(S22,K22)/SUM('Shareholding Pattern'!$L$57,'Shareholding Pattern'!$T$57)*100,2),\"\"),0)","v":{"v":0,"d":"0.00"}},null,"",null,"",0,{"$nulls":3},1]
[{"$nulls":4},9,"T. RADHA KRISHNAN","AFAAA9999Z",1000,null,null,1000,{"$f":"+IFERROR(IF(COUNT(K23),ROUND(K23/'Shareholding Pattern'!$L$57*100,2),\"\"),0)","v":{"v":0,"d":"0.00"}},{"v":1000,"d":"1000.00"},null,{"v":1000,"d":"1000.00"},{"$f":"+IFERROR(IF(COUNT(O23),ROUND(O23/('Shareholding Pattern'!$P$58)*100,2),\"\"),0)","v":{"v":0,"d":"0.00"}},null,null,"",{"$f":"+IFERROR(IF(COUNT(K23,S23),ROUND(SUM(S23,K23)/SUM('Shareholding Pattern'!$L$57,'Shareholding Pattern'!$T$57)*100,2),\"\"),0)","v":{"v":0,"d":"0.00"}},null,"",null,"",0,{"$nulls":3},1]
[{"$nulls":4},10,"VIJAYA LAKSHAMAMMA POLAM REDDY","AGAAA9999Z",500,null,null,500,{"$f":"+IFERROR(IF(COUNT(K24),ROUND(K24/'Shareholding Pattern'!$L$57*100,2),\"\"),0)","v":{"v":0,"d":"0.00"}},{"v":500,"d":"500.00"},null,{"v":500,"d":"500.00"},{"$f":"+IFERROR(IF(COUNT(O24),ROUND(O24/('Shareholding Pattern'!$P$58)*100,2),\"\"),0)","v":{"v":0,"d":"0.00"}},null,null,"",{"$f":"+IFERROR(IF(COUNT(K24,S24),ROUND(SUM(S24,K24)/SUM('Shareholding Pattern'!$L$57,'Shareholding Pattern'!$T$57)*100,2),\"\"),0)","v":{"v":0,"d":"0.00"}},null,"",null,"",0,{"$nulls":3},1]
[{"$nulls":4},11,"D. KAUSALYA REDDY","AHAAA9999Z",1000,null,null,1000,{"$f":"+IFERROR(IF(COUNT(K25),ROUND(K25/'Shareholding Pattern'!$L$57*100,2),\"\"),0)","v":{"v":0,"d":"0.00"}},{"v":1000,"d":"1000.00"},null,{"v":1000,"d":"1000.00"},{"$f":"+IFERROR(IF(COUNT(O25),ROUND(O25/('Shareholding Pattern'!$P$58)*100,2),\"\"),0)","v":{"v":0,"d":"0.00"}},null,null,"",{"$f":"+IFERROR(IF(COUNT(K25,S25),ROUND(SUM(S25,K25)/SUM('Shareholding Pattern'!$L$57,'Shareholding Pattern'!$T$57)*100,2),\"\"),0)","v":{"v":0,"d":"0.00"}},null,"",null,"",0,{"$nulls":3},1]
[{"$nulls":4},12,"D. MADHAVI REDDY","AIAAA9999Z",1000,null,null,1000,{"$f":"+IFERROR(IF(COUNT(K26),ROUND(K26/'Shareholding Pattern'!$L$57*100,2),\"\"),0)","v":{"v":0,"d":"0.00"}},{"v":1000,"d":"1000.00"},null,{"v":1000,"d":"1000.00"},{"$f":"+IFERROR(IF(COUNT(O26),ROUND(O26/('Shareholding Pattern'!$P$58)*100,2),\"\"),0)","v":{"v":0,"d":"0.00"}},null,null,"",{"$f":"+IFERROR(IF(COUNT(K26,S26),ROUND(SUM(S26,K26)/SUM('Shareholding Pattern'!$L$57,'Shareholding Pattern'!$T$57)*100,2),\"\"),0)","v":{"v":0,"d":"0.00"}},null,"",null,"",0,{"$nulls":3},1]
[{"$nulls":4},13,"PADMAJA AMILINENI","AJAAA9999Z",500,null,null,500,{"$f":"+IFERROR(IF(COUNT(K27),ROUND(K27/'Shareholding Pattern'!$L$57*100,2),\"\"),0)","v":{"v":0,"d":"0.00"}},{"v":500,"d":"500.00"},null,{"v":500,"d":"500.00"},{"$f":"+IFERROR(IF(COUNT(O27),ROUND(O27/('Shareholding Pattern'!$P$58)*100,2),\"\"),0)","v":{"v":0,"d":"0.00"}},null,null,"",{"$f":"+IFERROR(IF(COUNT(K27,S27),ROUND(SUM(S27,K27)/SUM('Shareholding Pattern'!$L$57,'Shareholding Pattern'!$T$57)*100,2),\"\"),0)","v":{"v":0,"d":"0.00"}},null,"",null,"",0,{"$nulls":3},1]
[{"$nulls":4},14,"VIVEKANANDA REDDY GAJJALA ","AKAAA9999Z",500,null,null,500,{"$f":"+IFERROR(IF(COUNT(K28),ROUND(K28/'Shareholding Pattern'!$L$57*100,2),\"\"),0)","v":{"v":0,"d":"0.00"}},{"v":500,"d":"500.00"},null,{"v":500,"d":"500.00"},{"$f":"+IFERROR(IF(COUNT(O28),ROUND(O28/('Shareholding Pattern'!$P$58)*100,2),\"\"),0)","v":{"v":0,"d":"0.00"}},null,null,"",{"$f":"+IFERROR(IF(COUNT(K28,S28),ROUND(SUM(S28,K28)/SUM('Shareholding Pattern'!$L$57,'Shareholding Pattern'!$T$57)*100,2),\"\"),0)","v":{"v":0,"d":"0.00"}},null,"",null,"",0,{"$nulls":3},1]
[{"$nulls":4},15,"VENKATA SUNEETHA NERELLA","ALAAA9999Z",1000,null,null,1000,{"$f":"+IFERROR(IF(COUNT(K29),ROUND(K29/'Shareholding Pattern'!$L$57*100,2),\"\"),0)","v":{"v":0,"d":"0.00"}},{"v":1000,"d":"1000.00"},null,{"v":1000,"d":"1000.00"},{"$f":"+IFERROR(IF(COUNT(O29),ROUND(O29/('Shareholding Pattern'!$P$58)*100,2),\"\"),0)","v":{"v":0,"d":"0.00"}},null,null,"",{"$f":"+IFERROR(IF(COUNT(K29,S29),ROUND(SUM(S29,K29)/SUM('Shareholding Pattern'!$L$57,'Shareholding Pattern'!$T$57)*100,2),\"\"),0)","v":{"v":0,"d":"0.00"}},null,"",null,"",0,{"$nulls":3},1]
[{"$nulls":4},16,"A. ASOKAN ","AMAAA9999Z",1000,null,null,1000,{"$f":"+IFERROR(IF(COUNT(K30),ROUND(K30/'Shareholding Pattern'!$L$57*100,2),\"\"),0)","v":{"v":0,"d":"0.00"}},{"v":1000,"d":"1000.00"},null,{"v":1000,"d":"1000.00"},{"$f":"+IFERROR(IF(COUNT(O30),ROUND(O30/('Shareholding Pattern'!$P$58)*100,2),\"\"),0)","v":{"v":0,"d":"0.00"}},null,null,"",{"$f":"+IFERROR(IF(COUNT(K30,S30),ROUND(SUM(S30,K30)/SUM('Shareholding Pattern'!$L$57,'Shareholding Pattern'!$T$57)*100,2),\"\"),0)","v":{"v":0,"d":"0.00"}},null,"",null,"",0,{"$nulls":3},1]
[{"$nulls":4},17,"P.S. SRINATH ","ANAAA9999Z",300,null,null,300,{"$f":"+IFERROR(IF(COUNT(K31),ROUND(K31/'Shareholding Pattern'!$L$57*100,2),\"\"),0)","v":{"v":0,"d":"0.00"}},{"v":300,"d":"300.00"},null,{"v":300,"d":"300.00"},{"$f":"+IFERROR(IF(COUNT(O31),ROUND(O31/('Shareholding Pattern'!$P$58)*100,2),\"\"),0)","v":{"v":0,"d":"0.00"}},null,null,"",{"$f":"+IFERROR(IF(COUNT(K31,S31),ROUND(SUM(S31,K31)/SUM('Shareholding Pattern'!$L$57,'Shareholding Pattern'!$T$57)*100,2),\"\"),0)","v":{"v":0,"d":"0.00"}},null,"",null,"",0,{"$nulls":3},1]
[{"$nulls":4},18,"P. K. SHANMUGAM","AOAAA9999Z",500,null,null,500,{"$f":"+IFERROR(IF(COUNT(K32),ROUND(K32/'Shareholding Pattern'!$L$57*100,2),\"\"),0)","v":{"v":0,"d":"0.00"}},{"v":500,"d":"500.00"},null,{"v":500,"d":"500.00"},{"$f":"+IFERROR(IF(COUNT(O32),ROUND(O32/('Shareholding Pattern'!$P$58)*100,2),\"\"),0)","v":{"v":0,"d":"0.00"}},null,null,"",{"$f":"+IFERROR(IF(COUNT(K32,S32),ROUND(SUM(S32,K32)/SUM('Shareholding Pattern'!$L$57,'Shareholding Pattern'!$T$57)*100,2),\"\"),0)","v":{"v":0,"d":"0.00"}},null,"",null,"",0,{"$nulls":3},1]
[{"$nulls":4},19,"RAMESH PALLERLAMUDI","APAAA9999Z",1800,null,null,1800,{"$f":"+IFERROR(IF(COUNT(K33),ROUND(K33/'Shareholding Pattern'!$L$57*100,2),\"\"),0)","v":0.01},{"v":1800,"d":"1800.00"},null,{"v":1800,"d":"1800.00"},{"$f":"+IFERROR(IF(COUNT(O33),ROUND(O33/('Shareholding Pattern'!$P$58)*100,2),\"\"),0)","v":0.01},null,null,"",{"$f":"+IFERROR(IF(COUNT(K33,S33),ROUND(SUM(S33,K33)/SUM('Shareholding Pattern'!$L$57,'Shareholding Pattern'!$T$57)*100,2),\"\"),0)","v":0.01},null,"",null,"",0,{"$nulls":3},1]
[{"$nulls":4},20,"CHAMUNDESWARI PALLERLAMUDI","AQAAA9999Z",1800,null,null,1800,{"$f":"+IFERROR(IF(COUNT(K34),ROUND(K34/'Shareholding Pattern'!$L$57*100,2),\"\"),0)","v":0.01},{"v":1800,"d":"1800.00"},null,{"v":1800,"d":"1800.00"},{"$f":"+IFERROR(IF(COUNT(O34),ROUND(O34/('Shareholding Pattern'!$P$58)*100,2),\"\"),0)","v":0.01},null,null,"",{"$f":"+IFERROR(IF(COUNT(K34,S34),ROUND(SUM(S34,K34)/SUM('Shareholding Pattern'!$L$57,'Shareholding Pattern'!$T$57)*100,2),\"\"),0)","v":0.01},null,"",null,"",0,{"$nulls":3},1]
[{"$nulls":4},21,"RAMAKRISHNA BOBBA","ARAAA9999Z",1000,null,null,1000,{"$f":"+IFERROR(IF(COUNT(K35),ROUND(K35/'Shareholding Pattern'!$L$57*100,2),\"\"),0)","v":{"v":0,"d":"0.00"}},{"v":1000,"d":"1000.00"},null,{"v":1000,"d":"1000.00"},{"$f":"+IFERROR(IF(COUNT(O35),ROUND(O35/('Shareholding Pattern'!$P$58)*100,2),\"\"),0)","v":{"v":0,"d":"0.00"}},null,null,"",{"$f":"+IFERROR(IF(COUNT(K35,S35),ROUND(SUM(S35,K35)/SUM('Shareholding Pattern'!$L$57,'Shareholding Pattern'!$T$57)*100,2),\"\"),0)","v":{"v":0,"d":"0.00"}},null,"",null,"",0,{"$nulls":3},1]
[{"$nulls":4},22,"P.K.P. ARAYANAN","ASAAA9999Z",500,null,null,500,{"$f":"+IFERROR(IF(COUNT(K36),ROUND(K36/'Shareholding Pattern'!$L$57*100,2),\"\"),0)","v":{"v":0,"d":"0.00"}},{"v":500,"d":"500.00"},null,{"v":500,"d":"500.00"},{"$f":"+IFERROR(IF(COUNT(O36),ROUND(O36/('Shareholding Pattern'!$P$58)*100,2),\"\"),0)","v":{"v":0,"d":"0.00"}},null,null,"",{"$f":"+IFERROR(IF(COUNT(K36,S36),ROUND(SUM(S36,K36)/SUM('Shareholding Pattern'!$L$57,'Shareholding Pattern'!$T$57)*100,2),\"\"),0)","v":{"v":0,"d":"0.00"}},null,"",null,"",0,{"$nulls":3},1]
[{"$nulls":4},23,"P.K. SIVA KUMAR","ATAAA9999Z",1000,null,null,1000,{"$f":"+IFERROR(IF(COUNT(K37),ROUND(K37/'Shareholding Pattern'!$L$57*100,2),\"\"),0)","v":{"v":0,"d":"0.00"}},{"v":1000,"d":"1000.00"},null,{"v":1000,"d":"1000.00"},{"$f":"+IFERROR(IF(COUNT(O37),ROUND(O37/('Shareholding Pattern'!$P$58)*100,2),\"\"),0)","v":{"v":0,"d":"0.00"}},null,null,"",{"$f":"+IFERROR(IF(COUNT(K37,S37),ROUND(SUM(S37,K37)/SUM('Shareholding Pattern'!$L$57,'Shareholding Pattern'!$T$57)*100,2),\"\"),0)","v":{"v":0,"d":"0.00"}},null,"",null,"",0,{"$nulls":3},1]
[{"$nulls":4},24,"SUBRAMANYAM RAJUSURAPARAJU","AUAAA9999Z",1000,null,null,1000,{"$f":"+IFERROR(IF(COUNT(K38),ROUND(K38/'Shareholding Pattern'!$L$57*100,2),\"\"),0)","v":{"v":0,"d":"0.00"}},{"v":1000,"d":"1000.00"},null,{"v":1000,"d":"1000.00"},{"$f":"+IFERROR(IF(COUNT(O38),ROUND(O38/('Shareholding Pattern'!$P$58)*100,2),\"\"),0)","v":{"v":0,"d":"0.00"}},null,null,"",{"$f":"+IFERROR(IF(COUNT(K38,S38),ROUND(SUM(S38,K38)/SUM('Shareholding Pattern'!$L$57,'Shareholding Pattern'!$T$57)*100,2),\"\"),0)","v":{"v":0,"d":"0.00"}},null,"",null,"",0,{"$nulls":3},1]
[{"$nulls":4},25,"SARADA YETURU","AVAAA9999Z",500,null,null,500,{"$f":"+IFERROR(IF(COUNT(K39),ROUND(K39/'Shareholding Pattern'!$L$57*100,2),\"\"),0)","v":{"v":0,"d":"0.00"}},{"v":500,"d":"500.00"},null,{"v":500,"d":"500.00"},{"$f":"+IFERROR(IF(COUNT(O39),ROUND(O39/('Shareholding Pattern'!$P$58)*100,2),\"\"),0)","v":{"v":0,"d":"0.00"}},null,null,"",{"$f":"+IFERROR(IF(COUNT(K39,S39),ROUND(SUM(S39,K39)/SUM('Shareholding Pattern'!$L$57,'Shareholding Pattern'!$T$57)*100,2),\"\"),0)","v":{"v":0,"d":"0.00"}},null,"",null,"",0,{"$nulls":3},1]
[{"$nulls":4},26,"GEETHA SUDDHA KODURU","AWAAA9999Z",1000,null,null,1000,{"$f":"+IFERROR(IF(COUNT(K40),ROUND(K40/'Shareholding Pattern'!$L$57*100,2),\"\"),0)","v":{"v":0,"d":"0.00"}},{"v":1000,"d":"1000.00"},null,{"v":1000,"d":"1000.00"},{"$f":"+IFERROR(IF(COUNT(O40),ROUND(O40/('Shareholding Pattern'!$P$58)*100,2),\"\"),0)","v":{"v":0,"d":"0.00"}},null,null,"",{"$f":"+IFERROR(IF(COUNT(K40,S40),ROUND(SUM(S40,K40)/SUM('Shareholding Pattern'!$L$57,'Shareholding Pattern'!$T$57)*100,2),\"\"),0)","v":{"v":0,"d":"0.00"}},null,"",null,"",0,{"$nulls":3},1]
[{"$nulls":4},27,"G.E. KOTESWARI","AXAAA9999Z",500,null,null,500,{"$f":"+IFERROR(IF(COUNT(K41),ROUND(K41/'Shareholding Pattern'!$L$57*100,2),\"\"),0)","v":{"v":0,"d":"0.00"}},{"v":500,"d":"500.00"},null,{"v":500,"d":"500.00"},{"$f":"+IFERROR(IF(COUNT(O41),ROUND(O41/('Shareholding Pattern'!$P$58)*100,2),\"\"),0)","v":{"v":0,"d":"0.00"}},null,null,"",{"$f":"+IFERROR(IF(COUNT(K41,S41),ROUND(SUM(S41,K41)/SUM('Shareholding Pattern'!$L$57,'Shareholding Pattern'!$T$57)*100,2),\"\"),0)","v":{"v":0,"d":"0.00"}},null,"",null,"",0,{"$nulls":3},1]
[{"$nulls":4},28,"MALEMPATI RANGA RAO","AYAAA9999Z",1000,null,null,1000,{"$f":"+IFERROR(IF(COUNT(K42),ROUND(K42/'Shareholding Pattern'!$L$57*100,2),\"\"),0)","v":{"v":0,"d":"0.00"}},{"v":1000,"d":"1000.00"},null,{"v":1000,"d":"1000.00"},{"$f":"+IFERROR(IF(COUNT(O42),ROUND(O42/('Shareholding Pattern'!$P$58)*100,2),\"\"),0)","v":{"v":0,"d":"0.00"}},null,null,"",{"$f":"+IFERROR(IF(COUNT(K42,S42),ROUND(SUM(S42,K42)/SUM('Shareholding Pattern'!$L$57,'Shareholding Pattern'!$T$57)*100,2),\"\"),0)","v":{"v":0,"d":"0.00"}},null,"",null,"",0,{"$nulls":3},1]
[{"$nulls":4},29,"BHAKTAVASTALAM VENKATARAMANA","AZAAA9999Z",500,null,null,500,{"$f":"+IFERROR(IF(COUNT(K43),ROUND(K43/'Shareholding Pattern'!$L$57*100,2),\"\"),0)","v":{"v":0,"d":"0.00"}},{"v":500,"d":"500.00"},null,{"v":500,"d":"500.00"},{"$f":"+IFERROR(IF(COUNT(O43),ROUND(O43/('Shareholding Pattern'!$P$58)*100,2),\"\"),0)","v":{"v":0,"d":"0.00"}},null,null,"",{"$f":"+IFERROR(IF(COUNT(K43,S43),ROUND(SUM(S43,K43)/SUM('Shareholding Pattern'!$L$57,'Shareholding Pattern'!$T$57)*100,2),\"\"),0)","v":{"v":0,"d":"0.00"}},null,"",null,"",0,{"$nulls":3},1]
[{"$nulls":4},30,"SUDHA RANI ATLURI","AABAA9999Z",1800,null,null,1800,{"$f":"+IFERROR(IF(COUNT(K44),ROUND(K44/'Shareholding Pattern'!$L$57*100,2),\"\"),0)","v":0.01},{"v":1800,"d":"1800.00"},null,{"v":1800,"d":"1800.00"},{"$f":"+IFERROR(IF(COUNT(O44),ROUND(O44/('Shareholding Pattern'!$P$58)*100,2),\"\"),0)","v":0.01},null,null,"",{"$f":"+IFERROR(IF(COUNT(K44,S44),ROUND(SUM(S44,K44)/SUM('Shareholding Pattern'!$L$57,'Shareholding Pattern'!$T$57)*100,2),\"\"),0)","v":0.01},null,"",null,"",0,{"$nulls":3},1]
[{"$nulls":4},31,"S. RANGARAJAN","AACAA9999Z",300,null,null,300,{"$f":"+IFERROR(IF(COUNT(K45),ROUND(K45/'Shareholding Pattern'!$L$57*100,2),\"\"),0)","v":{"v":0,"d":"0.00"}},{"v":300,"d":"300.00"},null,{"v":300,"d":"300.00"},{"$f":"+IFERROR(IF(COUNT(O45),ROUND(O45/('Shareholding Pattern'!$P$58)*100,2),\"\"),0)","v":{"v":0,"d":"0.00"}},null,null,"",{"$f":"+IFERROR(IF(COUNT(K45,S45),ROUND(SUM(S45,K45)/SUM('Shareholding Pattern'!$L$57,'Shareholding Pattern'!$T$57)*100,2),\"\"),0)","v":{"v":0,"d":"0.00"}},null,"",null,"",0,{"$nulls":3},1]
[{"$nulls":4},32,"R. MANOHARAN","AADAA9999Z",500,null,null,500,{"$f":"+IFERROR(IF(COUNT(K46),ROUND(K46/'Shareholding Pattern'!$L$57*100,2),\"\"),0)","v":{"v":0,"d":"0.00"}},{"v":500,"d":"500.00"},null,{"v":500,"d":"500.00"},{"$f":"+IFERROR(IF(COUNT(O46),ROUND(O46/('Shareholding Pattern'!$P$58)*100,2),\"\"),0)","v":{"v":0,"d":"0.00"}},null,null,"",{"$f":"+IFERROR(IF(COUNT(K46,S46),ROUND(SUM(S46,K46)/SUM('Shareholding Pattern'!$L$57,'Shareholding Pattern'!$T$57)*100,2),\"\"),0)","v":{"v":0,"d":"0.00"}},null,"",null,"",0,{"$nulls":3},1]
[{"$nulls":4},33,"J.V.L.R. DEVI","AAEAA9999Z",1500,null,null,1500,{"$f":"+IFERROR(IF(COUNT(K47),ROUND(K47/'Shareholding Pattern'!$L$57*100,2),\"\"),0)","v":0.01},{"v":1500,"d":"1500.00"},null,{"v":1500,"d":"1500.00"},{"$f":"+IFERROR(IF(COUNT(O47),ROUND(O47/('Shareholding Pattern'!$P$58)*100,2),\"\"),0)","v":0.01},null,null,"",{"$f":"+IFERROR(IF(COUNT(K47,S47),ROUND(SUM(S47,K47)/SUM('Shareholding Pattern'!$L$57,'Shareholding Pattern'!$T$57)*100,2),\"\"),0)","v":0.01},null,"",null,"",0,{"$nulls":3},1]
[{"$nulls":4},34,"VENKATESWARA RAO NADELLA","AAFAA9999Z",500,null,null,500,{"$f":"+IFERROR(IF(COUNT(K48),ROUND(K48/'Shareholding Pattern'!$L$57*100,2),\"\"),0)","v":{"v":0,"d":"0.00"}},{"v":500,"d":"500.00"},null,{"v":500,"d":"500.00"},{"$f":"+IFERROR(IF(COUNT(O48),ROUND(O48/('Shareholding Pattern'!$P$58)*100,2),\"\"),0)","v":{"v":0,"d":"0.00"}},null,null,"",{"$f":"+IFERROR(IF(COUNT(K48,S48),ROUND(SUM(S48,K48)/SUM('Shareholding Pattern'!$L$57,'Shareholding Pattern'!$T$57)*100,2),\"\"),0)","v":{"v":0,"d":"0.00"}},null,"",null,"",0,{"$nulls":3},1]
[{"$nulls":4},35,"VANAJA RANI DODDAPANENI","AAGAA9999Z",1900,null,null,1900,{"$f":"+IFERROR(IF(COUNT(K49),ROUND(K49/'Shareholding Pattern'!$L$57*100,2),\"\"),0)","v":0.01},{"v":1900,"d":"1900.00"},null,{"v":1900,"d":"1900.00"},{"$f":"+IFERROR(IF(COUNT(O49),ROUND(O49/('Shareholding Pattern'!$P$58)*100,2),\"\"),0)","v":0.01},null,null,"",{"$f":"+IFERROR(IF(COUNT(K49,S49),ROUND(SUM(S49,K49)/SUM('Shareholding Pattern'!$L$57,'Shareholding Pattern'!$T$57)*100,2),\"\"),0)","v":0.01},null,"",null,"",0,{"$nulls":3},1]
[{"$nulls":4},36,"UDAYA BHASKARA RAO AKKINENI","AAHAA9999Z",500,null,null,500,{"$f":"+IFERROR(IF(COUNT(K50),ROUND(K50/'Shareholding Pattern'!$L$57*100,2),\"\"),0)","v":{"v":0,"d":"0.00"}},{"v":500,"d":"500.00"},null,{"v":500,"d":"500.00"},{"$f":"+IFERROR(IF(COUNT(O50),ROUND(O50/('Shareholding Pattern'!$P$58)*100,2),\"\"),0)","v":{"v":0,"d":"0.00"}},null,null,"",{"$f":"+IFERROR(IF(COUNT(K50,S50),ROUND(SUM(S50,K50)/SUM('Shareholding Pattern'!$L$57,'Shareholding Pattern'!$T$57)*100,2),\"\"),0)","v":{"v":0,"d":"0.00"}},null,"",null,"",0,{"$nulls":3},1]
[{"$nulls":4},37,"CHANDRA KALA BANDARU","AAIAA9999Z",500,null,null,500,{"$f":"+IFERROR(IF(COUNT(K51),ROUND(K51/'Shareholding Pattern'!$L$57*100,2),\"\"),0)","v":{"v":0,"d":"0.00"}},{"v":500,"d":"500.00"},null,{"v":500,"d":"500.00"},{"$f":"+IFERROR(IF(COUNT(O51),ROUND(O51/('Shareholding Pattern'!$P$58)*100,2),\"\"),0)","v":{"v":0,"d":"0.00"}},null,null,"",{"$f":"+IFERROR(IF(COUNT(K51,S51),ROUND(SUM(S51,K51)/SUM('Shareholding Pattern'!$L$57,'Shareholding Pattern'!$T$57)*100,2),\"\"),0)","v":{"v":0,"d":"0.00"}},null,"",null,"",0,{"$nulls":3},1]
[{"$nulls":4},38,"VIMALA GATTU","AAJAA9999Z",500,null,null,500,{"$f":"+IFERROR(IF(COUNT(K52),ROUND(K52/'Shareholding Pattern'!$L$57*100,2),\"\"),0)","v":{"v":0,"d":"0.00"}},{"v":500,"d":"500.00"},null,{"v":500,"d":"500.00"},{"$f":"+IFERROR(IF(COUNT(O52),ROUND(O52/('Shareholding Pattern'!$P$58)*100,2),\"\"),0)","v":{"v":0,"d":"0.00"}},null,null,"",{"$f":"+IFERROR(IF(COUNT(K52,S52),ROUND(SUM(S52,K52)/SUM('Shareholding Pattern'!$L$57,'Shareholding Pattern'!$T$57)*100,2),\"\"),0)","v":{"v":0,"d":"0.00"}},null,"",null,"",0,{"$nulls":3},1]
[{"$nulls":4},39,"ADINARAYANA GATTU","AAKAA9999Z",500,null,null,500,{"$f":"+IFERROR(IF(COUNT(K53),ROUND(K53/'Shareholding Pattern'!$L$57*100,2),\"\"),0)","v":{"v":0,"d":"0.00"}},{"v":500,"d":"500.00"},null,{"v":500,"d":"500.00"},{"$f":"+IFERROR(IF(COUNT(O53),ROUND(O53/('Shareholding Pattern'!$P$58)*100,2),\"\"),0)","v":{"v":0,"d":"0.00"}},null,null,"",{"$f":"+IFERROR(IF(COUNT(K53,S53),ROUND(SUM(S53,K53)/SUM('Shareholding Pattern'!$L$57,'Shareholding Pattern'!$T$57)*100,2),\"\"),0)","v":{"v":0,"d":"0.00"}},null,"",null,"",0,{"$nulls":3},1]
[{"$nulls":4},40,"APPAJI RAO VANGAPANDU","AALAA9999Z",1000,null,null,1000,{"$f":"+IFERROR(IF(COUNT(K54),ROUND(K54/'Shareholding Pattern'!$L$57*100,2),\"\"),0)","v":{"v":0,"d":"0.00"}},{"v":1000,"d":"1000.00"},null,{"v":1000,"d":"1000.00"},{"$f":"+IFERROR(IF(COUNT(O54),ROUND(O54/('Shareholding Pattern'!$P$58)*100,2),\"\"),0)","v":{"v":0,"d":"0.00"}},null,null,"",{"$f":"+IFERROR(IF(COUNT(K54,S54),ROUND(SUM(S54,K54)/SUM('Shareholding Pattern'!$L$57,'Shareholding Pattern'!$T$57)*100,2),\"\"),0)","v":{"v":0,"d":"0.00"}},null,"",null,"",0,{"$nulls":3},1]
[{"$nulls":4},41,"SURESH BABU DEVINENI","AAMAA9999Z",500,null,null,500,{"$f":"+IFERROR(IF(COUNT(K55),ROUND(K55/'Shareholding Pattern'!$L$57*100,2),\"\"),0)","v":{"v":0,"d":"0.00"}},{"v":500,"d":"500.00"},null,{"v":500,"d":"500.00"},{"$f":"+IFERROR(IF(COUNT(O55),ROUND(O55/('Shareholding Pattern'!$P$58)*100,2),\"\"),0)","v":{"v":0,"d":"0.00"}},null,null,"",{"$f":"+IFERROR(IF(COUNT(K55,S55),ROUND(SUM(S55,K55)/SUM('Shareholding Pattern'!$L$57,'Shareholding Pattern'!$T$57)*100,2),\"\"),0)","v":{"v":0,"d":"0.00"}},null,"",null,"",0,{"$nulls":3},1]
[{"$nulls":4},42,"VENKATESHWARA RAO TUMMALA","AANAA9999Z",500,null,null,500,{"$f":"+IFERROR(IF(COUNT(K56),ROUND(K56/'Shareholding Pattern'!$L$57*100,2),\"\"),0)","v":{"v":0,"d":"0.00"}},{"v":500,"d":"500.00"},null,{"v":500,"d":"500.00"},{"$f":"+IFERROR(IF(COUNT(O56),ROUND(O56/('Shareholding Pattern'!$P$58)*100,2),\"\"),0)","v":{"v":0,"d":"0.00"}},null,null,"",{"$f":"+IFERROR(IF(COUNT(K56,S56),ROUND(SUM(S56,K56)/SUM('Shareholding Pattern'!$L$57,'Shareholding Pattern'!$T$57)*100,2),\"\"),0)","v":{"v":0,"d":"0.00"}},null,"",null,"",0,{"$nulls":3},1]
[{"$nulls":4},43,"J. GEETANJALI","AAOAA9999Z",500,null,null,500,{"$f":"+IFERROR(IF(COUNT(K57),ROUND(K57/'Shareholding Pattern'!$L$57*100,2),\"\"),0)","v":{"v":0,"d":"0.00"}},{"v":500,"d":"500.00"},null,{"v":500,"d":"500.00"},{"$f":"+IFERROR(IF(COUNT(O57),ROUND(O57/('Shareholding Pattern'!$P$58)*100,2),\"\"),0)","v":{"v":0,"d":"0.00"}},null,null,"",{"$f":"+IFERROR(IF(COUNT(K57,S57),ROUND(SUM(S57,K57)/SUM('Shareholding Pattern'!$L$57,'Shareholding Pattern'!$T$57)*100,2),\"\"),0)","v":{"v":0,"d":"0.00"}},null,"",null,"",0,{"$nulls":3},1]
[{"$nulls":4},44,"BASAVESWARI TIPIRNENI","AAPAA9999Z",1000,null,null,1000,{"$f":"+IFERROR(IF(COUNT(K58),ROUND(K58/'Shareholding Pattern'!$L$57*100,2),\"\"),0)","v":{"v":0,"d":"0.00"}},{"v":1000,"d":"1000.00"},null,{"v":1000,"d":"1000.00"},{"$f":"+IFERROR(IF(COUNT(O58),ROUND(O58/('Shareholding Pattern'!$P$58)*100,2),\"\"),0)","v":{"v":0,"d":"0.00"}},null,null,"",{"$f":"+IFERROR(IF(COUNT(K58,S58),ROUND(SUM(S58,K58)/SUM('Shareholding Pattern'!$L$57,'Shareholding Pattern'!$T$57)*100,2),\"\"),0)","v":{"v":0,"d":"0.00"}},null,"",null,"",0,{"$nulls":3},1]
[{"$nulls":4},45,"SANDHYA DEVI JUTURU","AAQAA9999Z",500,null,null,500,{"$f":"+IFERROR(IF(COUNT(K59),ROUND(K59/'Shareholding Pattern'!$L$57*100,2),\"\"),0)","v":{"v":0,"d":"0.00"}},{"v":500,"d":"500.00"},null,{"v":500,"d":"500.00"},{"$f":"+IFERROR(IF(COUNT(O59),ROUND(O59/('Shareholding Pattern'!$P$58)*100,2),\"\"),0)","v":{"v":0,"d":"0.00"}},null,null,"",{"$f":"+IFERROR(IF(COUNT(K59,S59),ROUND(SUM(S59,K59)/SUM('Shareholding Pattern'!$L$57,'Shareholding Pattern'!$T$57)*100,2),\"\"),0)","v":{"v":0,"d":"0.00"}},null,"",null,"",0,{"$nulls":3},1]
[{"$nulls":4},46,"SITARAMAIAH PARCHURI","AARAA9999Z",500,null,null,500,{"$f":"+IFERROR(IF(COUNT(K60),ROUND(K60/'Shareholding Pattern'!$L$57*100,2),\"\"),0)","v":{"v":0,"d":"0.00"}},{"v":500,"d":"500.00"},null,{"v":500,"d":"500.00"},{"$f":"+IFERROR(IF(COUNT(O60),ROUND(O60/('Shareholding Pattern'!$P$58)*100,2),\"\"),0)","v":{"v":0,"d":"0.00"}},null,null,"",{"$f":"+IFERROR(IF(COUNT(K60,S60),ROUND(SUM(S60,K60)/SUM('Shareholding Pattern'!$L$57,'Shareholding Pattern'!$T$57)*100,2),\"\"),0)","v":{"v":0,"d":"0.00"}},null,"",null,"",0,{"$nulls":3},1]
[{"$nulls":4},47,"USHA PATIBANDLA","AASAA9999Z",500,null,null,500,{"$f":"+IFERROR(IF(COUNT(K61),ROUND(K61/'Shareholding Pattern'!$L$57*100,2),\"\"),0)","v":{"v":0,"d":"0.00"}},{"v":500,"d":"500.00"},null,{"v":500,"d":"500.00"},{"$f":"+IFERROR(IF(COUNT(O61),ROUND(O61/('Shareholding Pattern'!$P$58)*100,2),\"\"),0)","v":{"v":0,"d":"0.00"}},null,null,"",{"$f":"+IFERROR(IF(COUNT(K61,S61),ROUND(SUM(S61,K61)/SUM('Shareholding Pattern'!$L$57,'Shareholding Pattern'!$T$57)*100,2),\"\"),0)","v":{"v":0,"d":"0.00"}},null,"",null,"",0,{"$nulls":3},1]
[{"$nulls":4},48,"PRASUNAMBA KOTHA","AATAA9999Z",1000,null,null,1000,{"$f":"+IFERROR(IF(COUNT(K62),ROUND(K62/'Shareholding Pattern'!$L$57*100,2),\"\"),0)","v":{"v":0,"d":"0.00"}},{"v":1000,"d":"1000.00"},null,{"v":1000,"d":"1000.00"},{"$f":"+IFERROR(IF(COUNT(O62),ROUND(O62/('Shareholding Pattern'!$P$58)*100,2),\"\"),0)","v":{"v":0,"d":"0.00"}},null,null,"",{"$f":"+IFERROR(IF(COUNT(K62,S62),ROUND(SUM(S62,K62)/SUM('Shareholding Pattern'!$L$57,'Shareholding Pattern'!$T$57)*100,2),\"\"),0)","v":{"v":0,"d":"0.00"}},null,"",null,"",0,{"$nulls":3},1]
[{"$nulls":4},49,"S.V. KASTURI","AAUAA9999Z",500,null,null,500,{"$f":"+IFERROR(IF(COUNT(K63),ROUND(K63/'Shareholding Pattern'!$L$57*100,2),\"\"),0)","v":{"v":0,"d":"0.00"}},{"v":500,"d":"500.00"},null,{"v":500,"d":"500.00"},{"$f":"+IFERROR(IF(COUNT(O63),ROUND(O63/('Shareholding Pattern'!$P$58)*100,2),\"\"),0)","v":{"v":0,"d":"0.00"}},null,null,"",{"$f":"+IFERROR(IF(COUNT(K63,S63),ROUND(SUM(S63,K63)/SUM('Shareholding Pattern'!$L$57,'Shareholding Pattern'!$T$57)*100,2),\"\"),0)","v":{"v":0,"d":"0.00"}},null,"",null,"",0,{"$nulls":3},1]
[{"$nulls":4},50,"S. SRIDHARAN","AAVAA9999Z",1000,null,null,1000,{"$f":"+IFERROR(IF(COUNT(K64),ROUND(K64/'Shareholding Pattern'!$L$57*100,2),\"\"),0)","v":{"v":0,"d":"0.00"}},{"v":1000,"d":"1000.00"},null,{"v":1000,"d":"1000.00"},{"$f":"+IFERROR(IF(COUNT(O64),ROUND(O64/('Shareholding Pattern'!$P$58)*100,2),\"\"),0)","v":{"v":0,"d":"0.00"}},null,null,"",{"$f":"+IFERROR(IF(COUNT(K64,S64),ROUND(SUM(S64,K64)/SUM('Shareholding Pattern'!$L$57,'Shareholding Pattern'!$T$57)*100,2),\"\"),0)","v":{"v":0,"d":"0.00"}},null,"",null,"",0,{"$nulls":3},1]
[{"$nulls":4},51,"TEJOMAI VUYYURU","AAWAA9999Z",1000,null,null,1000,{"$f":"+IFERROR(IF(COUNT(K65),ROUND(K65/'Shareholding Pattern'!$L$57*100,2),\"\"),0)","v":{"v":0,"d":"0.00"}},{"v":1000,"d":"1000.00"},null,{"v":1000,"d":"1000.00"},{"$f":"+IFERROR(IF(COUNT(O65),ROUND(O65/('Shareholding Pattern'!$P$58)*100,2),\"\"),0)","v":{"v":0,"d":"0.00"}},null,null,"",{"$f":"+IFERROR(IF(COUNT(K65,S65),ROUND(SUM(S65,K65)/SUM('Shareholding Pattern'!$L$57,'Shareholding Pattern'!$T$57)*100,2),\"\"),0)","v":{"v":0,"d":"0.00"}},null,"",null,"",0,{"$nulls":3},1]
[{"$nulls":4},52,"VUYYURU CHANDRA KUMARI","AAXAA9999Z",1000,null,null,1000,{"$f":"+IFERROR(IF(COUNT(K66),ROUND(K66/'Shareholding Pattern'!$L$57*100,2),\"\"),0)","v":{"v":0,"d":"0.00"}},{"v":1000,"d":"1000.00"},null,{"v":1000,"d":"1000.00"},{"$f":"+IFERROR(IF(COUNT(O66),ROUND(O66/('Shareholding Pattern'!$P$58)*100,2),\"\"),0)","v":{"v":0,"d":"0.00"}},null,null,"",{"$f":"+IFERROR(IF(COUNT(K66,S66),ROUND(SUM(S66,K66)/SUM('Shareholding Pattern'!$L$57,'Shareholding Pattern'!$T$57)*100,2),\"\"),0)","v":{"v":0,"d":"0.00"}},null,"",null,"",0,{"$nulls":3},1]
[{"$nulls":4},53,"VUYYURU LAKSHMAIAH","AAYAA9999Z",1000,null,null,1000,{"$f":"+IFERROR(IF(COUNT(K67),ROUND(K67/'Shareholding Pattern'!$L$57*100,2),\"\"),0)","v":{"v":0,"d":"0.00"}},{"v":1000,"d":"1000.00"},null,{"v":1000,"d":"1000.00"},{"$f":"+IFERROR(IF(COUNT(O67),ROUND(O67/('Shareholding Pattern'!$P$58)*100,2),\"\"),0)","v":{"v":0,"d":"0.00"}},null,null,"",{"$f":"+IFERROR(IF(COUNT(K67,S67),ROUND(SUM(S67,K67)/SUM('Shareholding Pattern'!$L$57,'Shareholding Pattern'!$T$57)*100,2),\"\"),0)","v":{"v":0,"d":"0.00"}},null,"",null,"",0,{"$nulls":3},1]
[{"$nulls":4},54,"ANAND KUMAR","AAZAA9999Z",300,null,null,300,{"$f":"+IFERROR(IF(COUNT(K68),ROUND(K68/'Shareholding Pattern'!$L$57*100,2),\"\"),0)","v":{"v":0,"d":"0.00"}},{"v":300,"d":"300.00"},null,{"v":300,"d":"300.00"},{"$f":"+IFERROR(IF(COUNT(O68),ROUND(O68/('Shareholding Pattern'!$P$58)*100,2),\"\"),0)","v":{"v":0,"d":"0.00"}},null,null,"",{"$f":"+IFERROR(IF(COUNT(K68,S68),ROUND(SUM(S68,K68)/SUM('Shareholding Pattern'!$L$57,'Shareholding Pattern'!$T$57)*100,2),\"\"),0)","v":{"v":0,"d":"0.00"}},null,"",null,"",0,{"$nulls":3},1]
[{"$nulls":4},55,"KUMARASWAMY PUVVADA","AAABA9999Z",500,null,null,500,{"$f":"+IFERROR(IF(COUNT(K69),ROUND(K69/'Shareholding Pattern'!$L$57*100,2),\"\"),0)","v":{"v":0,"d":"0.00"}},{"v":500,"d":"500.00"},null,{"v":500,"d":"500.00"},{"$f":"+IFERROR(IF(COUNT(O69),ROUND(O69/('Shareholding Pattern'!$P$58)*100,2),\"\"),0)","v":{"v":0,"d":"0.00"}},null,null,"",{"$f":"+IFERROR(IF(COUNT(K69,S69),ROUND(SUM(S69,K69)/SUM('Shareholding Pattern'!$L$57,'Shareholding Pattern'!$T$57)*100,2),\"\"),0)","v":{"v":0,"d":"0.00"}},null,"",null,"",0,{"$nulls":3},1]
[{"$nulls":4},56,"SARADA GOLLAPOTHU","AAACA9999Z",500,null,null,500,{"$f":"+IFERROR(IF(COUNT(K70),ROUND(K70/'Shareholding Pattern'!$L$57*100,2),\"\"),0)","v":{"v":0,"d":"0.00"}},{"v":500,"d":"500.00"},null,{"v":500,"d":"500.00"},{"$f":"+IFERROR(IF(COUNT(O70),ROUND(O70/('Shareholding Pattern'!$P$58)*100,2),\"\"),0)","v":{"v":0,"d":"0.00"}},null,null,"",{"$f":"+IFERROR(IF(COUNT(K70,S70),ROUND(SUM(S70,K70)/SUM('Shareholding Pattern'!$L$57,'Shareholding Pattern'!$T$57)*100,2),\"\"),0)","v":{"v":0,"d":"0.00"}},null,"",null,"",0,{"$nulls":3},1]
[{"$nulls":4},57,"SATYANARAYANA POOSRLA","AAADA9999Z",500,null,null,500,{"$f":"+IFERROR(IF(COUNT(K71),ROUND(K71/'Shareholding Pattern'!$L$57*100,2),\"\"),0)","v":{"v":0,"d":"0.00"}},{"v":500,"d":"500.00"},null,{"v":500,"d":"500.00"},{"$f":"+IFERROR(IF(COUNT(O71),ROUND(O71/('Shareholding Pattern'!$P$58)*100,2),\"\"),0)","v":{"v":0,"d":"0.00"}},null,null,"",{"$f":"+IFERROR(IF(COUNT(K71,S71),ROUND(SUM(S71,K71)/SUM('Shareholding Pattern'!$L$57,'Shareholding Pattern'!$T$57)*100,2),\"\"),0)","v":{"v":0,"d":"0.00"}},null,"",null,"",0,{"$nulls":3},1]
[{"$nulls":4},58,"SRI RAMULU GANTA","AAAEA9999Z",500,null,null,500,{"$f":"+IFERROR(IF(COUNT(K72),ROUND(K72/'Shareholding Pattern'!$L$57*100,2),\"\"),0)","v":{"v":0,"d":"0.00"}},{"v":500,"d":"500.00"},null,{"v":500,"d":"500.00"},{"$f":"+IFERROR(IF(COUNT(O72),ROUND(O72/('Shareholding Pattern'!$P$58)*100,2),\"\"),0)","v":{"v":0,"d":"0.00"}},null,null,"",{"$f":"+IFERROR(IF(COUNT(K72,S72),ROUND(SUM(S72,K72)/SUM('Shareholding Pattern'!$L$57,'Shareholding Pattern'!$T$57)*100,2),\"\"),0)","v":{"v":0,"d":"0.00"}},null,"",null,"",0,{"$nulls":3},1]
[{"$nulls":4},59,"GOWRI SANKAR NARAYAN PRASAD BARATAM","AAAFA9999Z",500,null,null,500,{"$f":"+IFERROR(IF(COUNT(K73),ROUND(K73/'Shareholding Pattern'!$L$57*100,2),\"\"),0)","v":{"v":0,"d":"0.00"}},{"v":500,"d":"500.00"},null,{"v":500,"d":"500.00"},{"$f":"+IFERROR(IF(COUNT(O73),ROUND(O73/('Shareholding Pattern'!$P$58)*100,2),\"\"),0)","v":{"v":0,"d":"0.00"}},null,null,"",{"$f":"+IFERROR(IF(COUNT(K73,S73),ROUND(SUM(S73,K73)/SUM('Shareholding Pattern'!$L$57,'Shareholding Pattern'!$T$57)*100,2),\"\"),0)","v":{"v":0,"d":"0.00"}},null,"",null,"",0,{"$nulls":3},1]
[{"$nulls":4},60,"CHINA GUMPASWAMY INDUPURU","AAAGA9999Z",400,null,null,400,{"$f":"+IFERROR(IF(COUNT(K74),ROUND(K74/'Shareholding Pattern'!$L$57*100,2),\"\"),0)","v":{"v":0,"d":"0.00"}},{"v":400,"d":"400.00"},null,{"v":400,"d":"400.00"},{"$f":"+IFERROR(IF(COUNT(O74),ROUND(O74/('Shareholding Pattern'!$P$58)*100,2),\"\"),0)","v":{"v":0,"d":"0.00"}},null,null,"",{"$f":"+IFERROR(IF(COUNT(K74,S74),ROUND(SUM(S74,K74)/SUM('Shareholding Pattern'!$L$57,'Shareholding Pattern'!$T$57)*100,2),\"\"),0)","v":{"v":0,"d":"0.00"}},null,"",null,"",0,{"$nulls":3},1]
[{"$nulls":4},61,"AMBICA CHINNARI","AAAHA9999Z",500,null,null,500,{"$f":"+IFERROR(IF(COUNT(K75),ROUND(K75/'Shareholding Pattern'!$L$57*100,2),\"\"),0)","v":{"v":0,"d":"0.00"}},{"v":500,"d":"500.00"},null,{"v":500,"d":"500.00"},{"$f":"+IFERROR(IF(COUNT(O75),ROUND(O75/('Shareholding Pattern'!$P$58)*100,2),\"\"),0)","v":{"v":0,"d":"0.00"}},null,null,"",{"$f":"+IFERROR(IF(COUNT(K75,S75),ROUND(SUM(S75,K75)/SUM('Shareholding Pattern'!$L$57,'Shareholding Pattern'!$T$57)*100,2),\"\"),0)","v":{"v":0,"d":"0.00"}},null,"",null,"",0,{"$nulls":3},1]
[{"$nulls":4},62,"RAMA KRISHNA RAO PENTAPATI","AAAIA9999Z",500,null,null,500,{"$f":"+IFERROR(IF(COUNT(K76),ROUND(K76/'Shareholding Pattern'!$L$57*100,2),\"\"),0)","v":{"v":0,"d":"0.00"}},{"v":500,"d":"500.00"},null,{"v":500,"d":"500.00"},{"$f":"+IFERROR(IF(COUNT(O76),ROUND(O76/('Shareholding Pattern'!$P$58)*100,2),\"\"),0)","v":{"v":0,"d":"0.00"}},null,null,"",{"$f":"+IFERROR(IF(COUNT(K76,S76),ROUND(SUM(S76,K76)/SUM('Shareholding Pattern'!$L$57,'Shareholding Pattern'!$T$57)*100,2),\"\"),0)","v":{"v":0,"d":"0.00"}},null,"",null,"",0,{"$nulls":3},1]
[{"$nulls":4},63,"BALAJI RAO GANTA","AAAJA9999Z",500,null,null,500,{"$f":"+IFERROR(IF(COUNT(K77),ROUND(K77/'Shareholding Pattern'!$L$57*100,2),\"\"),0)","v":{"v":0,"d":"0.00"}},{"v":500,"d":"500.00"},null,{"v":500,"d":"500.00"},{"$f":"+IFERROR(IF(COUNT(O77),ROUND(O77/('Shareholding Pattern'!$P$58)*100,2),\"\"),0)","v":{"v":0,"d":"0.00"}},null,null,"",{"$f":"+IFERROR(IF(COUNT(K77,S77),ROUND(SUM(S77,K77)/SUM('Shareholding Pattern'!$L$57,'Shareholding Pattern'!$T$57)*100,2),\"\"),0)","v":{"v":0,"d":"0.00"}},null,"",null,"",0,{"$nulls":3},1]
[{"$nulls":4},64,"PRASANNA LAKSHMI KOTHA","AAAKA9999Z",500,null,null,500,{"$f":"+IFERROR(IF(COUNT(K78),ROUND(K78/'Shareholding Pattern'!$L$57*100,2),\"\"),0)","v":{"v":0,"d":"0.00"}},{"v":500,"d":"500.00"},null,{"v":500,"d":"500.00"},{"$f":"+IFERROR(IF(COUNT(O78),ROUND(O78/('Shareholding Pattern'!$P$58)*100,2),\"\"),0)","v":{"v":0,"d":"0.00"}},null,null,"",{"$f":"+IFERROR(IF(COUNT(K78,S78),ROUND(SUM(S78,K78)/SUM('Shareholding Pattern'!$L$57,'Shareholding Pattern'!$T$57)*100,2),\"\"),0)","v":{"v":0,"d":"0.00"}},null,"",null,"",0,{"$nulls":3},1]
[{"$nulls":4},65,"GITESHWARA RAO","AAALA9999Z",1900,null,null,{"$f":"+IFERROR(IF(COUNT(H79:J79),ROUND(SUM(H79:J79),0),\"\"),\"\")","v":1900},{"$f":"+IFERROR(IF(COUNT(K79),ROUND(K79/'Shareholding Pattern'!$L$57*100,2),\"\"),0)","v":0.01},{"$f":"IF(H79=\"\",\"\",H79)","v":{"v":1900,"d":"1900.00"}},null,{"$f":"+IFERROR(IF(COUNT(M79:N79),ROUND(SUM(M79,N79),2),\"\"),\"\")","v":{"v":1900,"d":"1900.00"}},{"$f":"+IFERROR(IF(COUNT(O79),ROUND(O79/('Shareholding Pattern'!$P$58)*100,2),\"\"),0)","v":0.01},null,null,{"$f":"+IFERROR(IF(COUNT(Q79:R79),ROUND(SUM(Q79:R79),0),\"\"),\"\")","v":""},{"$f":"+IFERROR(IF(COUNT(K79,S79),ROUND(SUM(S79,K79)/SUM('Shareholding Pattern'!$L$57,'Shareholding Pattern'!$T$57)*100,2),\"\"),0)","v":0.01},null,{"$f":"+IFERROR(IF(COUNT(U79),ROUND(SUM(U79)/SUM(K79)*100,2),\"\"),0)","v":""},null,{"$f":"+IFERROR(IF(COUNT(W79),ROUND(SUM(W79)/SUM(K79)*100,2),\"\"),0)","v":""},0,{"$nulls":3},{"$f":"IF(SUM(H79:Y79)>0,1,0)","v":1}]
[{"$nulls":4},66,"VEERA RAGHAVULU","AAAMA9999Z",1900,null,null,1900,{"$f":"+IFERROR(IF(COUNT(K80),ROUND(K80/'Shareholding Pattern'!$L$57*100,2),\"\"),0)","v":0.01},{"v":1900,"d":"1900.00"},null,{"v":1900,"d":"1900.00"},{"$f":"+IFERROR(IF(COUNT(O80),ROUND(O80/('Shareholding Pattern'!$P$58)*100,2),\"\"),0)","v":0.01},null,null,"",{"$f":"+IFERROR(IF(COUNT(K80,S80),ROUND(SUM(S80,K80)/SUM('Shareholding Pattern'!$L$57,'Shareholding Pattern'!$T$57)*100,2),\"\"),0)","v":0.01},null,"",null,"",0,{"$nulls":3},1]
[{"$nulls":4},67,"ARAYANA","AAANA9999Z",1900,null,null,1900,{"$f":"+IFERROR(IF(COUNT(K81),ROUND(K81/'Shareholding Pattern'!$L$57*100,2),\"\"),0)","v":0.01},{"v":1900,"d":"1900.00"},null,{"v":1900,"d":"1900.00"},{"$f":"+IFERROR(IF(COUNT(O81),ROUND(O81/('Shareholding Pattern'!$P$58)*100,2),\"\"),0)","v":0.01},null,null,"",{"$f":"+IFERROR(IF(COUNT(K81,S81),ROUND(SUM(S81,K81)/SUM('Shareholding Pattern'!$L$57,'Shareholding Pattern'!$T$57)*100,2),\"\"),0)","v":0.01},null,"",null,"",0,{"$nulls":3},1]
[{"$nulls":4},68,"GANESH ","AAAOA9999Z",1900,null,null,1900,{"$f":"+IFERROR(IF(COUNT(K82),ROUND(K82/'Shareholding Pattern'!$L$57*100,2),\"\"),0)","v":0.01},{"v":1900,"d":"1900.00"},null,{"v":1900,"d":"1900.00"},{"$f":"+IFERROR(IF(COUNT(O82),ROUND(O82/('Shareholding Pattern'!$P$58)*100,2),\"\"),0)","v":0.01},null,null,"",{"$f":"+IFERROR(IF(COUNT(K82,S82),ROUND(SUM(S82,K82)/SUM('Shareholding Pattern'!$L$57,'Shareholding Pattern'!$T$57)*100,2),\"\"),0)","v":0.01},null,"",null,"",0,{"$nulls":3},1]
[{"$nulls":4},69,"MOHAN RAJU","AAAPA9999Z",1500,null,null,1500,{"$f":"+IFERROR(IF(COUNT(K83),ROUND(K83/'Shareholding Pattern'!$L$57*100,2),\"\"),0)","v":0.01},{"v":1500,"d":"1500.00"},null,{"v":1500,"d":"1500.00"},{"$f":"+IFERROR(IF(COUNT(O83),ROUND(O83/('Shareholding Pattern'!$P$58)*100,2),\"\"),0)","v":0.01},null,null,"",{"$f":"+IFERROR(IF(COUNT(K83,S83),ROUND(SUM(S83,K83)/SUM('Shareholding Pattern'!$L$57,'Shareholding Pattern'!$T$57)*100,2),\"\"),0)","v":0.01},null,"",null,"",0,{"$nulls":3},1]
[{"$nulls":4},70,"VIJAY KUMAR","AAAQA9999Z",1900,null,null,1900,{"$f":"+IFERROR(IF(COUNT(K84),ROUND(K84/'Shareholding Pattern'!$L$57*100,2),\"\"),0)","v":0.01},{"v":1900,"d":"1900.00"},null,{"v":1900,"d":"1900.00"},{"$f":"+IFERROR(IF(COUNT(O84),ROUND(O84/('Shareholding Pattern'!$P$58)*100,2),\"\"),0)","v":0.01},null,null,"",{"$f":"+IFERROR(IF(COUNT(K84,S84),ROUND(SUM(S84,K84)/SUM('Shareholding Pattern'!$L$57,'Shareholding Pattern'!$T$57)*100,2),\"\"),0)","v":0.01},null,"",null,"",0,{"$nulls":3},1]
[{"$nulls":4},71,"J. MOHAN RAM","AAARA9999Z",500,null,null,500,{"$f":"+IFERROR(IF(COUNT(K85),ROUND(K85/'Shareholding Pattern'!$L$57*100,2),\"\"),0)","v":{"v":0,"d":"0.00"}},{"v":500,"d":"500.00"},null,{"v":500,"d":"500.00"},{"$f":"+IFERROR(IF(COUNT(O85),ROUND(O85/('Shareholding Pattern'!$P$58)*100,2),\"\"),0)","v":{"v":0,"d":"0.00"}},null,null,"",{"$f":"+IFERROR(IF(COUNT(K85,S85),ROUND(SUM(S85,K85)/SUM('Shareholding Pattern'!$L$57,'Shareholding Pattern'!$T$57)*100,2),\"\"),0)","v":{"v":0,"d":"0.00"}},null,"",null,"",0,{"$nulls":3},1]
[{"$nulls":4},72,"SURENDRA REDDY B","AAASA9999Z",1000,null,null,1000,{"$f":"+IFERROR(IF(COUNT(K86),ROUND(K86/'Shareholding Pattern'!$L$57*100,2),\"\"),0)","v":{"v":0,"d":"0.00"}},{"v":1000,"d":"1000.00"},null,{"v":1000,"d":"1000.00"},{"$f":"+IFERROR(IF(COUNT(O86),ROUND(O86/('Shareholding Pattern'!$P$58)*100,2),\"\"),0)","v":{"v":0,"d":"0.00"}},null,null,"",{"$f":"+IFERROR(IF(COUNT(K86,S86),ROUND(SUM(S86,K86)/SUM('Shareholding Pattern'!$L$57,'Shareholding Pattern'!$T$57)*100,2),\"\"),0)","v":{"v":0,"d":"0.00"}},null,"",null,"",0,{"$nulls":3},1]
[{"$nulls":4},73,"VENKATESAARLU TUNIKIPATI","AAATA9999Z",1000,null,null,1000,{"$f":"+IFERROR(IF(COUNT(K87),ROUND(K87/'Shareholding Pattern'!$L$57*100,2),\"\"),0)","v":{"v":0,"d":"0.00"}},{"v":1000,"d":"1000.00"},null,{"v":1000,"d":"1000.00"},{"$f":"+IFERROR(IF(COUNT(O87),ROUND(O87/('Shareholding Pattern'!$P$58)*100,2),\"\"),0)","v":{"v":0,"d":"0.00"}},null,null,"",{"$f":"+IFERROR(IF(COUNT(K87,S87),ROUND(SUM(S87,K87)/SUM('Shareholding Pattern'!$L$57,'Shareholding Pattern'!$T$57)*100,2),\"\"),0)","v":{"v":0,"d":"0.00"}},null,"",null,"",0,{"$nulls":3},1]
[{"$nulls":4},74,"VENKATESWARA RAO THOTAKURA","AAAUA9999Z",1000,null,null,1000,{"$f":"+IFERROR(IF(COUNT(K88),ROUND(K88/'Shareholding Pattern'!$L$57*100,2),\"\"),0)","v":{"v":0,"d":"0.00"}},{"v":1000,"d":"1000.00"},null,{"v":1000,"d":"1000.00"},{"$f":"+IFERROR(IF(COUNT(O88),ROUND(O88/('Shareholding Pattern'!$P$58)*100,2),\"\"),0)","v":{"v":0,"d":"0.00"}},null,null,"",{"$f":"+IFERROR(IF(COUNT(K88,S88),ROUND(SUM(S88,K88)/SUM('Shareholding Pattern'!$L$57,'Shareholding Pattern'!$T$57)*100,2),\"\"),0)","v":{"v":0,"d":"0.00"}},null,"",null,"",0,{"$nulls":3},1]
[{"$nulls":4},75,"JASDEEP SINGH WALIA","AAAVA9999Z",400,null,null,400,{"$f":"+IFERROR(IF(COUNT(K89),ROUND(K89/'Shareholding Pattern'!$L$57*100,2),\"\"),0)","v":{"v":0,"d":"0.00"}},{"v":400,"d":"400.00"},null,{"v":400,"d":"400.00"},{"$f":"+IFERROR(IF(COUNT(O89),ROUND(O89/('Shareholding Pattern'!$P$58)*100,2),\"\"),0)","v":{"v":0,"d":"0.00"}},null,null,"",{"$f":"+IFERROR(IF(COUNT(K89,S89),ROUND(SUM(S89,K89)/SUM('Shareholding Pattern'!$L$57,'Shareholding Pattern'!$T$57)*100,2),\"\"),0)","v":{"v":0,"d":"0.00"}},null,"",null,"",0,{"$nulls":3},1]
[{"$nulls":4},76,"SHISHU PAUL MITTAL","AAAWA9999Z",500,null,null,500,{"$f":"+IFERROR(IF(COUNT(K90),ROUND(K90/'Shareholding Pattern'!$L$57*100,2),\"\"),0)","v":{"v":0,"d":"0.00"}},{"v":500,"d":"500.00"},null,{"v":500,"d":"500.00"},{"$f":"+IFERROR(IF(COUNT(O90),ROUND(O90/('Shareholding Pattern'!$P$58)*100,2),\"\"),0)","v":{"v":0,"d":"0.00"}},null,null,"",{"$f":"+IFERROR(IF(COUNT(K90,S90),ROUND(SUM(S90,K90)/SUM('Shareholding Pattern'!$L$57,'Shareholding Pattern'!$T$57)*100,2),\"\"),0)","v":{"v":0,"d":"0.00"}},null,"",null,"",0,{"$nulls":3},1]
[{"$nulls":4},77,"SATYA PAUL","AAAXA9999Z",1000,null,null,1000,{"$f":"+IFERROR(IF(COUNT(K91),ROUND(K91/'Shareholding Pattern'!$L$57*100,2),\"\"),0)","v":{"v":0,"d":"0.00"}},{"v":1000,"d":"1000.00"},null,{"v":1000,"d":"1000.00"},{"$f":"+IFERROR(IF(COUNT(O91),ROUND(O91/('Shareholding Pattern'!$P$58)*100,2),\"\"),0)","v":{"v":0,"d":"0.00"}},null,null,"",{"$f":"+IFERROR(IF(COUNT(K91,S91),ROUND(SUM(S91,K91)/SUM('Shareholding Pattern'!$L$57,'Shareholding Pattern'!$T$57)*100,2),\"\"),0)","v":{"v":0,"d":"0.00"}},null,"",null,"",0,{"$nulls":3},1]
[{"$nulls":4},78,"YASH PAUL","AAAYA9999Z",700,null,null,700,{"$f":"+IFERROR(IF(COUNT(K92),ROUND(K92/'Shareholding Pattern'!$L$57*100,2),\"\"),0)","v":{"v":0,"d":"0.00"}},{"v":700,"d":"700.00"},null,{"v":700,"d":"700.00"},{"$f":"+IFERROR(IF(COUNT(O92),ROUND(O92/('Shareholding Pattern'!$P$58)*100,2),\"\"),0)","v":{"v":0,"d":"0.00"}},null,null,"",{"$f":"+IFERROR(IF(COUNT(K92,S92),ROUND(SUM(S92,K92)/SUM('Shareholding Pattern'!$L$57,'Shareholding Pattern'!$T$57)*100,2),\"\"),0)","v":{"v":0,"d":"0.00"}},null,"",null,"",0,{"$nulls":3},1]
[{"$nulls":4},79,"SUNITA","AAAZA9999Z",700,null,null,700,{"$f":"+IFERROR(IF(COUNT(K93),ROUND(K93/'Shareholding Pattern'!$L$57*100,2),\"\"),0)","v":{"v":0,"d":"0.00"}},{"v":700,"d":"700.00"},null,{"v":700,"d":"700.00"},{"$f":"+IFERROR(IF(COUNT(O93),ROUND(O93/('Shareholding Pattern'!$P$58)*100,2),\"\"),0)","v":{"v":0,"d":"0.00"}},null,null,"",{"$f":"+IFERROR(IF(COUNT(K93,S93),ROUND(SUM(S93,K93)/SUM('Shareholding Pattern'!$L$57,'Shareholding Pattern'!$T$57)*100,2),\"\"),0)","v":{"v":0,"d":"0.00"}},null,"",null,"",0,{"$nulls":3},1]
[{"$nulls":4},80,"MEENU RANI ","AAAAB9999Z",500,null,null,500,{"$f":"+IFERROR(IF(COUNT(K94),ROUND(K94/'Shareholding Pattern'!$L$57*100,2),\"\"),0)","v":{"v":0,"d":"0.00"}},{"v":500,"d":"500.00"},null,{"v":500,"d":"500.00"},{"$f":"+IFERROR(IF(COUNT(O94),ROUND(O94/('Shareholding Pattern'!$P$58)*100,2),\"\"),0)","v":{"v":0,"d":"0.00"}},null,null,"",{"$f":"+IFERROR(IF(COUNT(K94,S94),ROUND(SUM(S94,K94)/SUM('Shareholding Pattern'!$L$57,'Shareholding Pattern'!$T$57)*100,2),\"\"),0)","v":{"v":0,"d":"0.00"}},null,"",null,"",0,{"$nulls":3},1]
[{"$nulls":4},81,"NISHI GUPTA","AAAAC9999Z",500,null,null,500,{"$f":"+IFERROR(IF(COUNT(K95),ROUND(K95/'Shareholding Pattern'!$L$57*100,2),\"\"),0)","v":{"v":0,"d":"0.00"}},{"v":500,"d":"500.00"},null,{"v":500,"d":"500.00"},{"$f":"+IFERROR(IF(COUNT(O95),ROUND(O95/('Shareholding Pattern'!$P$58)*100,2),\"\"),0)","v":{"v":0,"d":"0.00"}},null,null,"",{"$f":"+IFERROR(IF(COUNT(K95,S95),ROUND(SUM(S95,K95)/SUM('Shareholding Pattern'!$L$57,'Shareholding Pattern'!$T$57)*100,2),\"\"),0)","v":{"v":0,"d":"0.00"}},null,"",null,"",0,{"$nulls":3},1]
[{"$nulls":4},82,"SAN DEEP KUMAR","AAAAD9999Z",500,null,null,500,{"$f":"+IFERROR(IF(COUNT(K96),ROUND(K96/'Shareholding Pattern'!$L$57*100,2),\"\"),0)","v":{"v":0,"d":"0.00"}},{"v":500,"d":"500.00"},null,{"v":500,"d":"500.00"},{"$f":"+IFERROR(IF(COUNT(O96),ROUND(O96/('Shareholding Pattern'!$P$58)*100,2),\"\"),0)","v":{"v":0,"d":"0.00"}},null,null,"",{"$f":"+IFERROR(IF(COUNT(K96,S96),ROUND(SUM(S96,K96)/SUM('Shareholding Pattern'!$L$57,'Shareholding Pattern'!$T$57)*100,2),\"\"),0)","v":{"v":0,"d":"0.00"}},null,"",null,"",0,{"$nulls":3},1]
[{"$nulls":4},83,"DARSHAN KUMAR SINGLA","AAAAE9999Z",300,null,null,300,{"$f":"+IFERROR(IF(COUNT(K97),ROUND(K97/'Shareholding Pattern'!$L$57*100,2),\"\"),0)","v":{"v":0,"d":"0.00"}},{"v":300,"d":"300.00"},null,{"v":300,"d":"300.00"},{"$f":"+IFERROR(IF(COUNT(O97),ROUND(O97/('Shareholding Pattern'!$P$58)*100,2),\"\"),0)","v":{"v":0,"d":"0.00"}},null,null,"",{"$f":"+IFERROR(IF(COUNT(K97,S97),ROUND(SUM(S97,K97)/SUM('Shareholding Pattern'!$L$57,'Shareholding Pattern'!$T$57)*100,2),\"\"),0)","v":{"v":0,"d":"0.00"}},null,"",null,"",0,{"$nulls":3},1]
[{"$nulls":4},84,"KRISHNA GOPAL","AAAAF9999Z",1000,null,null,1000,{"$f":"+IFERROR(IF(COUNT(K98),ROUND(K98/'Shareholding Pattern'!$L$57*100,2),\"\"),0)","v":{"v":0,"d":"0.00"}},{"v":1000,"d":"1000.00"},null,{"v":1000,"d":"1000.00"},{"$f":"+IFERROR(IF(COUNT(O98),ROUND(O98/('Shareholding Pattern'!$P$58)*100,2),\"\"),0)","v":{"v":0,"d":"0.00"}},null,null,"",{"$f":"+IFERROR(IF(COUNT(K98,S98),ROUND(SUM(S98,K98)/SUM('Shareholding Pattern'!$L$57,'Shareholding Pattern'!$T$57)*100,2),\"\"),0)","v":{"v":0,"d":"0.00"}},null,"",null,"",0,{"$nulls":3},1]
[{"$nulls":4},85,"SUNIL JAIN","AAAAG9999Z",1000,null,null,1000,{"$f":"+IFERROR(IF(COUNT(K99),ROUND(K99/'Shareholding Pattern'!$L$57*100,2),\"\"),0)","v":{"v":0,"d":"0.00"}},{"v":1000,"d":"1000.00"},null,{"v":1000,"d":"1000.00"},{"$f":"+IFERROR(IF(COUNT(O99),ROUND(O99/('Shareholding Pattern'!$P$58)*100,2),\"\"),0)","v":{"v":0,"d":"0.00"}},null,null,"",{"$f":"+IFERROR(IF(COUNT(K99,S99),ROUND(SUM(S99,K99)/SUM('Shareholding Pattern'!$L$57,'Shareholding Pattern'!$T$57)*100,2),\"\"),0)","v":{"v":0,"d":"0.00"}},null,"",null,"",0,{"$nulls":3},1]
[{"$nulls":4},86,"POOJA MEHTA","AAAAH9999Z",1000,null,null,1000,{"$f":"+IFERROR(IF(COUNT(K100),ROUND(K100/'Shareholding Pattern'!$L$57*100,2),\"\"),0)","v":{"v":0,"d":"0.00"}},{"v":1000,"d":"1000.00"},null,{"v":1000,"d":"1000.00"},{"$f":"+IFERROR(IF(COUNT(O100),ROUND(O100/('Shareholding Pattern'!$P$58)*100,2),\"\"),0)","v":{"v":0,"d":"0.00"}},null,null,"",{"$f":"+IFERROR(IF(COUNT(K100,S100),ROUND(SUM(S100,K100)/SUM('Shareholding Pattern'!$L$57,'Shareholding Pattern'!$T$57)*100,2),\"\"),0)","v":{"v":0,"d":"0.00"}},null,"",null,"",0,{"$nulls":3},1]
[{"$nulls":4},87,"KAMESHWARAMMA ANUMALA","AAAAI9999Z",200,null,null,200,{"$f":"+IFERROR(IF(COUNT(K101),ROUND(K101/'Shareholding Pattern'!$L$57*100,2),\"\"),0)","v":{"v":0,"d":"0.00"}},{"v":200,"d":"200.00"},null,{"v":200,"d":"200.00"},{"$f":"+IFERROR(IF(COUNT(O101),ROUND(O101/('Shareholding Pattern'!$P$58)*100,2),\"\"),0)","v":{"v":0,"d":"0.00"}},null,null,"",{"$f":"+IFERROR(IF(COUNT(K101,S101),ROUND(SUM(S101,K101)/SUM('Shareholding Pattern'!$L$57,'Shareholding Pattern'!$T$57)*100,2),\"\"),0)","v":{"v":0,"d":"0.00"}},null,"",null,"",0,{"$nulls":3},1]
[{"$nulls":4},88,"KULWANTRAJ","AAAAJ9999Z",500,null,null,500,{"$f":"+IFERROR(IF(COUNT(K102),ROUND(K102/'Shareholding Pattern'!$L$57*100,2),\"\"),0)","v":{"v":0,"d":"0.00"}},{"v":500,"d":"500.00"},null,{"v":500,"d":"500.00"},{"$f":"+IFERROR(IF(COUNT(O102),ROUND(O102/('Shareholding Pattern'!$P$58)*100,2),\"\"),0)","v":{"v":0,"d":"0.00"}},null,null,"",{"$f":"+IFERROR(IF(COUNT(K102,S102),ROUND(SUM(S102,K102)/SUM('Shareholding Pattern'!$L$57,'Shareholding Pattern'!$T$57)*100,2),\"\"),0)","v":{"v":0,"d":"0.00"}},null,"",null,"",0,{"$nulls":3},1]
[{"$nulls":4},89,"JETTI KRISHNA REDDY","AAAAK9999Z",1000,null,null,1000,{"$f":"+IFERROR(IF(COUNT(K103),ROUND(K103/'Shareholding Pattern'!$L$57*100,2),\"\"),0)","v":{"v":0,"d":"0.00"}},{"v":1000,"d":"1000.00"},null,{"v":1000,"d":"1000.00"},{"$f":"+IFERROR(IF(COUNT(O103),ROUND(O103/('Shareholding Pattern'!$P$58)*100,2),\"\"),0)","v":{"v":0,"d":"0.00"}},null,null,"",{"$f":"+IFERROR(IF(COUNT(K103,S103),ROUND(SUM(S103,K103)/SUM('Shareholding Pattern'!$L$57,'Shareholding Pattern'!$T$57)*100,2),\"\"),0)","v":{"v":0,"d":"0.00"}},null,"",null,"",0,{"$nulls":3},1]
[{"$nulls":4},90,"B. SUJATHA","AAAAL9999Z",1900,null,null,1900,{"$f":"+IFERROR(IF(COUNT(K104),ROUND(K104/'Shareholding Pattern'!$L$57*100,2),\"\"),0)","v":0.01},{"v":1900,"d":"1900.00"},null,{"v":1900,"d":"1900.00"},{"$f":"+IFERROR(IF(COUNT(O104),ROUND(O104/('Shareholding Pattern'!$P$58)*100,2),\"\"),0)","v":0.01},null,null,"",{"$f":"+IFERROR(IF(COUNT(K104,S104),ROUND(SUM(S104,K104)/SUM('Shareholding Pattern'!$L$57,'Shareholding Pattern'!$T$57)*100,2),\"\"),0)","v":0.01},null,"",null,"",0,{"$nulls":3},1]
[{"$nulls":4},91,"KRISHNA KARIKATI","AAAAM9999Z",1000,null,null,1000,{"$f":"+IFERROR(IF(COUNT(K105),ROUND(K105/'Shareholding Pattern'!$L$57*100,2),\"\"),0)","v":{"v":0,"d":"0.00"}},{"v":1000,"d":"1000.00"},null,{"v":1000,"d":"1000.00"},{"$f":"+IFERROR(IF(COUNT(O105),ROUND(O105/('Shareholding Pattern'!$P$58)*100,2),\"\"),0)","v":{"v":0,"d":"0.00"}},null,null,"",{"$f":"+IFERROR(IF(COUNT(K105,S105),ROUND(SUM(S105,K105)/SUM('Shareholding Pattern'!$L$57,'Shareholding Pattern'!$T$57)*100,2),\"\"),0)","v":{"v":0,"d":"0.00"}},null,"",null,"",0,{"$nulls":3},1]
[{"$nulls":4},92,"PARVATHA REDDI SOUJANYA REDDY","AAAAN9999Z",1500,null,null,1500,{"$f":"+IFERROR(IF(COUNT(K106),ROUND(K106/'Shareholding Pattern'!$L$57*100,2),\"\"),0)","v":0.01},{"v":1500,"d":"1500.00"},null,{"v":1500,"d":"1500.00"},{"$f":"+IFERROR(IF(COUNT(O106),ROUND(O106/('Shareholding Pattern'!$P$58)*100,2),\"\"),0)","v":0.01},null,null,"",{"$f":"+IFERROR(IF(COUNT(K106,S106),ROUND(SUM(S106,K106)/SUM('Shareholding Pattern'!$L$57,'Shareholding Pattern'!$T$57)*100,2),\"\"),0)","v":0.01},null,"",null,"",0,{"$nulls":3},1]
[{"$nulls":4},93,"P. SUPRIYA REDDY","AAAAO9999Z",1500,null,null,1500,{"$f":"+IFERROR(IF(COUNT(K107),ROUND(K107/'Shareholding Pattern'!$L$57*100,2),\"\"),0)","v":0.01},{"v":1500,"d":"1500.00"},null,{"v":1500,"d":"1500.00"},{"$f":"+IFERROR(IF(COUNT(O107),ROUND(O107/('Shareholding Pattern'!$P$58)*100,2),\"\"),0)","v":0.01},null,null,"",{"$f":"+IFERROR(IF(COUNT(K107,S107),ROUND(SUM(S107,K107)/SUM('Shareholding Pattern'!$L$57,'Shareholding Pattern'!$T$57)*100,2),\"\"),0)","v":0.01},null,"",null,"",0,{"$nulls":3},1]
[{"$nulls":4},94,"PARVATHA REDDY  SASHIDHAR REDDY","AAAAP9999Z",1500,null,null,1500,{"$f":"+IFERROR(IF(COUNT(K108),ROUND(K108/'Shareholding Pattern'!$L$57*100,2),\"\"),0)","v":0.01},{"v":1500,"d":"1500.00"},null,{"v":1500,"d":"1500.00"},{"$f":"+IFERROR(IF(COUNT(O108),ROUND(O108/('Shareholding Pattern'!$P$58)*100,2),\"\"),0)","v":0.01},null,null,"",{"$f":"+IFERROR(IF(COUNT(K108,S108),ROUND(SUM(S108,K108)/SUM('Shareholding Pattern'!$L$57,'Shareholding Pattern'!$T$57)*100,2),\"\"),0)","v":0.01},null,"",null,"",0,{"$nulls":3},1]
[{"$nulls":4},95,"SRINIVASA RAO SUREDDI","AAAAQ9999Z",1000,null,null,1000,{"$f":"+IFERROR(IF(COUNT(K109),ROUND(K109/'Shareholding Pattern'!$L$57*100,2),\"\"),0)","v":{"v":0,"d":"0.00"}},{"v":1000,"d":"1000.00"},null,{"v":1000,"d":"1000.00"},{"$f":"+IFERROR(IF(COUNT(O109),ROUND(O109/('Shareholding Pattern'!$P$58)*100,2),\"\"),0)","v":{"v":0,"d":"0.00"}},null,null,"",{"$f":"+IFERROR(IF(COUNT(K109,S109),ROUND(SUM(S109,K109)/SUM('Shareholding Pattern'!$L$57,'Shareholding Pattern'!$T$57)*100,2),\"\"),0)","v":{"v":0,"d":"0.00"}},null,"",null,"",0,{"$nulls":3},1]
[{"$nulls":4},96,"UDAYA KIRAN BASI REDDY","AAAAR9999Z",2000,null,null,2000,{"$f":"+IFERROR(IF(COUNT(K110),ROUND(K110/'Shareholding Pattern'!$L$57*100,2),\"\"),0)","v":0.01},{"v":2000,"d":"2000.00"},null,{"v":2000,"d":"2000.00"},{"$f":"+IFERROR(IF(COUNT(O110),ROUND(O110/('Shareholding Pattern'!$P$58)*100,2),\"\"),0)","v":0.01},null,null,"",{"$f":"+IFERROR(IF(COUNT(K110,S110),ROUND(SUM(S110,K110)/SUM('Shareholding Pattern'!$L$57,'Shareholding Pattern'!$T$57)*100,2),\"\"),0)","v":0.01},null,"",null,"",0,{"$nulls":3},1]
[{"$nulls":4},97,"S. MALLIKA BADRINATH ","AAAAS9999Z",200,null,null,200,{"$f":"+IFERROR(IF(COUNT(K111),ROUND(K111/'Shareholding Pattern'!$L$57*100,2),\"\"),0)","v":{"v":0,"d":"0.00"}},{"v":200,"d":"200.00"},null,{"v":200,"d":"200.00"},{"$f":"+IFERROR(IF(COUNT(O111),ROUND(O111/('Shareholding Pattern'!$P$58)*100,2),\"\"),0)","v":{"v":0,"d":"0.00"}},null,null,"",{"$f":"+IFERROR(IF(COUNT(K111,S111),ROUND(SUM(S111,K111)/SUM('Shareholding Pattern'!$L$57,'Shareholding Pattern'!$T$57)*100,2),\"\"),0)","v":{"v":0,"d":"0.00"}},null,"",null,"",0,{"$nulls":3},1]
[{"$nulls":4},98,"MURALI PENUMUTCU","AAAAT9999Z",200,null,null,200,{"$f":"+IFERROR(IF(COUNT(K112),ROUND(K112/'Shareholding Pattern'!$L$57*100,2),\"\"),0)","v":{"v":0,"d":"0.00"}},{"v":200,"d":"200.00"},null,{"v":200,"d":"200.00"},{"$f":"+IFERROR(IF(COUNT(O112),ROUND(O112/('Shareholding Pattern'!$P$58)*100,2),\"\"),0)","v":{"v":0,"d":"0.00"}},null,null,"",{"$f":"+IFERROR(IF(COUNT(K112,S112),ROUND(SUM(S112,K112)/SUM('Shareholding Pattern'!$L$57,'Shareholding Pattern'!$T$57)*100,2),\"\"),0)","v":{"v":0,"d":"0.00"}},null,"",null,"",0,{"$nulls":3},1]
[{"$nulls":4},99,"DHANRAJ SURESHCHAND KALANTRI","AAAAU9999Z",1000,null,null,1000,{"$f":"+IFERROR(IF(COUNT(K113),ROUND(K113/'Shareholding Pattern'!$L$57*100,2),\"\"),0)","v":{"v":0,"d":"0.00"}},{"v":1000,"d":"1000.00"},null,{"v":1000,"d":"1000.00"},{"$f":"+IFERROR(IF(COUNT(O113),ROUND(O113/('Shareholding Pattern'!$P$58)*100,2),\"\"),0)","v":{"v":0,"d":"0.00"}},null,null,"",{"$f":"+IFERROR(IF(COUNT(K113,S113),ROUND(SUM(S113,K113)/SUM('Shareholding Pattern'!$L$57,'Shareholding Pattern'!$T$57)*100,2),\"\"),0)","v":{"v":0,"d":"0.00"}},null,"",null,"",0,{"$nulls":3},1]
[{"$nulls":4},100,"DHANRAJ RAMESHCHAND KALANTRI","AAAAV9999Z",1000,null,null,1000,{"$f":"+IFERROR(IF(COUNT(K114),ROUND(K114/'Shareholding Pattern'!$L$57*100,2),\"\"),0)","v":{"v":0,"d":"0.00"}},{"v":1000,"d":"1000.00"},null,{"v":1000,"d":"1000.00"},{"$f":"+IFERROR(IF(COUNT(O114),ROUND(O114/('Shareholding Pattern'!$P$58)*100,2),\"\"),0)","v":{"v":0,"d":"0.00"}},null,null,"",{"$f":"+IFERROR(IF(COUNT(K114,S114),ROUND(SUM(S114,K114)/SUM('Shareholding Pattern'!$L$57,'Shareholding Pattern'!$T$57)*100,2),\"\"),0)","v":{"v":0,"d":"0.00"}},null,"",null,"",0,{"$nulls":3},1]
[{"$nulls":4},101,"DHANRAJ MAHESHCHAND KALANTRI","AAAAW9999Z",1000,null,null,1000,{"$f":"+IFERROR(IF(COUNT(K115),ROUND(K115/'Shareholding Pattern'!$L$57*100,2),\"\"),0)","v":{"v":0,"d":"0.00"}},{"v":1000,"d":"1000.00"},null,{"v":1000,"d":"1000.00"},{"$f":"+IFERROR(IF(COUNT(O115),ROUND(O115/('Shareholding Pattern'!$P$58)*100,2),\"\"),0)","v":{"v":0,"d":"0.00"}},null,null,"",{"$f":"+IFERROR(IF(COUNT(K115,S115),ROUND(SUM(S115,K115)/SUM('Shareholding Pattern'!$L$57,'Shareholding Pattern'!$T$57)*100,2),\"\"),0)","v":{"v":0,"d":"0.00"}},null,"",null,"",0,{"$nulls":3},1]
[{"$nulls":4},102,"VENKATESWARLU PACHIPULUSU","AAAAX9999Z",800,null,null,800,{"$f":"+IFERROR(IF(COUNT(K116),ROUND(K116/'Shareholding Pattern'!$L$57*100,2),\"\"),0)","v":{"v":0,"d":"0.00"}},{"v":800,"d":"800.00"},null,{"v":800,"d":"800.00"},{"$f":"+IFERROR(IF(COUNT(O116),ROUND(O116/('Shareholding Pattern'!$P$58)*100,2),\"\"),0)","v":{"v":0,"d":"0.00"}},null,null,"",{"$f":"+IFERROR(IF(COUNT(K116,S116),ROUND(SUM(S116,K116)/SUM('Shareholding Pattern'!$L$57,'Shareholding Pattern'!$T$57)*100,2),\"\"),0)","v":{"v":0,"d":"0.00"}},null,"",null,"",0,{"$nulls":3},1]
[{"$nulls":4},103,"GOPAL REDY DASARI","AAAAY9999Z",2000,null,null,2000,{"$f":"+IFERROR(IF(COUNT(K117),ROUND(K117/'Shareholding Pattern'!$L$57*100,2),\"\"),0)","v":0.01},{"v":2000,"d":"2000.00"},null,{"v":2000,"d":"2000.00"},{"$f":"+IFERROR(IF(COUNT(O117),ROUND(O117/('Shareholding Pattern'!$P$58)*100,2),\"\"),0)","v":0.01},null,null,"",{"$f":"+IFERROR(IF(COUNT(K117,S117),ROUND(SUM(S117,K117)/SUM('Shareholding Pattern'!$L$57,'Shareholding Pattern'!$T$57)*100,2),\"\"),0)","v":0.01},null,"",null,"",0,{"$nulls":3},1]
[{"$nulls":4},104,"MADHUKAR REDDY DASARI","AAAAZ9999Z",2000,null,null,2000,{"$f":"+IFERROR(IF(COUNT(K118),ROUND(K118/'Shareholding Pattern'!$L$57*100,2),\"\"),0)","v":0.01},{"v":2000,"d":"2000.00"},null,{"v":2000,"d":"2000.00"},{"$f":"+IFERROR(IF(COUNT(O118),ROUND(O118/('Shareholding Pattern'!$P$58)*100,2),\"\"),0)","v":0.01},null,null,"",{"$f":"+IFERROR(IF(COUNT(K118,S118),ROUND(SUM(S118,K118)/SUM('Shareholding Pattern'!$L$57,'Shareholding Pattern'!$T$57)*100,2),\"\"),0)","v":0.01},null,"",null,"",0,{"$nulls":3},1]
[{"$nulls":4},105,"RAVINDRA REDDY VONTELA","BBBBB9999Z",2000,null,null,2000,{"$f":"+IFERROR(IF(COUNT(K119),ROUND(K119/'Shareholding Pattern'!$L$57*100,2),\"\"),0)","v":0.01},{"v":2000,"d":"2000.00"},null,{"v":2000,"d":"2000.00"},{"$f":"+IFERROR(IF(COUNT(O119),ROUND(O119/('Shareholding Pattern'!$P$58)*100,2),\"\"),0)","v":0.01},null,null,"",{"$f":"+IFERROR(IF(COUNT(K119,S119),ROUND(SUM(S119,K119)/SUM('Shareholding Pattern'!$L$57,'Shareholding Pattern'!$T$57)*100,2),\"\"),0)","v":0.01},null,"",null,"",0,{"$nulls":3},1]
[{"$nulls":4},106,"PRATAP REDDY DASARI","BCBBB9999Z",2000,null,null,2000,{"$f":"+IFERROR(IF(COUNT(K120),ROUND(K120/'Shareholding Pattern'!$L$57*100,2),\"\"),0)","v":0.01},{"v":2000,"d":"2000.00"},null,{"v":2000,"d":"2000.00"},{"$f":"+IFERROR(IF(COUNT(O120),ROUND(O120/('Shareholding Pattern'!$P$58)*100,2),\"\"),0)","v":0.01},null,null,"",{"$f":"+IFERROR(IF(COUNT(K120,S120),ROUND(SUM(S120,K120)/SUM('Shareholding Pattern'!$L$57,'Shareholding Pattern'!$T$57)*100,2),\"\"),0)","v":0.01},null,"",null,"",0,{"$nulls":3},1]
[{"$nulls":4},107,"RAVINDER REDDY DASARI","BDBBB9999Z",2000,null,null,2000,{"$f":"+IFERROR(IF(COUNT(K121),ROUND(K121/'Shareholding Pattern'!$L$57*100,2),\"\"),0)","v":0.01},{"v":2000,"d":"2000.00"},null,{"v":2000,"d":"2000.00"},{"$f":"+IFERROR(IF(COUNT(O121),ROUND(O121/('Shareholding Pattern'!$P$58)*100,2),\"\"),0)","v":0.01},null,null,"",{"$f":"+IFERROR(IF(COUNT(K121,S121),ROUND(SUM(S121,K121)/SUM('Shareholding Pattern'!$L$57,'Shareholding Pattern'!$T$57)*100,2),\"\"),0)","v":0.01},null,"",null,"",0,{"$nulls":3},1]
[{"$nulls":4},108,"TIRUPATHI REDDY KETHIREDDY","BEBBB9999Z",2000,null,null,2000,{"$f":"+IFERROR(IF(COUNT(K122),ROUND(K122/'Shareholding Pattern'!$L$57*100,2),\"\"),0)","v":0.01},{"v":2000,"d":"2000.00"},null,{"v":2000,"d":"2000.00"},{"$f":"+IFERROR(IF(COUNT(O122),ROUND(O122/('Shareholding Pattern'!$P$58)*100,2),\"\"),0)","v":0.01},null,null,"",{"$f":"+IFERROR(IF(COUNT(K122,S122),ROUND(SUM(S122,K122)/SUM('Shareholding Pattern'!$L$57,'Shareholding Pattern'!$T$57)*100,2),\"\"),0)","v":0.01},null,"",null,"",0,{"$nulls":3},1]
[{"$nulls":4},109,"RANGAREDDY VONTELA","BFBBB9999Z",2000,null,null,2000,{"$f":"+IFERROR(IF(COUNT(K123),ROUND(K123/'Shareholding Pattern'!$L$57*100,2),\"\"),0)","v":0.01},{"v":2000,"d":"2000.00"},null,{"v":2000,"d":"2000.00"},{"$f":"+IFERROR(IF(COUNT(O123),ROUND(O123/('Shareholding Pattern'!$P$58)*100,2),\"\"),0)","v":0.01},null,null,"",{"$f":"+IFERROR(IF(COUNT(K123,S123),ROUND(SUM(S123,K123)/SUM('Shareholding Pattern'!$L$57,'Shareholding Pattern'!$T$57)*100,2),\"\"),0)","v":0.01},null,"",null,"",0,{"$nulls":3},1]
[{"$nulls":4},110,"ANANTHA REDDY DASARI","BGBBB9999Z",2000,null,null,2000,{"$f":"+IFERROR(IF(COUNT(K124),ROUND(K124/'Shareholding Pattern'!$L$57*100,2),\"\"),0)","v":0.01},{"v":2000,"d":"2000.00"},null,{"v":2000,"d":"2000.00"},{"$f":"+IFERROR(IF(COUNT(O124),ROUND(O124/('Shareholding Pattern'!$P$58)*100,2),\"\"),0)","v":0.01},null,null,"",{"$f":"+IFERROR(IF(COUNT(K124,S124),ROUND(SUM(S124,K124)/SUM('Shareholding Pattern'!$L$57,'Shareholding Pattern'!$T$57)*100,2),\"\"),0)","v":0.01},null,"",null,"",0,{"$nulls":3},1]
[{"$nulls":4},111,"SUDHAKAR REDDY DASARI","BHBBB9999Z",2000,null,null,2000,{"$f":"+IFERROR(IF(COUNT(K125),ROUND(K125/'Shareholding Pattern'!$L$57*100,2),\"\"),0)","v":0.01},{"v":2000,"d":"2000.00"},null,{"v":2000,"d":"2000.00"},{"$f":"+IFERROR(IF(COUNT(O125),ROUND(O125/('Shareholding Pattern'!$P$58)*100,2),\"\"),0)","v":0.01},null,null,"",{"$f":"+IFERROR(IF(COUNT(K125,S125),ROUND(SUM(S125,K125)/SUM('Shareholding Pattern'!$L$57,'Shareholding Pattern'!$T$57)*100,2),\"\"),0)","v":0.01},null,"",null,"",0,{"$nulls":3},1]
[{"$nulls":4},112,"RAJI REDDY DASARI","BIBBB9999Z",2000,null,null,2000,{"$f":"+IFERROR(IF(COUNT(K126),ROUND(K126/'Shareholding Pattern'!$L$57*100,2),\"\"),0)","v":0.01},{"v":2000,"d":"2000.00"},null,{"v":2000,"d":"2000.00"},{"$f":"+IFERROR(IF(COUNT(O126),ROUND(O126/('Shareholding Pattern'!$P$58)*100,2),\"\"),0)","v":0.01},null,null,"",{"$f":"+IFERROR(IF(COUNT(K126,S126),ROUND(SUM(S126,K126)/SUM('Shareholding Pattern'!$L$57,'Shareholding Pattern'!$T$57)*100,2),\"\"),0)","v":0.01},null,"",null,"",0,{"$nulls":3},1]
[{"$nulls":4},113,"S. RAJYALAXMI","BJBBB9999Z",500,null,null,500,{"$f":"+IFERROR(IF(COUNT(K127),ROUND(K127/'Shareholding Pattern'!$L$57*100,2),\"\"),0)","v":{"v":0,"d":"0.00"}},{"v":500,"d":"500.00"},null,{"v":500,"d":"500.00"},{"$f":"+IFERROR(IF(COUNT(O127),ROUND(O127/('Shareholding Pattern'!$P$58)*100,2),\"\"),0)","v":{"v":0,"d":"0.00"}},null,null,"",{"$f":"+IFERROR(IF(COUNT(K127,S127),ROUND(SUM(S127,K127)/SUM('Shareholding Pattern'!$L$57,'Shareholding Pattern'!$T$57)*100,2),\"\"),0)","v":{"v":0,"d":"0.00"}},null,"",null,"",0,{"$nulls":3},1]
[{"$nulls":4},114,"SATYANARAYANA MURTHY CHAKKA","BKBBB9999Z",1300,null,null,1300,{"$f":"+IFERROR(IF(COUNT(K128),ROUND(K128/'Shareholding Pattern'!$L$57*100,2),\"\"),0)","v":0.01},{"v":1300,"d":"1300.00"},null,{"v":1300,"d":"1300.00"},{"$f":"+IFERROR(IF(COUNT(O128),ROUND(O128/('Shareholding Pattern'!$P$58)*100,2),\"\"),0)","v":0.01},null,null,"",{"$f":"+IFERROR(IF(COUNT(K128,S128),ROUND(SUM(S128,K128)/SUM('Shareholding Pattern'!$L$57,'Shareholding Pattern'!$T$57)*100,2),\"\"),0)","v":0.01},null,"",null,"",0,{"$nulls":3},1]
[{"$nulls":4},115,"SRINIVASA RAO KOTTA","BLBBB9999Z",700,null,null,700,{"$f":"+IFERROR(IF(COUNT(K129),ROUND(K129/'Shareholding Pattern'!$L$57*100,2),\"\"),0)","v":{"v":0,"d":"0.00"}},{"v":700,"d":"700.00"},null,{"v":700,"d":"700.00"},{"$f":"+IFERROR(IF(COUNT(O129),ROUND(O129/('Shareholding Pattern'!$P$58)*100,2),\"\"),0)","v":{"v":0,"d":"0.00"}},null,null,"",{"$f":"+IFERROR(IF(COUNT(K129,S129),ROUND(SUM(S129,K129)/SUM('Shareholding Pattern'!$L$57,'Shareholding Pattern'!$T$57)*100,2),\"\"),0)","v":{"v":0,"d":"0.00"}},null,"",null,"",0,{"$nulls":3},1]
[{"$nulls":4},116,"SITA RAMARAO BARNALA","BMBBB9999Z",500,null,null,500,{"$f":"+IFERROR(IF(COUNT(K130),ROUND(K130/'Shareholding Pattern'!$L$57*100,2),\"\"),0)","v":{"v":0,"d":"0.00"}},{"v":500,"d":"500.00"},null,{"v":500,"d":"500.00"},{"$f":"+IFERROR(IF(COUNT(O130),ROUND(O130/('Shareholding Pattern'!$P$58)*100,2),\"\"),0)","v":{"v":0,"d":"0.00"}},null,null,"",{"$f":"+IFERROR(IF(COUNT(K130,S130),ROUND(SUM(S130,K130)/SUM('Shareholding Pattern'!$L$57,'Shareholding Pattern'!$T$57)*100,2),\"\"),0)","v":{"v":0,"d":"0.00"}},null,"",null,"",0,{"$nulls":3},1]
[{"$nulls":4},117,"PRABHAKARA RAO BARATAM","BNBBB9999Z",500,null,null,500,{"$f":"+IFERROR(IF(COUNT(K131),ROUND(K131/'Shareholding Pattern'!$L$57*100,2),\"\"),0)","v":{"v":0,"d":"0.00"}},{"v":500,"d":"500.00"},null,{"v":500,"d":"500.00"},{"$f":"+IFERROR(IF(COUNT(O131),ROUND(O131/('Shareholding Pattern'!$P$58)*100,2),\"\"),0)","v":{"v":0,"d":"0.00"}},null,null,"",{"$f":"+IFERROR(IF(COUNT(K131,S131),ROUND(SUM(S131,K131)/SUM('Shareholding Pattern'!$L$57,'Shareholding Pattern'!$T$57)*100,2),\"\"),0)","v":{"v":0,"d":"0.00"}},null,"",null,"",0,{"$nulls":3},1]
[{"$nulls":4},118,"NUKARATNAM GANTA ","BOBBB9999Z",500,null,null,500,{"$f":"+IFERROR(IF(COUNT(K132),ROUND(K132/'Shareholding Pattern'!$L$57*100,2),\"\"),0)","v":{"v":0,"d":"0.00"}},{"v":500,"d":"500.00"},null,{"v":500,"d":"500.00"},{"$f":"+IFERROR(IF(COUNT(O132),ROUND(O132/('Shareholding Pattern'!$P$58)*100,2),\"\"),0)","v":{"v":0,"d":"0.00"}},null,null,"",{"$f":"+IFERROR(IF(COUNT(K132,S132),ROUND(SUM(S132,K132)/SUM('Shareholding Pattern'!$L$57,'Shareholding Pattern'!$T$57)*100,2),\"\"),0)","v":{"v":0,"d":"0.00"}},null,"",null,"",0,{"$nulls":3},1]
[{"$nulls":4},119,"ADIVISHNU GANTA","BPBBB9999Z",500,null,null,500,{"$f":"+IFERROR(IF(COUNT(K133),ROUND(K133/'Shareholding Pattern'!$L$57*100,2),\"\"),0)","v":{"v":0,"d":"0.00"}},{"v":500,"d":"500.00"},null,{"v":500,"d":"500.00"},{"$f":"+IFERROR(IF(COUNT(O133),ROUND(O133/('Shareholding Pattern'!$P$58)*100,2),\"\"),0)","v":{"v":0,"d":"0.00"}},null,null,"",{"$f":"+IFERROR(IF(COUNT(K133,S133),ROUND(SUM(S133,K133)/SUM('Shareholding Pattern'!$L$57,'Shareholding Pattern'!$T$57)*100,2),\"\"),0)","v":{"v":0,"d":"0.00"}},null,"",null,"",0,{"$nulls":3},1]
[{"$nulls":4},120,"GOVINDA RA PILLA","BQBBB9999Z",500,null,null,500,{"$f":"+IFERROR(IF(COUNT(K134),ROUND(K134/'Shareholding Pattern'!$L$57*100,2),\"\"),0)","v":{"v":0,"d":"0.00"}},{"v":500,"d":"500.00"},null,{"v":500,"d":"500.00"},{"$f":"+IFERROR(IF(COUNT(O134),ROUND(O134/('Shareholding Pattern'!$P$58)*100,2),\"\"),0)","v":{"v":0,"d":"0.00"}},null,null,"",{"$f":"+IFERROR(IF(COUNT(K134,S134),ROUND(SUM(S134,K134)/SUM('Shareholding Pattern'!$L$57,'Shareholding Pattern'!$T$57)*100,2),\"\"),0)","v":{"v":0,"d":"0.00"}},null,"",null,"",0,{"$nulls":3},1]
[{"$nulls":4},121,"KRISHNA MOHAN INDUPURU","BRBBB9999Z",500,null,null,500,{"$f":"+IFERROR(IF(COUNT(K135),ROUND(K135/'Shareholding Pattern'!$L$57*100,2),\"\"),0)","v":{"v":0,"d":"0.00"}},{"v":500,"d":"500.00"},null,{"v":500,"d":"500.00"},{"$f":"+IFERROR(IF(COUNT(O135),ROUND(O135/('Shareholding Pattern'!$P$58)*100,2),\"\"),0)","v":{"v":0,"d":"0.00"}},null,null,"",{"$f":"+IFERROR(IF(COUNT(K135,S135),ROUND(SUM(S135,K135)/SUM('Shareholding Pattern'!$L$57,'Shareholding Pattern'!$T$57)*100,2),\"\"),0)","v":{"v":0,"d":"0.00"}},null,"",null,"",0,{"$nulls":3},1]
[{"$nulls":4},122,"SURENDRA NAIDU SANDRA","BSBBB9999Z",500,null,null,500,{"$f":"+IFERROR(IF(COUNT(K136),ROUND(K136/'Shareholding Pattern'!$L$57*100,2),\"\"),0)","v":{"v":0,"d":"0.00"}},{"v":500,"d":"500.00"},null,{"v":500,"d":"500.00"},{"$f":"+IFERROR(IF(COUNT(O136),ROUND(O136/('Shareholding Pattern'!$P$58)*100,2),\"\"),0)","v":{"v":0,"d":"0.00"}},null,null,"",{"$f":"+IFERROR(IF(COUNT(K136,S136),ROUND(SUM(S136,K136)/SUM('Shareholding Pattern'!$L$57,'Shareholding Pattern'!$T$57)*100,2),\"\"),0)","v":{"v":0,"d":"0.00"}},null,"",null,"",0,{"$nulls":3},1]
[{"$nulls":4},123,"RANI R.","BTBBB9999Z",500,null,null,500,{"$f":"+IFERROR(IF(COUNT(K137),ROUND(K137/'Shareholding Pattern'!$L$57*100,2),\"\"),0)","v":{"v":0,"d":"0.00"}},{"v":500,"d":"500.00"},null,{"v":500,"d":"500.00"},{"$f":"+IFERROR(IF(COUNT(O137),ROUND(O137/('Shareholding Pattern'!$P$58)*100,2),\"\"),0)","v":{"v":0,"d":"0.00"}},null,null,"",{"$f":"+IFERROR(IF(COUNT(K137,S137),ROUND(SUM(S137,K137)/SUM('Shareholding Pattern'!$L$57,'Shareholding Pattern'!$T$57)*100,2),\"\"),0)","v":{"v":0,"d":"0.00"}},null,"",null,"",0,{"$nulls":3},1]
[{"$nulls":4},124,"IRIS TERESA VAZ","BUBBB9999Z",300,null,null,300,{"$f":"+IFERROR(IF(COUNT(K138),ROUND(K138/'Shareholding Pattern'!$L$57*100,2),\"\"),0)","v":{"v":0,"d":"0.00"}},{"v":300,"d":"300.00"},null,{"v":300,"d":"300.00"},{"$f":"+IFERROR(IF(COUNT(O138),ROUND(O138/('Shareholding Pattern'!$P$58)*100,2),\"\"),0)","v":{"v":0,"d":"0.00"}},null,null,"",{"$f":"+IFERROR(IF(COUNT(K138,S138),ROUND(SUM(S138,K138)/SUM('Shareholding Pattern'!$L$57,'Shareholding Pattern'!$T$57)*100,2),\"\"),0)","v":{"v":0,"d":"0.00"}},null,"",null,"",0,{"$nulls":3},1]
[{"$nulls":4},125,"PADMA SUBRAMANIAN","BVBBB9999Z",200,null,null,200,{"$f":"+IFERROR(IF(COUNT(K139),ROUND(K139/'Shareholding Pattern'!$L$57*100,2),\"\"),0)","v":{"v":0,"d":"0.00"}},{"v":200,"d":"200.00"},null,{"v":200,"d":"200.00"},{"$f":"+IFERROR(IF(COUNT(O139),ROUND(O139/('Shareholding Pattern'!$P$58)*100,2),\"\"),0)","v":{"v":0,"d":"0.00"}},null,null,"",{"$f":"+IFERROR(IF(COUNT(K139,S139),ROUND(SUM(S139,K139)/SUM('Shareholding Pattern'!$L$57,'Shareholding Pattern'!$T$57)*100,2),\"\"),0)","v":{"v":0,"d":"0.00"}},null,"",null,"",0,{"$nulls":3},1]
[{"$nulls":4},126,"KANAKA DURGA PARIMI","BWBBB9999Z",500,null,null,500,{"$f":"+IFERROR(IF(COUNT(K140),ROUND(K140/'Shareholding Pattern'!$L$57*100,2),\"\"),0)","v":{"v":0,"d":"0.00"}},{"v":500,"d":"500.00"},null,{"v":500,"d":"500.00"},{"$f":"+IFERROR(IF(COUNT(O140),ROUND(O140/('Shareholding Pattern'!$P$58)*100,2),\"\"),0)","v":{"v":0,"d":"0.00"}},null,null,"",{"$f":"+IFERROR(IF(COUNT(K140,S140),ROUND(SUM(S140,K140)/SUM('Shareholding Pattern'!$L$57,'Shareholding Pattern'!$T$57)*100,2),\"\"),0)","v":{"v":0,"d":"0.00"}},null,"",null,"",0,{"$nulls":3},1]
[{"$nulls":4},127,"ELINENI KANAKA DURGA VALLI","BXBBB9999Z",500,null,null,500,{"$f":"+IFERROR(IF(COUNT(K141),ROUND(K141/'Shareholding Pattern'!$L$57*100,2),\"\"),0)","v":{"v":0,"d":"0.00"}},{"v":500,"d":"500.00"},null,{"v":500,"d":"500.00"},{"$f":"+IFERROR(IF(COUNT(O141),ROUND(O141/('Shareholding Pattern'!$P$58)*100,2),\"\"),0)","v":{"v":0,"d":"0.00"}},null,null,"",{"$f":"+IFERROR(IF(COUNT(K141,S141),ROUND(SUM(S141,K141)/SUM('Shareholding Pattern'!$L$57,'Shareholding Pattern'!$T$57)*100,2),\"\"),0)","v":{"v":0,"d":"0.00"}},null,"",null,"",0,{"$nulls":3},1]
[{"$nulls":4},128,"MEENA KUMARI CHAKKA","BYBBB9999Z",1000,null,null,1000,{"$f":"+IFERROR(IF(COUNT(K142),ROUND(K142/'Shareholding Pattern'!$L$57*100,2),\"\"),0)","v":{"v":0,"d":"0.00"}},{"v":1000,"d":"1000.00"},null,{"v":1000,"d":"1000.00"},{"$f":"+IFERROR(IF(COUNT(O142),ROUND(O142/('Shareholding Pattern'!$P$58)*100,2),\"\"),0)","v":{"v":0,"d":"0.00"}},null,null,"",{"$f":"+IFERROR(IF(COUNT(K142,S142),ROUND(SUM(S142,K142)/SUM('Shareholding Pattern'!$L$57,'Shareholding Pattern'!$T$57)*100,2),\"\"),0)","v":{"v":0,"d":"0.00"}},null,"",null,"",0,{"$nulls":3},1]
[{"$nulls":4},129,"GUNNESWARA RAO INKULU","BZBBB9999Z",500,null,null,{"$f":"+IFERROR(IF(COUNT(H143:J143),ROUND(SUM(H143:J143),0),\"\"),\"\")","v":500},{"$f":"+IFERROR(IF(COUNT(K143),ROUND(K143/'Shareholding Pattern'!$L$57*100,2),\"\"),0)","v":{"v":0,"d":"0.00"}},{"$f":"IF(H143=\"\",\"\",H143)","v":{"v":500,"d":"500.00"}},null,{"$f":"+IFERROR(IF(COUNT(M143:N143),ROUND(SUM(M143,N143),2),\"\"),\"\")","v":{"v":500,"d":"500.00"}},{"$f":"+IFERROR(IF(COUNT(O143),ROUND(O143/('Shareholding Pattern'!$P$58)*100,2),\"\"),0)","v":{"v":0,"d":"0.00"}},null,null,{"$f":"+IFERROR(IF(COUNT(Q143:R143),ROUND(SUM(Q143:R143),0),\"\"),\"\")","v":""},{"$f":"+IFERROR(IF(COUNT(K143,S143),ROUND(SUM(S143,K143)/SUM('Shareholding Pattern'!$L$57,'Shareholding Pattern'!$T$57)*100,2),\"\"),0)","v":{"v":0,"d":"0.00"}},null,{"$f":"+IFERROR(IF(COUNT(U143),ROUND(SUM(U143)/SUM(K143)*100,2),\"\"),0)","v":""},null,{"$f":"+IFERROR(IF(COUNT(W143),ROUND(SUM(W143)/SUM(K143)*100,2),\"\"),0)","v":""},0,{"$nulls":3},{"$f":"IF(SUM(H143:Y143)>0,1,0)","v":1}]
[{"$nulls":4},130,"HARANATH BABA PASUMARTHY ","BBABB9999Z",500,null,null,500,{"$f":"+IFERROR(IF(COUNT(K144),ROUND(K144/'Shareholding Pattern'!$L$57*100,2),\"\"),0)","v":{"v":0,"d":"0.00"}},{"v":500,"d":"500.00"},null,{"v":500,"d":"500.00"},{"$f":"+IFERROR(IF(COUNT(O144),ROUND(O144/('Shareholding Pattern'!$P$58)*100,2),\"\"),0)","v":{"v":0,"d":"0.00"}},null,null,"",{"$f":"+IFERROR(IF(COUNT(K144,S144),ROUND(SUM(S144,K144)/SUM('Shareholding Pattern'!$L$57,'Shareholding Pattern'!$T$57)*100,2),\"\"),0)","v":{"v":0,"d":"0.00"}},null,"",null,"",0,{"$nulls":3},1]
[{"$nulls":4},131,"GOWRI SANKAR RAO GEMBALI","BBCBB9999Z",1500,null,null,1500,{"$f":"+IFERROR(IF(COUNT(K145),ROUND(K145/'Shareholding Pattern'!$L$57*100,2),\"\"),0)","v":0.01},{"v":1500,"d":"1500.00"},null,{"v":1500,"d":"1500.00"},{"$f":"+IFERROR(IF(COUNT(O145),ROUND(O145/('Shareholding Pattern'!$P$58)*100,2),\"\"),0)","v":0.01},null,null,"",{"$f":"+IFERROR(IF(COUNT(K145,S145),ROUND(SUM(S145,K145)/SUM('Shareholding Pattern'!$L$57,'Shareholding Pattern'!$T$57)*100,2),\"\"),0)","v":0.01},null,"",null,"",0,{"$nulls":3},1]
[{"$nulls":4},132,"RAMAKRISHNA KUMARI K.","BBDBB9999Z",500,null,null,500,{"$f":"+IFERROR(IF(COUNT(K146),ROUND(K146/'Shareholding Pattern'!$L$57*100,2),\"\"),0)","v":{"v":0,"d":"0.00"}},{"v":500,"d":"500.00"},null,{"v":500,"d":"500.00"},{"$f":"+IFERROR(IF(COUNT(O146),ROUND(O146/('Shareholding Pattern'!$P$58)*100,2),\"\"),0)","v":{"v":0,"d":"0.00"}},null,null,"",{"$f":"+IFERROR(IF(COUNT(K146,S146),ROUND(SUM(S146,K146)/SUM('Shareholding Pattern'!$L$57,'Shareholding Pattern'!$T$57)*100,2),\"\"),0)","v":{"v":0,"d":"0.00"}},null,"",null,"",0,{"$nulls":3},1]
[{"$nulls":4},133,"JAKKA RADHA REDDY","BBEBB9999Z",1000,null,null,1000,{"$f":"+IFERROR(IF(COUNT(K147),ROUND(K147/'Shareholding Pattern'!$L$57*100,2),\"\"),0)","v":{"v":0,"d":"0.00"}},{"v":1000,"d":"1000.00"},null,{"v":1000,"d":"1000.00"},{"$f":"+IFERROR(IF(COUNT(O147),ROUND(O147/('Shareholding Pattern'!$P$58)*100,2),\"\"),0)","v":{"v":0,"d":"0.00"}},null,null,"",{"$f":"+IFERROR(IF(COUNT(K147,S147),ROUND(SUM(S147,K147)/SUM('Shareholding Pattern'!$L$57,'Shareholding Pattern'!$T$57)*100,2),\"\"),0)","v":{"v":0,"d":"0.00"}},null,"",null,"",0,{"$nulls":3},1]
[{"$nulls":4},134,"JAKKASULOCJHANAMMA","BBFBB9999Z",1000,null,null,1000,{"$f":"+IFERROR(IF(COUNT(K148),ROUND(K148/'Shareholding Pattern'!$L$57*100,2),\"\"),0)","v":{"v":0,"d":"0.00"}},{"v":1000,"d":"1000.00"},null,{"v":1000,"d":"1000.00"},{"$f":"+IFERROR(IF(COUNT(O148),ROUND(O148/('Shareholding Pattern'!$P$58)*100,2),\"\"),0)","v":{"v":0,"d":"0.00"}},null,null,"",{"$f":"+IFERROR(IF(COUNT(K148,S148),ROUND(SUM(S148,K148)/SUM('Shareholding Pattern'!$L$57,'Shareholding Pattern'!$T$57)*100,2),\"\"),0)","v":{"v":0,"d":"0.00"}},null,"",null,"",0,{"$nulls":3},1]
[{"$nulls":4},135,"JAKKA GOPAL REDDY","BBGBB9999Z",1000,null,null,1000,{"$f":"+IFERROR(IF(COUNT(K149),ROUND(K149/'Shareholding Pattern'!$L$57*100,2),\"\"),0)","v":{"v":0,"d":"0.00"}},{"v":1000,"d":"1000.00"},null,{"v":1000,"d":"1000.00"},{"$f":"+IFERROR(IF(COUNT(O149),ROUND(O149/('Shareholding Pattern'!$P$58)*100,2),\"\"),0)","v":{"v":0,"d":"0.00"}},null,null,"",{"$f":"+IFERROR(IF(COUNT(K149,S149),ROUND(SUM(S149,K149)/SUM('Shareholding Pattern'!$L$57,'Shareholding Pattern'!$T$57)*100,2),\"\"),0)","v":{"v":0,"d":"0.00"}},null,"",null,"",0,{"$nulls":3},1]
[{"$nulls":4},136,"SUBBA RAMI REDDY INDURU","BBHBB9999D",200,null,null,200,{"$f":"+IFERROR(IF(COUNT(K150),ROUND(K150/'Shareholding Pattern'!$L$57*100,2),\"\"),0)","v":{"v":0,"d":"0.00"}},{"v":200,"d":"200.00"},null,{"v":200,"d":"200.00"},{"$f":"+IFERROR(IF(COUNT(O150),ROUND(O150/('Shareholding Pattern'!$P$58)*100,2),\"\"),0)","v":{"v":0,"d":"0.00"}},null,null,"",{"$f":"+IFERROR(IF(COUNT(K150,S150),ROUND(SUM(S150,K150)/SUM('Shareholding Pattern'!$L$57,'Shareholding Pattern'!$T$57)*100,2),\"\"),0)","v":{"v":0,"d":"0.00"}},null,"",null,"",0,{"$nulls":3},1]
[{"$nulls":4},137,"POTHAM RAMATHOLISAMA","BBIBB9999Z",500,null,null,500,{"$f":"+IFERROR(IF(COUNT(K151),ROUND(K151/'Shareholding Pattern'!$L$57*100,2),\"\"),0)","v":{"v":0,"d":"0.00"}},{"v":500,"d":"500.00"},null,{"v":500,"d":"500.00"},{"$f":"+IFERROR(IF(COUNT(O151),ROUND(O151/('Shareholding Pattern'!$P$58)*100,2),\"\"),0)","v":{"v":0,"d":"0.00"}},null,null,"",{"$f":"+IFERROR(IF(COUNT(K151,S151),ROUND(SUM(S151,K151)/SUM('Shareholding Pattern'!$L$57,'Shareholding Pattern'!$T$57)*100,2),\"\"),0)","v":{"v":0,"d":"0.00"}},null,"",null,"",0,{"$nulls":3},1]
[{"$nulls":4},138,"PRAFULL CHANDRA MISHRA ","BBJBB9999Z",1700,null,null,1700,{"$f":"+IFERROR(IF(COUNT(K152),ROUND(K152/'Shareholding Pattern'!$L$57*100,2),\"\"),0)","v":0.01},{"v":1700,"d":"1700.00"},null,{"v":1700,"d":"1700.00"},{"$f":"+IFERROR(IF(COUNT(O152),ROUND(O152/('Shareholding Pattern'!$P$58)*100,2),\"\"),0)","v":0.01},null,null,"",{"$f":"+IFERROR(IF(COUNT(K152,S152),ROUND(SUM(S152,K152)/SUM('Shareholding Pattern'!$L$57,'Shareholding Pattern'!$T$57)*100,2),\"\"),0)","v":0.01},null,"",null,"",0,{"$nulls":3},1]
[{"$nulls":4},139,"PRAFULL C. MISHRA ","BBKBB9999Z",1700,null,null,1700,{"$f":"+IFERROR(IF(COUNT(K153),ROUND(K153/'Shareholding Pattern'!$L$57*100,2),\"\"),0)","v":0.01},{"v":1700,"d":"1700.00"},null,{"v":1700,"d":"1700.00"},{"$f":"+IFERROR(IF(COUNT(O153),ROUND(O153/('Shareholding Pattern'!$P$58)*100,2),\"\"),0)","v":0.01},null,null,"",{"$f":"+IFERROR(IF(COUNT(K153,S153),ROUND(SUM(S153,K153)/SUM('Shareholding Pattern'!$L$57,'Shareholding Pattern'!$T$57)*100,2),\"\"),0)","v":0.01},null,"",null,"",0,{"$nulls":3},1]
[{"$nulls":4},140,"SUDHA SURF","BBLBB9999Z",500,null,null,500,{"$f":"+IFERROR(IF(COUNT(K154),ROUND(K154/'Shareholding Pattern'!$L$57*100,2),\"\"),0)","v":{"v":0,"d":"0.00"}},{"v":500,"d":"500.00"},null,{"v":500,"d":"500.00"},{"$f":"+IFERROR(IF(COUNT(O154),ROUND(O154/('Shareholding Pattern'!$P$58)*100,2),\"\"),0)","v":{"v":0,"d":"0.00"}},null,null,"",{"$f":"+IFERROR(IF(COUNT(K154,S154),ROUND(SUM(S154,K154)/SUM('Shareholding Pattern'!$L$57,'Shareholding Pattern'!$T$57)*100,2),\"\"),0)","v":{"v":0,"d":"0.00"}},null,"",null,"",0,{"$nulls":3},1]
[{"$nulls":4},141,"PULAKURTHI SATYA PRADEEP","BBMBB9999Z",500,null,null,500,{"$f":"+IFERROR(IF(COUNT(K155),ROUND(K155/'Shareholding Pattern'!$L$57*100,2),\"\"),0)","v":{"v":0,"d":"0.00"}},{"v":500,"d":"500.00"},null,{"v":500,"d":"500.00"},{"$f":"+IFERROR(IF(COUNT(O155),ROUND(O155/('Shareholding Pattern'!$P$58)*100,2),\"\"),0)","v":{"v":0,"d":"0.00"}},null,null,"",{"$f":"+IFERROR(IF(COUNT(K155,S155),ROUND(SUM(S155,K155)/SUM('Shareholding Pattern'!$L$57,'Shareholding Pattern'!$T$57)*100,2),\"\"),0)","v":{"v":0,"d":"0.00"}},null,"",null,"",0,{"$nulls":3},1]
[{"$nulls":4},142,"K. LAKSHMA REDDY","BBNBB9999Z",500,null,null,500,{"$f":"+IFERROR(IF(COUNT(K156),ROUND(K156/'Shareholding Pattern'!$L$57*100,2),\"\"),0)","v":{"v":0,"d":"0.00"}},{"v":500,"d":"500.00"},null,{"v":500,"d":"500.00"},{"$f":"+IFERROR(IF(COUNT(O156),ROUND(O156/('Shareholding Pattern'!$P$58)*100,2),\"\"),0)","v":{"v":0,"d":"0.00"}},null,null,"",{"$f":"+IFERROR(IF(COUNT(K156,S156),ROUND(SUM(S156,K156)/SUM('Shareholding Pattern'!$L$57,'Shareholding Pattern'!$T$57)*100,2),\"\"),0)","v":{"v":0,"d":"0.00"}},null,"",null,"",0,{"$nulls":3},1]
[{"$nulls":4},143,"RAKESH MEHTA","BBOBB9999Z",1000,null,null,1000,{"$f":"+IFERROR(IF(COUNT(K157),ROUND(K157/'Shareholding Pattern'!$L$57*100,2),\"\"),0)","v":{"v":0,"d":"0.00"}},{"v":1000,"d":"1000.00"},null,{"v":1000,"d":"1000.00"},{"$f":"+IFERROR(IF(COUNT(O157),ROUND(O157/('Shareholding Pattern'!$P$58)*100,2),\"\"),0)","v":{"v":0,"d":"0.00"}},null,null,"",{"$f":"+IFERROR(IF(COUNT(K157,S157),ROUND(SUM(S157,K157)/SUM('Shareholding Pattern'!$L$57,'Shareholding Pattern'!$T$57)*100,2),\"\"),0)","v":{"v":0,"d":"0.00"}},null,"",null,"",0,{"$nulls":3},1]
[{"$nulls":4},144,"REVATHI PAPANI","BBPBB9999Z",500,null,null,500,{"$f":"+IFERROR(IF(COUNT(K158),ROUND(K158/'Shareholding Pattern'!$L$57*100,2),\"\"),0)","v":{"v":0,"d":"0.00"}},{"v":500,"d":"500.00"},null,{"v":500,"d":"500.00"},{"$f":"+IFERROR(IF(COUNT(O158),ROUND(O158/('Shareholding Pattern'!$P$58)*100,2),\"\"),0)","v":{"v":0,"d":"0.00"}},null,null,"",{"$f":"+IFERROR(IF(COUNT(K158,S158),ROUND(SUM(S158,K158)/SUM('Shareholding Pattern'!$L$57,'Shareholding Pattern'!$T$57)*100,2),\"\"),0)","v":{"v":0,"d":"0.00"}},null,"",null,"",0,{"$nulls":3},1]
[{"$nulls":4},145,"SIVA PRASAD KURAKU","BBQBB9999Z",200,null,null,200,{"$f":"+IFERROR(IF(COUNT(K159),ROUND(K159/'Shareholding Pattern'!$L$57*100,2),\"\"),0)","v":{"v":0,"d":"0.00"}},{"v":200,"d":"200.00"},null,{"v":200,"d":"200.00"},{"$f":"+IFERROR(IF(COUNT(O159),ROUND(O159/('Shareholding Pattern'!$P$58)*100,2),\"\"),0)","v":{"v":0,"d":"0.00"}},null,null,"",{"$f":"+IFERROR(IF(COUNT(K159,S159),ROUND(SUM(S159,K159)/SUM('Shareholding Pattern'!$L$57,'Shareholding Pattern'!$T$57)*100,2),\"\"),0)","v":{"v":0,"d":"0.00"}},null,"",null,"",0,{"$nulls":3},1]
[{"$nulls":4},146,"PRASHUN KUMAR DUTT","BBRBB9999Z",300,null,null,300,{"$f":"+IFERROR(IF(COUNT(K160),ROUND(K160/'Shareholding Pattern'!$L$57*100,2),\"\"),0)","v":{"v":0,"d":"0.00"}},{"v":300,"d":"300.00"},null,{"v":300,"d":"300.00"},{"$f":"+IFERROR(IF(COUNT(O160),ROUND(O160/('Shareholding Pattern'!$P$58)*100,2),\"\"),0)","v":{"v":0,"d":"0.00"}},null,null,"",{"$f":"+IFERROR(IF(COUNT(K160,S160),ROUND(SUM(S160,K160)/SUM('Shareholding Pattern'!$L$57,'Shareholding Pattern'!$T$57)*100,2),\"\"),0)","v":{"v":0,"d":"0.00"}},null,"",null,"",0,{"$nulls":3},1]
[{"$nulls":4},147,"SUPRIYA UDTHA","BBSBB9999Z",300,null,null,300,{"$f":"+IFERROR(IF(COUNT(K161),ROUND(K161/'Shareholding Pattern'!$L$57*100,2),\"\"),0)","v":{"v":0,"d":"0.00"}},{"v":300,"d":"300.00"},null,{"v":300,"d":"300.00"},{"$f":"+IFERROR(IF(COUNT(O161),ROUND(O161/('Shareholding Pattern'!$P$58)*100,2),\"\"),0)","v":{"v":0,"d":"0.00"}},null,null,"",{"$f":"+IFERROR(IF(COUNT(K161,S161),ROUND(SUM(S161,K161)/SUM('Shareholding Pattern'!$L$57,'Shareholding Pattern'!$T$57)*100,2),\"\"),0)","v":{"v":0,"d":"0.00"}},null,"",null,"",0,{"$nulls":3},1]
[{"$nulls":4},148,"RANGANAYAKAMMA ARUMALLA","BBTBB9999Z",1000,null,null,1000,{"$f":"+IFERROR(IF(COUNT(K162),ROUND(K162/'Shareholding Pattern'!$L$57*100,2),\"\"),0)","v":{"v":0,"d":"0.00"}},{"v":1000,"d":"1000.00"},null,{"v":1000,"d":"1000.00"},{"$f":"+IFERROR(IF(COUNT(O162),ROUND(O162/('Shareholding Pattern'!$P$58)*100,2),\"\"),0)","v":{"v":0,"d":"0.00"}},null,null,"",{"$f":"+IFERROR(IF(COUNT(K162,S162),ROUND(SUM(S162,K162)/SUM('Shareholding Pattern'!$L$57,'Shareholding Pattern'!$T$57)*100,2),\"\"),0)","v":{"v":0,"d":"0.00"}},null,"",null,"",0,{"$nulls":3},1]
[{"$nulls":4},149,"RANGANAYAKAMMA ARUMALLA","BBUBB9999Z",1000,null,null,1000,{"$f":"+IFERROR(IF(COUNT(K163),ROUND(K163/'Shareholding Pattern'!$L$57*100,2),\"\"),0)","v":{"v":0,"d":"0.00"}},{"v":1000,"d":"1000.00"},null,{"v":1000,"d":"1000.00"},{"$f":"+IFERROR(IF(COUNT(O163),ROUND(O163/('Shareholding Pattern'!$P$58)*100,2),\"\"),0)","v":{"v":0,"d":"0.00"}},null,null,"",{"$f":"+IFERROR(IF(COUNT(K163,S163),ROUND(SUM(S163,K163)/SUM('Shareholding Pattern'!$L$57,'Shareholding Pattern'!$T$57)*100,2),\"\"),0)","v":{"v":0,"d":"0.00"}},null,"",null,"",0,{"$nulls":3},1]
[{"$nulls":4},150,"U.L. SRINIVASULU","BBVBB9999Z",500,null,null,500,{"$f":"+IFERROR(IF(COUNT(K164),ROUND(K164/'Shareholding Pattern'!$L$57*100,2),\"\"),0)","v":{"v":0,"d":"0.00"}},{"v":500,"d":"500.00"},null,{"v":500,"d":"500.00"},{"$f":"+IFERROR(IF(COUNT(O164),ROUND(O164/('Shareholding Pattern'!$P$58)*100,2),\"\"),0)","v":{"v":0,"d":"0.00"}},null,null,"",{"$f":"+IFERROR(IF(COUNT(K164,S164),ROUND(SUM(S164,K164)/SUM('Shareholding Pattern'!$L$57,'Shareholding Pattern'!$T$57)*100,2),\"\"),0)","v":{"v":0,"d":"0.00"}},null,"",null,"",0,{"$nulls":3},1]
[{"$nulls":4},151,"A.B. RAO","BBWBB9999Z",500,null,null,500,{"$f":"+IFERROR(IF(COUNT(K165),ROUND(K165/'Shareholding Pattern'!$L$57*100,2),\"\"),0)","v":{"v":0,"d":"0.00"}},{"v":500,"d":"500.00"},null,{"v":500,"d":"500.00"},{"$f":"+IFERROR(IF(COUNT(O165),ROUND(O165/('Shareholding Pattern'!$P$58)*100,2),\"\"),0)","v":{"v":0,"d":"0.00"}},null,null,"",{"$f":"+IFERROR(IF(COUNT(K165,S165),ROUND(SUM(S165,K165)/SUM('Shareholding Pattern'!$L$57,'Shareholding Pattern'!$T$57)*100,2),\"\"),0)","v":{"v":0,"d":"0.00"}},null,"",null,"",0,{"$nulls":3},1]
[{"$nulls":4},152,"P. RAGHU RAM REDDY","BBXBB9999Z",500,null,null,500,{"$f":"+IFERROR(IF(COUNT(K166),ROUND(K166/'Shareholding Pattern'!$L$57*100,2),\"\"),0)","v":{"v":0,"d":"0.00"}},{"v":500,"d":"500.00"},null,{"v":500,"d":"500.00"},{"$f":"+IFERROR(IF(COUNT(O166),ROUND(O166/('Shareholding Pattern'!$P$58)*100,2),\"\"),0)","v":{"v":0,"d":"0.00"}},null,null,"",{"$f":"+IFERROR(IF(COUNT(K166,S166),ROUND(SUM(S166,K166)/SUM('Shareholding Pattern'!$L$57,'Shareholding Pattern'!$T$57)*100,2),\"\"),0)","v":{"v":0,"d":"0.00"}},null,"",null,"",0,{"$nulls":3},1]
[{"$nulls":4},153,"RAMANI  C.V.","BBYBB9999Z",200,null,null,200,{"$f":"+IFERROR(IF(COUNT(K167),ROUND(K167/'Shareholding Pattern'!$L$57*100,2),\"\"),0)","v":{"v":0,"d":"0.00"}},{"v":200,"d":"200.00"},null,{"v":200,"d":"200.00"},{"$f":"+IFERROR(IF(COUNT(O167),ROUND(O167/('Shareholding Pattern'!$P$58)*100,2),\"\"),0)","v":{"v":0,"d":"0.00"}},null,null,"",{"$f":"+IFERROR(IF(COUNT(K167,S167),ROUND(SUM(S167,K167)/SUM('Shareholding Pattern'!$L$57,'Shareholding Pattern'!$T$57)*100,2),\"\"),0)","v":{"v":0,"d":"0.00"}},null,"",null,"",0,{"$nulls":3},1]
[{"$nulls":4},154,"BHAVANI RAMANATHAN","BBZBB9999Z",500,null,null,500,{"$f":"+IFERROR(IF(COUNT(K168),ROUND(K168/'Shareholding Pattern'!$L$57*100,2),\"\"),0)","v":{"v":0,"d":"0.00"}},{"v":500,"d":"500.00"},null,{"v":500,"d":"500.00"},{"$f":"+IFERROR(IF(COUNT(O168),ROUND(O168/('Shareholding Pattern'!$P$58)*100,2),\"\"),0)","v":{"v":0,"d":"0.00"}},null,null,"",{"$f":"+IFERROR(IF(COUNT(K168,S168),ROUND(SUM(S168,K168)/SUM('Shareholding Pattern'!$L$57,'Shareholding Pattern'!$T$57)*100,2),\"\"),0)","v":{"v":0,"d":"0.00"}},null,"",null,"",0,{"$nulls":3},1]
[{"$nulls":4},155,"VIJAYA DURGA NAGUBANDI","BBBAB9999Z",1000,null,null,1000,{"$f":"+IFERROR(IF(COUNT(K169),ROUND(K169/'Shareholding Pattern'!$L$57*100,2),\"\"),0)","v":{"v":0,"d":"0.00"}},{"v":1000,"d":"1000.00"},null,{"v":1000,"d":"1000.00"},{"$f":"+IFERROR(IF(COUNT(O169),ROUND(O169/('Shareholding Pattern'!$P$58)*100,2),\"\"),0)","v":{"v":0,"d":"0.00"}},null,null,"",{"$f":"+IFERROR(IF(COUNT(K169,S169),ROUND(SUM(S169,K169)/SUM('Shareholding Pattern'!$L$57,'Shareholding Pattern'!$T$57)*100,2),\"\"),0)","v":{"v":0,"d":"0.00"}},null,"",null,"",0,{"$nulls":3},1]
[{"$nulls":4},156,"SATYA SUBRAMANYAM NAGUBANDI","BBBCB9999Z",1000,null,null,1000,{"$f":"+IFERROR(IF(COUNT(K170),ROUND(K170/'Shareholding Pattern'!$L$57*100,2),\"\"),0)","v":{"v":0,"d":"0.00"}},{"v":1000,"d":"1000.00"},null,{"v":1000,"d":"1000.00"},{"$f":"+IFERROR(IF(COUNT(O170),ROUND(O170/('Shareholding Pattern'!$P$58)*100,2),\"\"),0)","v":{"v":0,"d":"0.00"}},null,null,"",{"$f":"+IFERROR(IF(COUNT(K170,S170),ROUND(SUM(S170,K170)/SUM('Shareholding Pattern'!$L$57,'Shareholding Pattern'!$T$57)*100,2),\"\"),0)","v":{"v":0,"d":"0.00"}},null,"",null,"",0,{"$nulls":3},1]
[{"$nulls":4},157,"NALAMADA GAUTHAM KUMAR","BBBDB9999Z",500,null,null,500,{"$f":"+IFERROR(IF(COUNT(K171),ROUND(K171/'Shareholding Pattern'!$L$57*100,2),\"\"),0)","v":{"v":0,"d":"0.00"}},{"v":500,"d":"500.00"},null,{"v":500,"d":"500.00"},{"$f":"+IFERROR(IF(COUNT(O171),ROUND(O171/('Shareholding Pattern'!$P$58)*100,2),\"\"),0)","v":{"v":0,"d":"0.00"}},null,null,"",{"$f":"+IFERROR(IF(COUNT(K171,S171),ROUND(SUM(S171,K171)/SUM('Shareholding Pattern'!$L$57,'Shareholding Pattern'!$T$57)*100,2),\"\"),0)","v":{"v":0,"d":"0.00"}},null,"",null,"",0,{"$nulls":3},1]
[{"$nulls":4},158,"SEWARNA LATHA K.","BBBEB9999Z",700,null,null,700,{"$f":"+IFERROR(IF(COUNT(K172),ROUND(K172/'Shareholding Pattern'!$L$57*100,2),\"\"),0)","v":{"v":0,"d":"0.00"}},{"v":700,"d":"700.00"},null,{"v":700,"d":"700.00"},{"$f":"+IFERROR(IF(COUNT(O172),ROUND(O172/('Shareholding Pattern'!$P$58)*100,2),\"\"),0)","v":{"v":0,"d":"0.00"}},null,null,"",{"$f":"+IFERROR(IF(COUNT(K172,S172),ROUND(SUM(S172,K172)/SUM('Shareholding Pattern'!$L$57,'Shareholding Pattern'!$T$57)*100,2),\"\"),0)","v":{"v":0,"d":"0.00"}},null,"",null,"",0,{"$nulls":3},1]
[{"$nulls":4},159,"NAGENDRA PRASAD CHITTURI","BBBFB9999Z",600,null,null,600,{"$f":"+IFERROR(IF(COUNT(K173),ROUND(K173/'Shareholding Pattern'!$L$57*100,2),\"\"),0)","v":{"v":0,"d":"0.00"}},{"v":600,"d":"600.00"},null,{"v":600,"d":"600.00"},{"$f":"+IFERROR(IF(COUNT(O173),ROUND(O173/('Shareholding Pattern'!$P$58)*100,2),\"\"),0)","v":{"v":0,"d":"0.00"}},null,null,"",{"$f":"+IFERROR(IF(COUNT(K173,S173),ROUND(SUM(S173,K173)/SUM('Shareholding Pattern'!$L$57,'Shareholding Pattern'!$T$57)*100,2),\"\"),0)","v":{"v":0,"d":"0.00"}},null,"",null,"",0,{"$nulls":3},1]
[{"$nulls":4},160,"JASTI SRI RAMACHANDRA PRASAD","BBBGB9999Z",400,null,null,400,{"$f":"+IFERROR(IF(COUNT(K174),ROUND(K174/'Shareholding Pattern'!$L$57*100,2),\"\"),0)","v":{"v":0,"d":"0.00"}},{"v":400,"d":"400.00"},null,{"v":400,"d":"400.00"},{"$f":"+IFERROR(IF(COUNT(O174),ROUND(O174/('Shareholding Pattern'!$P$58)*100,2),\"\"),0)","v":{"v":0,"d":"0.00"}},null,null,"",{"$f":"+IFERROR(IF(COUNT(K174,S174),ROUND(SUM(S174,K174)/SUM('Shareholding Pattern'!$L$57,'Shareholding Pattern'!$T$57)*100,2),\"\"),0)","v":{"v":0,"d":"0.00"}},null,"",null,"",0,{"$nulls":3},1]
[{"$nulls":4},161,"SREELAKSHMI","BBBHB9999Z",400,null,null,400,{"$f":"+IFERROR(IF(COUNT(K175),ROUND(K175/'Shareholding Pattern'!$L$57*100,2),\"\"),0)","v":{"v":0,"d":"0.00"}},{"v":400,"d":"400.00"},null,{"v":400,"d":"400.00"},{"$f":"+IFERROR(IF(COUNT(O175),ROUND(O175/('Shareholding Pattern'!$P$58)*100,2),\"\"),0)","v":{"v":0,"d":"0.00"}},null,null,"",{"$f":"+IFERROR(IF(COUNT(K175,S175),ROUND(SUM(S175,K175)/SUM('Shareholding Pattern'!$L$57,'Shareholding Pattern'!$T$57)*100,2),\"\"),0)","v":{"v":0,"d":"0.00"}},null,"",null,"",0,{"$nulls":3},1]
[{"$nulls":4},162,"VENKATA REDDY KURRE","BBBIB9999Z",100,null,null,100,{"$f":"+IFERROR(IF(COUNT(K176),ROUND(K176/'Shareholding Pattern'!$L$57*100,2),\"\"),0)","v":{"v":0,"d":"0.00"}},{"v":100,"d":"100.00"},null,{"v":100,"d":"100.00"},{"$f":"+IFERROR(IF(COUNT(O176),ROUND(O176/('Shareholding Pattern'!$P$58)*100,2),\"\"),0)","v":{"v":0,"d":"0.00"}},null,null,"",{"$f":"+IFERROR(IF(COUNT(K176,S176),ROUND(SUM(S176,K176)/SUM('Shareholding Pattern'!$L$57,'Shareholding Pattern'!$T$57)*100,2),\"\"),0)","v":{"v":0,"d":"0.00"}},null,"",null,"",0,{"$nulls":3},1]
[{"$nulls":4},163,"PAKKIRA REDDY POTHI REDDY","BBBJB9999Z",500,null,null,500,{"$f":"+IFERROR(IF(COUNT(K177),ROUND(K177/'Shareholding Pattern'!$L$57*100,2),\"\"),0)","v":{"v":0,"d":"0.00"}},{"v":500,"d":"500.00"},null,{"v":500,"d":"500.00"},{"$f":"+IFERROR(IF(COUNT(O177),ROUND(O177/('Shareholding Pattern'!$P$58)*100,2),\"\"),0)","v":{"v":0,"d":"0.00"}},null,null,"",{"$f":"+IFERROR(IF(COUNT(K177,S177),ROUND(SUM(S177,K177)/SUM('Shareholding Pattern'!$L$57,'Shareholding Pattern'!$T$57)*100,2),\"\"),0)","v":{"v":0,"d":"0.00"}},null,"",null,"",0,{"$nulls":3},1]
[{"$nulls":4},164,"PRAVEEN KILARU","BBBKB9999Z",5000,null,null,5000,{"$f":"+IFERROR(IF(COUNT(K178),ROUND(K178/'Shareholding Pattern'!$L$57*100,2),\"\"),0)","v":0.02},{"v":5000,"d":"5000.00"},null,{"v":5000,"d":"5000.00"},{"$f":"+IFERROR(IF(COUNT(O178),ROUND(O178/('Shareholding Pattern'!$P$58)*100,2),\"\"),0)","v":0.02},null,null,"",{"$f":"+IFERROR(IF(COUNT(K178,S178),ROUND(SUM(S178,K178)/SUM('Shareholding Pattern'!$L$57,'Shareholding Pattern'!$T$57)*100,2),\"\"),0)","v":0.02},null,"",null,"",0,{"$nulls":3},1]
[{"$nulls":4},165,"KAMESHWARA RAO NARAYANAM","BBBLB9999Z",200,null,null,200,{"$f":"+IFERROR(IF(COUNT(K179),ROUND(K179/'Shareholding Pattern'!$L$57*100,2),\"\"),0)","v":{"v":0,"d":"0.00"}},{"v":200,"d":"200.00"},null,{"v":200,"d":"200.00"},{"$f":"+IFERROR(IF(COUNT(O179),ROUND(O179/('Shareholding Pattern'!$P$58)*100,2),\"\"),0)","v":{"v":0,"d":"0.00"}},null,null,"",{"$f":"+IFERROR(IF(COUNT(K179,S179),ROUND(SUM(S179,K179)/SUM('Shareholding Pattern'!$L$57,'Shareholding Pattern'!$T$57)*100,2),\"\"),0)","v":{"v":0,"d":"0.00"}},null,"",null,"",0,{"$nulls":3},1]
[{"$nulls":4},166,"UMADEVI N. VAYANAM","BBBMB9999Z",200,null,null,200,{"$f":"+IFERROR(IF(COUNT(K180),ROUND(K180/'Shareholding Pattern'!$L$57*100,2),\"\"),0)","v":{"v":0,"d":"0.00"}},{"v":200,"d":"200.00"},null,{"v":200,"d":"200.00"},{"$f":"+IFERROR(IF(COUNT(O180),ROUND(O180/('Shareholding Pattern'!$P$58)*100,2),\"\"),0)","v":{"v":0,"d":"0.00"}},null,null,"",{"$f":"+IFERROR(IF(COUNT(K180,S180),ROUND(SUM(S180,K180)/SUM('Shareholding Pattern'!$L$57,'Shareholding Pattern'!$T$57)*100,2),\"\"),0)","v":{"v":0,"d":"0.00"}},null,"",null,"",0,{"$nulls":3},1]
[{"$nulls":4},167,"C.S. RAO ","BBBNB9999Z",1000,null,null,1000,{"$f":"+IFERROR(IF(COUNT(K181),ROUND(K181/'Shareholding Pattern'!$L$57*100,2),\"\"),0)","v":{"v":0,"d":"0.00"}},{"v":1000,"d":"1000.00"},null,{"v":1000,"d":"1000.00"},{"$f":"+IFERROR(IF(COUNT(O181),ROUND(O181/('Shareholding Pattern'!$P$58)*100,2),\"\"),0)","v":{"v":0,"d":"0.00"}},null,null,"",{"$f":"+IFERROR(IF(COUNT(K181,S181),ROUND(SUM(S181,K181)/SUM('Shareholding Pattern'!$L$57,'Shareholding Pattern'!$T$57)*100,2),\"\"),0)","v":{"v":0,"d":"0.00"}},null,"",null,"",0,{"$nulls":3},1]
[{"$nulls":4},168,"M. SATYANARAYAN VARMA","BBBOB9999Z",500,null,null,500,{"$f":"+IFERROR(IF(COUNT(K182),ROUND(K182/'Shareholding Pattern'!$L$57*100,2),\"\"),0)","v":{"v":0,"d":"0.00"}},{"v":500,"d":"500.00"},null,{"v":500,"d":"500.00"},{"$f":"+IFERROR(IF(COUNT(O182),ROUND(O182/('Shareholding Pattern'!$P$58)*100,2),\"\"),0)","v":{"v":0,"d":"0.00"}},null,null,"",{"$f":"+IFERROR(IF(COUNT(K182,S182),ROUND(SUM(S182,K182)/SUM('Shareholding Pattern'!$L$57,'Shareholding Pattern'!$T$57)*100,2),\"\"),0)","v":{"v":0,"d":"0.00"}},null,"",null,"",0,{"$nulls":3},1]
[{"$nulls":4},169,"G.VENKATESWARA VARMA","BBBPB9999Z",2500,null,null,2500,{"$f":"+IFERROR(IF(COUNT(K183),ROUND(K183/'Shareholding Pattern'!$L$57*100,2),\"\"),0)","v":0.01},{"v":2500,"d":"2500.00"},null,{"v":2500,"d":"2500.00"},{"$f":"+IFERROR(IF(COUNT(O183),ROUND(O183/('Shareholding Pattern'!$P$58)*100,2),\"\"),0)","v":0.01},null,null,"",{"$f":"+IFERROR(IF(COUNT(K183,S183),ROUND(SUM(S183,K183)/SUM('Shareholding Pattern'!$L$57,'Shareholding Pattern'!$T$57)*100,2),\"\"),0)","v":0.01},null,"",null,"",0,{"$nulls":3},1]
[{"$nulls":4},170,"VENKATA KRISHNA KAMBHAMPATI","BBBQB9999Z",500,null,null,500,{"$f":"+IFERROR(IF(COUNT(K184),ROUND(K184/'Shareholding Pattern'!$L$57*100,2),\"\"),0)","v":{"v":0,"d":"0.00"}},{"v":500,"d":"500.00"},null,{"v":500,"d":"500.00"},{"$f":"+IFERROR(IF(COUNT(O184),ROUND(O184/('Shareholding Pattern'!$P$58)*100,2),\"\"),0)","v":{"v":0,"d":"0.00"}},null,null,"",{"$f":"+IFERROR(IF(COUNT(K184,S184),ROUND(SUM(S184,K184)/SUM('Shareholding Pattern'!$L$57,'Shareholding Pattern'!$T$57)*100,2),\"\"),0)","v":{"v":0,"d":"0.00"}},null,"",null,"",0,{"$nulls":3},1]
[{"$nulls":4},171,"SUJATHA LAKKA","BBBRB9999Z",500,null,null,500,{"$f":"+IFERROR(IF(COUNT(K185),ROUND(K185/'Shareholding Pattern'!$L$57*100,2),\"\"),0)","v":{"v":0,"d":"0.00"}},{"v":500,"d":"500.00"},null,{"v":500,"d":"500.00"},{"$f":"+IFERROR(IF(COUNT(O185),ROUND(O185/('Shareholding Pattern'!$P$58)*100,2),\"\"),0)","v":{"v":0,"d":"0.00"}},null,null,"",{"$f":"+IFERROR(IF(COUNT(K185,S185),ROUND(SUM(S185,K185)/SUM('Shareholding Pattern'!$L$57,'Shareholding Pattern'!$T$57)*100,2),\"\"),0)","v":{"v":0,"d":"0.00"}},null,"",null,"",0,{"$nulls":3},1]
[{"$nulls":4},172,"JAYANTHI GURUJALA","BBBSB9999Z",500,null,null,500,{"$f":"+IFERROR(IF(COUNT(K186),ROUND(K186/'Shareholding Pattern'!$L$57*100,2),\"\"),0)","v":{"v":0,"d":"0.00"}},{"v":500,"d":"500.00"},null,{"v":500,"d":"500.00"},{"$f":"+IFERROR(IF(COUNT(O186),ROUND(O186/('Shareholding Pattern'!$P$58)*100,2),\"\"),0)","v":{"v":0,"d":"0.00"}},null,null,"",{"$f":"+IFERROR(IF(COUNT(K186,S186),ROUND(SUM(S186,K186)/SUM('Shareholding Pattern'!$L$57,'Shareholding Pattern'!$T$57)*100,2),\"\"),0)","v":{"v":0,"d":"0.00"}},null,"",null,"",0,{"$nulls":3},1]
[{"$nulls":4},173,"PRAMILA LAKKA","BBBTB9999Z",500,null,null,500,{"$f":"+IFERROR(IF(COUNT(K187),ROUND(K187/'Shareholding Pattern'!$L$57*100,2),\"\"),0)","v":{"v":0,"d":"0.00"}},{"v":500,"d":"500.00"},null,{"v":500,"d":"500.00"},{"$f":"+IFERROR(IF(COUNT(O187),ROUND(O187/('Shareholding Pattern'!$P$58)*100,2),\"\"),0)","v":{"v":0,"d":"0.00"}},null,null,"",{"$f":"+IFERROR(IF(COUNT(K187,S187),ROUND(SUM(S187,K187)/SUM('Shareholding Pattern'!$L$57,'Shareholding Pattern'!$T$57)*100,2),\"\"),0)","v":{"v":0,"d":"0.00"}},null,"",null,"",0,{"$nulls":3},1]
[{"$nulls":4},174,"MADHVI REDDY REDDY","BBBUB9999Z",500,null,null,500,{"$f":"+IFERROR(IF(COUNT(K188),ROUND(K188/'Shareholding Pattern'!$L$57*100,2),\"\"),0)","v":{"v":0,"d":"0.00"}},{"v":500,"d":"500.00"},null,{"v":500,"d":"500.00"},{"$f":"+IFERROR(IF(COUNT(O188),ROUND(O188/('Shareholding Pattern'!$P$58)*100,2),\"\"),0)","v":{"v":0,"d":"0.00"}},null,null,"",{"$f":"+IFERROR(IF(COUNT(K188,S188),ROUND(SUM(S188,K188)/SUM('Shareholding Pattern'!$L$57,'Shareholding Pattern'!$T$57)*100,2),\"\"),0)","v":{"v":0,"d":"0.00"}},null,"",null,"",0,{"$nulls":3},1]
[{"$nulls":4},175,"LAKSHMI DEVI GURAJALA","BBBVB9999Z",1000,null,null,1000,{"$f":"+IFERROR(IF(COUNT(K189),ROUND(K189/'Shareholding Pattern'!$L$57*100,2),\"\"),0)","v":{"v":0,"d":"0.00"}},{"v":1000,"d":"1000.00"},null,{"v":1000,"d":"1000.00"},{"$f":"+IFERROR(IF(COUNT(O189),ROUND(O189/('Shareholding Pattern'!$P$58)*100,2),\"\"),0)","v":{"v":0,"d":"0.00"}},null,null,"",{"$f":"+IFERROR(IF(COUNT(K189,S189),ROUND(SUM(S189,K189)/SUM('Shareholding Pattern'!$L$57,'Shareholding Pattern'!$T$57)*100,2),\"\"),0)","v":{"v":0,"d":"0.00"}},null,"",null,"",0,{"$nulls":3},1]
[{"$nulls":4},176,"VINDHYA ANNAM","BBBWB9999Z",10000,null,null,10000,{"$f":"+IFERROR(IF(COUNT(K190),ROUND(K190/'Shareholding Pattern'!$L$57*100,2),\"\"),0)","v":0.05},{"v":10000,"d":"10000.00"},null,{"v":10000,"d":"10000.00"},{"$f":"+IFERROR(IF(COUNT(O190),ROUND(O190/('Shareholding Pattern'!$P$58)*100,2),\"\"),0)","v":0.05},null,null,"",{"$f":"+IFERROR(IF(COUNT(K190,S190),ROUND(SUM(S190,K190)/SUM('Shareholding Pattern'!$L$57,'Shareholding Pattern'!$T$57)*100,2),\"\"),0)","v":0.05},null,"",null,"",0,{"$nulls":3},1]
[{"$nulls":4},177,"D. KAMALA","BBBXB9999Z",4500,null,null,4500,{"$f":"+IFERROR(IF(COUNT(K191),ROUND(K191/'Shareholding Pattern'!$L$57*100,2),\"\"),0)","v":0.02},{"v":4500,"d":"4500.00"},null,{"v":4500,"d":"4500.00"},{"$f":"+IFERROR(IF(COUNT(O191),ROUND(O191/('Shareholding Pattern'!$P$58)*100,2),\"\"),0)","v":0.02},null,null,"",{"$f":"+IFERROR(IF(COUNT(K191,S191),ROUND(SUM(S191,K191)/SUM('Shareholding Pattern'!$L$57,'Shareholding Pattern'!$T$57)*100,2),\"\"),0)","v":0.02},null,"",null,"",0,{"$nulls":3},1]
[{"$nulls":4},178,"K. NARASIMHA REDDY","BBBYB9999Z",4500,null,null,4500,{"$f":"+IFERROR(IF(COUNT(K192),ROUND(K192/'Shareholding Pattern'!$L$57*100,2),\"\"),0)","v":0.02},{"v":4500,"d":"4500.00"},null,{"v":4500,"d":"4500.00"},{"$f":"+IFERROR(IF(COUNT(O192),ROUND(O192/('Shareholding Pattern'!$P$58)*100,2),\"\"),0)","v":0.02},null,null,"",{"$f":"+IFERROR(IF(COUNT(K192,S192),ROUND(SUM(S192,K192)/SUM('Shareholding Pattern'!$L$57,'Shareholding Pattern'!$T$57)*100,2),\"\"),0)","v":0.02},null,"",null,"",0,{"$nulls":3},1]
[{"$nulls":4},179,"K. VENKATA RAMI REDDY","BBBZB9999Z",4500,null,null,4500,{"$f":"+IFERROR(IF(COUNT(K193),ROUND(K193/'Shareholding Pattern'!$L$57*100,2),\"\"),0)","v":0.02},{"v":4500,"d":"4500.00"},null,{"v":4500,"d":"4500.00"},{"$f":"+IFERROR(IF(COUNT(O193),ROUND(O193/('Shareholding Pattern'!$P$58)*100,2),\"\"),0)","v":0.02},null,null,"",{"$f":"+IFERROR(IF(COUNT(K193,S193),ROUND(SUM(S193,K193)/SUM('Shareholding Pattern'!$L$57,'Shareholding Pattern'!$T$57)*100,2),\"\"),0)","v":0.02},null,"",null,"",0,{"$nulls":3},1]
[{"$nulls":4},180,"D. HANUMANTH REDDY","BBBBA9999Z",4500,null,null,4500,{"$f":"+IFERROR(IF(COUNT(K194),ROUND(K194/'Shareholding Pattern'!$L$57*100,2),\"\"),0)","v":0.02},{"v":4500,"d":"4500.00"},null,{"v":4500,"d":"4500.00"},{"$f":"+IFERROR(IF(COUNT(O194),ROUND(O194/('Shareholding Pattern'!$P$58)*100,2),\"\"),0)","v":0.02},null,null,"",{"$f":"+IFERROR(IF(COUNT(K194,S194),ROUND(SUM(S194,K194)/SUM('Shareholding Pattern'!$L$57,'Shareholding Pattern'!$T$57)*100,2),\"\"),0)","v":0.02},null,"",null,"",0,{"$nulls":3},1]
[{"$nulls":4},181,"K. RAJESH REDDY","BBBBC9999Z",4500,null,null,4500,{"$f":"+IFERROR(IF(COUNT(K195),ROUND(K195/'Shareholding Pattern'!$L$57*100,2),\"\"),0)","v":0.02},{"v":4500,"d":"4500.00"},null,{"v":4500,"d":"4500.00"},{"$f":"+IFERROR(IF(COUNT(O195),ROUND(O195/('Shareholding Pattern'!$P$58)*100,2),\"\"),0)","v":0.02},null,null,"",{"$f":"+IFERROR(IF(COUNT(K195,S195),ROUND(SUM(S195,K195)/SUM('Shareholding Pattern'!$L$57,'Shareholding Pattern'!$T$57)*100,2),\"\"),0)","v":0.02},null,"",null,"",0,{"$nulls":3},1]
[{"$nulls":4},182,"D. LAXMI DEVI","BBBBD9999Z",4500,null,null,4500,{"$f":"+IFERROR(IF(COUNT(K196),ROUND(K196/'Shareholding Pattern'!$L$57*100,2),\"\"),0)","v":0.02},{"v":4500,"d":"4500.00"},null,{"v":4500,"d":"4500.00"},{"$f":"+IFERROR(IF(COUNT(O196),ROUND(O196/('Shareholding Pattern'!$P$58)*100,2),\"\"),0)","v":0.02},null,null,"",{"$f":"+IFERROR(IF(COUNT(K196,S196),ROUND(SUM(S196,K196)/SUM('Shareholding Pattern'!$L$57,'Shareholding Pattern'!$T$57)*100,2),\"\"),0)","v":0.02},null,"",null,"",0,{"$nulls":3},1]
[{"$nulls":4},183,"M. CHINNA KRISHNA REDDY","BBBBE9999Z",4600,null,null,4600,{"$f":"+IFERROR(IF(COUNT(K197),ROUND(K197/'Shareholding Pattern'!$L$57*100,2),\"\"),0)","v":0.02},{"v":4600,"d":"4600.00"},null,{"v":4600,"d":"4600.00"},{"$f":"+IFERROR(IF(COUNT(O197),ROUND(O197/('Shareholding Pattern'!$P$58)*100,2),\"\"),0)","v":0.02},null,null,"",{"$f":"+IFERROR(IF(COUNT(K197,S197),ROUND(SUM(S197,K197)/SUM('Shareholding Pattern'!$L$57,'Shareholding Pattern'!$T$57)*100,2),\"\"),0)","v":0.02},null,"",null,"",0,{"$nulls":3},1]
[{"$nulls":4},184,"DEEPIKA K. REDDY","BBBBF9999Z",4400,null,null,4400,{"$f":"+IFERROR(IF(COUNT(K198),ROUND(K198/'Shareholding Pattern'!$L$57*100,2),\"\"),0)","v":0.02},{"v":4400,"d":"4400.00"},null,{"v":4400,"d":"4400.00"},{"$f":"+IFERROR(IF(COUNT(O198),ROUND(O198/('Shareholding Pattern'!$P$58)*100,2),\"\"),0)","v":0.02},null,null,"",{"$f":"+IFERROR(IF(COUNT(K198,S198),ROUND(SUM(S198,K198)/SUM('Shareholding Pattern'!$L$57,'Shareholding Pattern'!$T$57)*100,2),\"\"),0)","v":0.02},null,"",null,"",0,{"$nulls":3},1]
[{"$nulls":4},185,"INDIRA REDDY","BBBBG9999Z",4000,null,null,4000,{"$f":"+IFERROR(IF(COUNT(K199),ROUND(K199/'Shareholding Pattern'!$L$57*100,2),\"\"),0)","v":0.02},{"v":4000,"d":"4000.00"},null,{"v":4000,"d":"4000.00"},{"$f":"+IFERROR(IF(COUNT(O199),ROUND(O199/('Shareholding Pattern'!$P$58)*100,2),\"\"),0)","v":0.02},null,null,"",{"$f":"+IFERROR(IF(COUNT(K199,S199),ROUND(SUM(S199,K199)/SUM('Shareholding Pattern'!$L$57,'Shareholding Pattern'!$T$57)*100,2),\"\"),0)","v":0.02},null,"",null,"",0,{"$nulls":3},1]
[{"$nulls":4},186,"N. VIJAYA LAKSHMI","BBBBH9999Z",4600,null,null,4600,{"$f":"+IFERROR(IF(COUNT(K200),ROUND(K200/'Shareholding Pattern'!$L$57*100,2),\"\"),0)","v":0.02},{"v":4600,"d":"4600.00"},null,{"v":4600,"d":"4600.00"},{"$f":"+IFERROR(IF(COUNT(O200),ROUND(O200/('Shareholding Pattern'!$P$58)*100,2),\"\"),0)","v":0.02},null,null,"",{"$f":"+IFERROR(IF(COUNT(K200,S200),ROUND(SUM(S200,K200)/SUM('Shareholding Pattern'!$L$57,'Shareholding Pattern'!$T$57)*100,2),\"\"),0)","v":0.02},null,"",null,"",0,{"$nulls":3},1]
[{"$nulls":4},187,"SATYA KUMAR MANDAVILLI","BBBBI9999Z",4000,null,null,4000,{"$f":"+IFERROR(IF(COUNT(K201),ROUND(K201/'Shareholding Pattern'!$L$57*100,2),\"\"),0)","v":0.02},{"v":4000,"d":"4000.00"},null,{"v":4000,"d":"4000.00"},{"$f":"+IFERROR(IF(COUNT(O201),ROUND(O201/('Shareholding Pattern'!$P$58)*100,2),\"\"),0)","v":0.02},null,null,"",{"$f":"+IFERROR(IF(COUNT(K201,S201),ROUND(SUM(S201,K201)/SUM('Shareholding Pattern'!$L$57,'Shareholding Pattern'!$T$57)*100,2),\"\"),0)","v":0.02},null,"",null,"",0,{"$nulls":3},1]
[{"$nulls":4},188,"MANGA TAYARU MANDAVALLI","BBBBJ9999Z",4000,null,null,4000,{"$f":"+IFERROR(IF(COUNT(K202),ROUND(K202/'Shareholding Pattern'!$L$57*100,2),\"\"),0)","v":0.02},{"v":4000,"d":"4000.00"},null,{"v":4000,"d":"4000.00"},{"$f":"+IFERROR(IF(COUNT(O202),ROUND(O202/('Shareholding Pattern'!$P$58)*100,2),\"\"),0)","v":0.02},null,null,"",{"$f":"+IFERROR(IF(COUNT(K202,S202),ROUND(SUM(S202,K202)/SUM('Shareholding Pattern'!$L$57,'Shareholding Pattern'!$T$57)*100,2),\"\"),0)","v":0.02},null,"",null,"",0,{"$nulls":3},1]
[{"$nulls":4},189,"PADMAVATI MANDAVALLI","BBBBK9999Z",4000,null,null,4000,{"$f":"+IFERROR(IF(COUNT(K203),ROUND(K203/'Shareholding Pattern'!$L$57*100,2),\"\"),0)","v":0.02},{"v":4000,"d":"4000.00"},null,{"v":4000,"d":"4000.00"},{"$f":"+IFERROR(IF(COUNT(O203),ROUND(O203/('Shareholding Pattern'!$P$58)*100,2),\"\"),0)","v":0.02},null,null,"",{"$f":"+IFERROR(IF(COUNT(K203,S203),ROUND(SUM(S203,K203)/SUM('Shareholding Pattern'!$L$57,'Shareholding Pattern'!$T$57)*100,2),\"\"),0)","v":0.02},null,"",null,"",0,{"$nulls":3},1]
[{"$nulls":4},190,"VALLI SUBHADRA MANDAVALI","BBBBL9999Z",4000,null,null,4000,{"$f":"+IFERROR(IF(COUNT(K204),ROUND(K204/'Shareholding Pattern'!$L$57*100,2),\"\"),0)","v":0.02},{"v":4000,"d":"4000.00"},null,{"v":4000,"d":"4000.00"},{"$f":"+IFERROR(IF(COUNT(O204),ROUND(O204/('Shareholding Pattern'!$P$58)*100,2),\"\"),0)","v":0.02},null,null,"",{"$f":"+IFERROR(IF(COUNT(K204,S204),ROUND(SUM(S204,K204)/SUM('Shareholding Pattern'!$L$57,'Shareholding Pattern'!$T$57)*100,2),\"\"),0)","v":0.02},null,"",null,"",0,{"$nulls":3},1]
[{"$nulls":4},191,"RATHNAMANIKYAMBA MANDAVALLI","BBBBM9999Z",4000,null,null,4000,{"$f":"+IFERROR(IF(COUNT(K205),ROUND(K205/'Shareholding Pattern'!$L$57*100,2),\"\"),0)","v":0.02},{"v":4000,"d":"4000.00"},null,{"v":4000,"d":"4000.00"},{"$f":"+IFERROR(IF(COUNT(O205),ROUND(O205/('Shareholding Pattern'!$P$58)*100,2),\"\"),0)","v":0.02},null,null,"",{"$f":"+IFERROR(IF(COUNT(K205,S205),ROUND(SUM(S205,K205)/SUM('Shareholding Pattern'!$L$57,'Shareholding Pattern'!$T$57)*100,2),\"\"),0)","v":0.02},null,"",null,"",0,{"$nulls":3},1]
[{"$nulls":4},192,"MAMATHA PARAPALLEY","BBBBN9999Z",4000,null,null,4000,{"$f":"+IFERROR(IF(COUNT(K206),ROUND(K206/'Shareholding Pattern'!$L$57*100,2),\"\"),0)","v":0.02},{"v":4000,"d":"4000.00"},null,{"v":4000,"d":"4000.00"},{"$f":"+IFERROR(IF(COUNT(O206),ROUND(O206/('Shareholding Pattern'!$P$58)*100,2),\"\"),0)","v":0.02},null,null,"",{"$f":"+IFERROR(IF(COUNT(K206,S206),ROUND(SUM(S206,K206)/SUM('Shareholding Pattern'!$L$57,'Shareholding Pattern'!$T$57)*100,2),\"\"),0)","v":0.02},null,"",null,"",0,{"$nulls":3},1]
[{"$nulls":4},193,"SAMATHA PARAPALLEY","BBBBO9999Z",4000,null,null,{"$f":"+IFERROR(IF(COUNT(H207:J207),ROUND(SUM(H207:J207),0),\"\"),\"\")","v":4000},{"$f":"+IFERROR(IF(COUNT(K207),ROUND(K207/'Shareholding Pattern'!$L$57*100,2),\"\"),0)","v":0.02},{"$f":"IF(H207=\"\",\"\",H207)","v":{"v":4000,"d":"4000.00"}},null,{"$f":"+IFERROR(IF(COUNT(M207:N207),ROUND(SUM(M207,N207),2),\"\"),\"\")","v":{"v":4000,"d":"4000.00"}},{"$f":"+IFERROR(IF(COUNT(O207),ROUND(O207/('Shareholding Pattern'!$P$58)*100,2),\"\"),0)","v":0.02},null,null,{"$f":"+IFERROR(IF(COUNT(Q207:R207),ROUND(SUM(Q207:R207),0),\"\"),\"\")","v":""},{"$f":"+IFERROR(IF(COUNT(K207,S207),ROUND(SUM(S207,K207)/SUM('Shareholding Pattern'!$L$57,'Shareholding Pattern'!$T$57)*100,2),\"\"),0)","v":0.02},null,{"$f":"+IFERROR(IF(COUNT(U207),ROUND(SUM(U207)/SUM(K207)*100,2),\"\"),0)","v":""},null,{"$f":"+IFERROR(IF(COUNT(W207),ROUND(SUM(W207)/SUM(K207)*100,2),\"\"),0)","v":""},0,{"$nulls":3},{"$f":"IF(SUM(H207:Y207)>0,1,0)","v":1}]
[{"$nulls":4},194,"JAGAN MOHAN RAO PARAPALLEY","BBBBP9999Z",2000,null,null,2000,{"$f":"+IFERROR(IF(COUNT(K208),ROUND(K208/'Shareholding Pattern'!$L$57*100,2),\"\"),0)","v":0.01},{"v":2000,"d":"2000.00"},null,{"v":2000,"d":"2000.00"},{"$f":"+IFERROR(IF(COUNT(O208),ROUND(O208/('Shareholding Pattern'!$P$58)*100,2),\"\"),0)","v":0.01},null,null,"",{"$f":"+IFERROR(IF(COUNT(K208,S208),ROUND(SUM(S208,K208)/SUM('Shareholding Pattern'!$L$57,'Shareholding Pattern'!$T$57)*100,2),\"\"),0)","v":0.01},null,"",null,"",0,{"$nulls":3},1]
[{"$nulls":4},195,"ANAJNA REDDY","BBBBQ9999Z",4000,null,null,4000,{"$f":"+IFERROR(IF(COUNT(K209),ROUND(K209/'Shareholding Pattern'!$L$57*100,2),\"\"),0)","v":0.02},{"v":4000,"d":"4000.00"},null,{"v":4000,"d":"4000.00"},{"$f":"+IFERROR(IF(COUNT(O209),ROUND(O209/('Shareholding Pattern'!$P$58)*100,2),\"\"),0)","v":0.02},null,null,"",{"$f":"+IFERROR(IF(COUNT(K209,S209),ROUND(SUM(S209,K209)/SUM('Shareholding Pattern'!$L$57,'Shareholding Pattern'!$T$57)*100,2),\"\"),0)","v":0.02},null,"",null,"",0,{"$nulls":3},1]
[{"$nulls":4},196,"V. L. GEETHA ","BBBBR9999Z",3000,null,null,3000,{"$f":"+IFERROR(IF(COUNT(K210),ROUND(K210/'Shareholding Pattern'!$L$57*100,2),\"\"),0)","v":0.01},{"v":3000,"d":"3000.00"},null,{"v":3000,"d":"3000.00"},{"$f":"+IFERROR(IF(COUNT(O210),ROUND(O210/('Shareholding Pattern'!$P$58)*100,2),\"\"),0)","v":0.01},null,null,"",{"$f":"+IFERROR(IF(COUNT(K210,S210),ROUND(SUM(S210,K210)/SUM('Shareholding Pattern'!$L$57,'Shareholding Pattern'!$T$57)*100,2),\"\"),0)","v":0.01},null,"",null,"",0,{"$nulls":3},1]
[{"$nulls":4},197,"C. ARUNA","BBBBS9999Z",4000,null,null,4000,{"$f":"+IFERROR(IF(COUNT(K211),ROUND(K211/'Shareholding Pattern'!$L$57*100,2),\"\"),0)","v":0.02},{"v":4000,"d":"4000.00"},null,{"v":4000,"d":"4000.00"},{"$f":"+IFERROR(IF(COUNT(O211),ROUND(O211/('Shareholding Pattern'!$P$58)*100,2),\"\"),0)","v":0.02},null,null,"",{"$f":"+IFERROR(IF(COUNT(K211,S211),ROUND(SUM(S211,K211)/SUM('Shareholding Pattern'!$L$57,'Shareholding Pattern'!$T$57)*100,2),\"\"),0)","v":0.02},null,"",null,"",0,{"$nulls":3},1]
[{"$nulls":4},198,"V. RAMMURTHY REDDY","BBBBT9999Z",4000,null,null,4000,{"$f":"+IFERROR(IF(COUNT(K212),ROUND(K212/'Shareholding Pattern'!$L$57*100,2),\"\"),0)","v":0.02},{"v":4000,"d":"4000.00"},null,{"v":4000,"d":"4000.00"},{"$f":"+IFERROR(IF(COUNT(O212),ROUND(O212/('Shareholding Pattern'!$P$58)*100,2),\"\"),0)","v":0.02},null,null,"",{"$f":"+IFERROR(IF(COUNT(K212,S212),ROUND(SUM(S212,K212)/SUM('Shareholding Pattern'!$L$57,'Shareholding Pattern'!$T$57)*100,2),\"\"),0)","v":0.02},null,"",null,"",0,{"$nulls":3},1]
[{"$nulls":4},199,"D. SURENDRA REDDY","BBBBU9999Z",4000,null,null,4000,{"$f":"+IFERROR(IF(COUNT(K213),ROUND(K213/'Shareholding Pattern'!$L$57*100,2),\"\"),0)","v":0.02},{"v":4000,"d":"4000.00"},null,{"v":4000,"d":"4000.00"},{"$f":"+IFERROR(IF(COUNT(O213),ROUND(O213/('Shareholding Pattern'!$P$58)*100,2),\"\"),0)","v":0.02},null,null,"",{"$f":"+IFERROR(IF(COUNT(K213,S213),ROUND(SUM(S213,K213)/SUM('Shareholding Pattern'!$L$57,'Shareholding Pattern'!$T$57)*100,2),\"\"),0)","v":0.02},null,"",null,"",0,{"$nulls":3},1]
[{"$nulls":4},200,"A.L. BHOORATHNAM ALUGADDA","BBBBV9999Z",6000,null,null,6000,{"$f":"+IFERROR(IF(COUNT(K214),ROUND(K214/'Shareholding Pattern'!$L$57*100,2),\"\"),0)","v":0.03},{"v":6000,"d":"6000.00"},null,{"v":6000,"d":"6000.00"},{"$f":"+IFERROR(IF(COUNT(O214),ROUND(O214/('Shareholding Pattern'!$P$58)*100,2),\"\"),0)","v":0.03},null,null,"",{"$f":"+IFERROR(IF(COUNT(K214,S214),ROUND(SUM(S214,K214)/SUM('Shareholding Pattern'!$L$57,'Shareholding Pattern'!$T$57)*100,2),\"\"),0)","v":0.03},null,"",null,"",0,{"$nulls":3},1]
[{"$nulls":4},201,"PATTABHI RAMIAH MEKALA","BBBBW9999Z",5000,null,null,5000,{"$f":"+IFERROR(IF(COUNT(K215),ROUND(K215/'Shareholding Pattern'!$L$57*100,2),\"\"),0)","v":0.02},{"v":5000,"d":"5000.00"},null,{"v":5000,"d":"5000.00"},{"$f":"+IFERROR(IF(COUNT(O215),ROUND(O215/('Shareholding Pattern'!$P$58)*100,2),\"\"),0)","v":0.02},null,null,"",{"$f":"+IFERROR(IF(COUNT(K215,S215),ROUND(SUM(S215,K215)/SUM('Shareholding Pattern'!$L$57,'Shareholding Pattern'!$T$57)*100,2),\"\"),0)","v":0.02},null,"",null,"",0,{"$nulls":3},1]
[{"$nulls":4},202,"HEMAVATHI MEKALA","BBBBX9999Z",5000,null,null,5000,{"$f":"+IFERROR(IF(COUNT(K216),ROUND(K216/'Shareholding Pattern'!$L$57*100,2),\"\"),0)","v":0.02},{"v":5000,"d":"5000.00"},null,{"v":5000,"d":"5000.00"},{"$f":"+IFERROR(IF(COUNT(O216),ROUND(O216/('Shareholding Pattern'!$P$58)*100,2),\"\"),0)","v":0.02},null,null,"",{"$f":"+IFERROR(IF(COUNT(K216,S216),ROUND(SUM(S216,K216)/SUM('Shareholding Pattern'!$L$57,'Shareholding Pattern'!$T$57)*100,2),\"\"),0)","v":0.02},null,"",null,"",0,{"$nulls":3},1]
[{"$nulls":4},203,"L. RAJA SHANKAR ALUGADDA","BBBBY9999Z",7000,null,null,7000,{"$f":"+IFERROR(IF(COUNT(K217),ROUND(K217/'Shareholding Pattern'!$L$57*100,2),\"\"),0)","v":0.03},{"v":7000,"d":"7000.00"},null,{"v":7000,"d":"7000.00"},{"$f":"+IFERROR(IF(COUNT(O217),ROUND(O217/('Shareholding Pattern'!$P$58)*100,2),\"\"),0)","v":0.03},null,null,"",{"$f":"+IFERROR(IF(COUNT(K217,S217),ROUND(SUM(S217,K217)/SUM('Shareholding Pattern'!$L$57,'Shareholding Pattern'!$T$57)*100,2),\"\"),0)","v":0.03},null,"",null,"",0,{"$nulls":3},1]
[{"$nulls":4},204,"A.L. SUDERSHAN ALUGADDA","BBBBZ9999Z",7000,null,null,7000,{"$f":"+IFERROR(IF(COUNT(K218),ROUND(K218/'Shareholding Pattern'!$L$57*100,2),\"\"),0)","v":0.03},{"v":7000,"d":"7000.00"},null,{"v":7000,"d":"7000.00"},{"$f":"+IFERROR(IF(COUNT(O218),ROUND(O218/('Shareholding Pattern'!$P$58)*100,2),\"\"),0)","v":0.03},null,null,"",{"$f":"+IFERROR(IF(COUNT(K218,S218),ROUND(SUM(S218,K218)/SUM('Shareholding Pattern'!$L$57,'Shareholding Pattern'!$T$57)*100,2),\"\"),0)","v":0.03},null,"",null,"",0,{"$nulls":3},1]
[{"$nulls":4},205,"VENKATESHWARA RAO CHIKYALA","CCCCC9999Z",2500,null,null,2500,{"$f":"+IFERROR(IF(COUNT(K219),ROUND(K219/'Shareholding Pattern'!$L$57*100,2),\"\"),0)","v":0.01},{"v":2500,"d":"2500.00"},null,{"v":2500,"d":"2500.00"},{"$f":"+IFERROR(IF(COUNT(O219),ROUND(O219/('Shareholding Pattern'!$P$58)*100,2),\"\"),0)","v":0.01},null,null,"",{"$f":"+IFERROR(IF(COUNT(K219,S219),ROUND(SUM(S219,K219)/SUM('Shareholding Pattern'!$L$57,'Shareholding Pattern'!$T$57)*100,2),\"\"),0)","v":0.01},null,"",null,"",0,{"$nulls":3},1]
[{"$nulls":4},206,"R. MADHU ","CACCC9999Z",2500,null,null,2500,{"$f":"+IFERROR(IF(COUNT(K220),ROUND(K220/'Shareholding Pattern'!$L$57*100,2),\"\"),0)","v":0.01},{"v":2500,"d":"2500.00"},null,{"v":2500,"d":"2500.00"},{"$f":"+IFERROR(IF(COUNT(O220),ROUND(O220/('Shareholding Pattern'!$P$58)*100,2),\"\"),0)","v":0.01},null,null,"",{"$f":"+IFERROR(IF(COUNT(K220,S220),ROUND(SUM(S220,K220)/SUM('Shareholding Pattern'!$L$57,'Shareholding Pattern'!$T$57)*100,2),\"\"),0)","v":0.01},null,"",null,"",0,{"$nulls":3},1]
[{"$nulls":4},207,"SURYACHANDRA REDDY","CBCCC9999Z",2500,null,null,2500,{"$f":"+IFERROR(IF(COUNT(K221),ROUND(K221/'Shareholding Pattern'!$L$57*100,2),\"\"),0)","v":0.01},{"v":2500,"d":"2500.00"},null,{"v":2500,"d":"2500.00"},{"$f":"+IFERROR(IF(COUNT(O221),ROUND(O221/('Shareholding Pattern'!$P$58)*100,2),\"\"),0)","v":0.01},null,null,"",{"$f":"+IFERROR(IF(COUNT(K221,S221),ROUND(SUM(S221,K221)/SUM('Shareholding Pattern'!$L$57,'Shareholding Pattern'!$T$57)*100,2),\"\"),0)","v":0.01},null,"",null,"",0,{"$nulls":3},1]
[{"$nulls":4},208,"P.S. BHALLA","CDCCC9999Z",2500,null,null,2500,{"$f":"+IFERROR(IF(COUNT(K222),ROUND(K222/'Shareholding Pattern'!$L$57*100,2),\"\"),0)","v":0.01},{"v":2500,"d":"2500.00"},null,{"v":2500,"d":"2500.00"},{"$f":"+IFERROR(IF(COUNT(O222),ROUND(O222/('Shareholding Pattern'!$P$58)*100,2),\"\"),0)","v":0.01},null,null,"",{"$f":"+IFERROR(IF(COUNT(K222,S222),ROUND(SUM(S222,K222)/SUM('Shareholding Pattern'!$L$57,'Shareholding Pattern'!$T$57)*100,2),\"\"),0)","v":0.01},null,"",null,"",0,{"$nulls":3},1]
[{"$nulls":4},209,"KAANTA DEVI T. PRAJAPATI","CECCC9999Z",2500,null,null,2500,{"$f":"+IFERROR(IF(COUNT(K223),ROUND(K223/'Shareholding Pattern'!$L$57*100,2),\"\"),0)","v":0.01},{"v":2500,"d":"2500.00"},null,{"v":2500,"d":"2500.00"},{"$f":"+IFERROR(IF(COUNT(O223),ROUND(O223/('Shareholding Pattern'!$P$58)*100,2),\"\"),0)","v":0.01},null,null,"",{"$f":"+IFERROR(IF(COUNT(K223,S223),ROUND(SUM(S223,K223)/SUM('Shareholding Pattern'!$L$57,'Shareholding Pattern'!$T$57)*100,2),\"\"),0)","v":0.01},null,"",null,"",0,{"$nulls":3},1]
[{"$nulls":4},210,"ASHOK MB. AHUJA","CFCCC9999Z",2500,null,null,2500,{"$f":"+IFERROR(IF(COUNT(K224),ROUND(K224/'Shareholding Pattern'!$L$57*100,2),\"\"),0)","v":0.01},{"v":2500,"d":"2500.00"},null,{"v":2500,"d":"2500.00"},{"$f":"+IFERROR(IF(COUNT(O224),ROUND(O224/('Shareholding Pattern'!$P$58)*100,2),\"\"),0)","v":0.01},null,null,"",{"$f":"+IFERROR(IF(COUNT(K224,S224),ROUND(SUM(S224,K224)/SUM('Shareholding Pattern'!$L$57,'Shareholding Pattern'!$T$57)*100,2),\"\"),0)","v":0.01},null,"",null,"",0,{"$nulls":3},1]
[{"$nulls":4},211,"SARASA RAMANATHAN","CGCCC9999Z",2500,null,null,2500,{"$f":"+IFERROR(IF(COUNT(K225),ROUND(K225/'Shareholding Pattern'!$L$57*100,2),\"\"),0)","v":0.01},{"v":2500,"d":"2500.00"},null,{"v":2500,"d":"2500.00"},{"$f":"+IFERROR(IF(COUNT(O225),ROUND(O225/('Shareholding Pattern'!$P$58)*100,2),\"\"),0)","v":0.01},null,null,"",{"$f":"+IFERROR(IF(COUNT(K225,S225),ROUND(SUM(S225,K225)/SUM('Shareholding Pattern'!$L$57,'Shareholding Pattern'!$T$57)*100,2),\"\"),0)","v":0.01},null,"",null,"",0,{"$nulls":3},1]
[{"$nulls":4},212,"JYOTI SHANTI","CHCCC9999Z",2500,null,null,2500,{"$f":"+IFERROR(IF(COUNT(K226),ROUND(K226/'Shareholding Pattern'!$L$57*100,2),\"\"),0)","v":0.01},{"v":2500,"d":"2500.00"},null,{"v":2500,"d":"2500.00"},{"$f":"+IFERROR(IF(COUNT(O226),ROUND(O226/('Shareholding Pattern'!$P$58)*100,2),\"\"),0)","v":0.01},null,null,"",{"$f":"+IFERROR(IF(COUNT(K226,S226),ROUND(SUM(S226,K226)/SUM('Shareholding Pattern'!$L$57,'Shareholding Pattern'!$T$57)*100,2),\"\"),0)","v":0.01},null,"",null,"",0,{"$nulls":3},1]
[{"$nulls":4},213,"DEEPAK MEHRA","CICCC9999Z",2500,null,null,2500,{"$f":"+IFERROR(IF(COUNT(K227),ROUND(K227/'Shareholding Pattern'!$L$57*100,2),\"\"),0)","v":0.01},{"v":2500,"d":"2500.00"},null,{"v":2500,"d":"2500.00"},{"$f":"+IFERROR(IF(COUNT(O227),ROUND(O227/('Shareholding Pattern'!$P$58)*100,2),\"\"),0)","v":0.01},null,null,"",{"$f":"+IFERROR(IF(COUNT(K227,S227),ROUND(SUM(S227,K227)/SUM('Shareholding Pattern'!$L$57,'Shareholding Pattern'!$T$57)*100,2),\"\"),0)","v":0.01},null,"",null,"",0,{"$nulls":3},1]
[{"$nulls":4},214,"R. GOVERDHAN","CJCCC9999Z",2500,null,null,2500,{"$f":"+IFERROR(IF(COUNT(K228),ROUND(K228/'Shareholding Pattern'!$L$57*100,2),\"\"),0)","v":0.01},{"v":2500,"d":"2500.00"},null,{"v":2500,"d":"2500.00"},{"$f":"+IFERROR(IF(COUNT(O228),ROUND(O228/('Shareholding Pattern'!$P$58)*100,2),\"\"),0)","v":0.01},null,null,"",{"$f":"+IFERROR(IF(COUNT(K228,S228),ROUND(SUM(S228,K228)/SUM('Shareholding Pattern'!$L$57,'Shareholding Pattern'!$T$57)*100,2),\"\"),0)","v":0.01},null,"",null,"",0,{"$nulls":3},1]
[{"$nulls":4},215,"ANCHERY RAMANATHAN","CKCCC9999Z",2500,null,null,2500,{"$f":"+IFERROR(IF(COUNT(K229),ROUND(K229/'Shareholding Pattern'!$L$57*100,2),\"\"),0)","v":0.01},{"v":2500,"d":"2500.00"},null,{"v":2500,"d":"2500.00"},{"$f":"+IFERROR(IF(COUNT(O229),ROUND(O229/('Shareholding Pattern'!$P$58)*100,2),\"\"),0)","v":0.01},null,null,"",{"$f":"+IFERROR(IF(COUNT(K229,S229),ROUND(SUM(S229,K229)/SUM('Shareholding Pattern'!$L$57,'Shareholding Pattern'!$T$57)*100,2),\"\"),0)","v":0.01},null,"",null,"",0,{"$nulls":3},1]
[{"$nulls":4},216,"ANAND KUMAR CHATOPADHYAY","CLCCC9999Z",5000,null,null,5000,{"$f":"+IFERROR(IF(COUNT(K230),ROUND(K230/'Shareholding Pattern'!$L$57*100,2),\"\"),0)","v":0.02},{"v":5000,"d":"5000.00"},null,{"v":5000,"d":"5000.00"},{"$f":"+IFERROR(IF(COUNT(O230),ROUND(O230/('Shareholding Pattern'!$P$58)*100,2),\"\"),0)","v":0.02},null,null,"",{"$f":"+IFERROR(IF(COUNT(K230,S230),ROUND(SUM(S230,K230)/SUM('Shareholding Pattern'!$L$57,'Shareholding Pattern'!$T$57)*100,2),\"\"),0)","v":0.02},null,"",null,"",0,{"$nulls":3},1]
[{"$nulls":4},217,"MAHESH BHANDARI","CMCCC9999Z",2500,null,null,2500,{"$f":"+IFERROR(IF(COUNT(K231),ROUND(K231/'Shareholding Pattern'!$L$57*100,2),\"\"),0)","v":0.01},{"v":2500,"d":"2500.00"},null,{"v":2500,"d":"2500.00"},{"$f":"+IFERROR(IF(COUNT(O231),ROUND(O231/('Shareholding Pattern'!$P$58)*100,2),\"\"),0)","v":0.01},null,null,"",{"$f":"+IFERROR(IF(COUNT(K231,S231),ROUND(SUM(S231,K231)/SUM('Shareholding Pattern'!$L$57,'Shareholding Pattern'!$T$57)*100,2),\"\"),0)","v":0.01},null,"",null,"",0,{"$nulls":3},1]
[{"$nulls":4},218,"VINAYAK RACHANDDRA ADNA","CNCCC9999Z",2500,null,null,2500,{"$f":"+IFERROR(IF(COUNT(K232),ROUND(K232/'Shareholding Pattern'!$L$57*100,2),\"\"),0)","v":0.01},{"v":2500,"d":"2500.00"},null,{"v":2500,"d":"2500.00"},{"$f":"+IFERROR(IF(COUNT(O232),ROUND(O232/('Shareholding Pattern'!$P$58)*100,2),\"\"),0)","v":0.01},null,null,"",{"$f":"+IFERROR(IF(COUNT(K232,S232),ROUND(SUM(S232,K232)/SUM('Shareholding Pattern'!$L$57,'Shareholding Pattern'!$T$57)*100,2),\"\"),0)","v":0.01},null,"",null,"",0,{"$nulls":3},1]
[{"$nulls":4},219,"SUNIL  DAS GUPTA","COCCC9999Z",3000,null,null,3000,{"$f":"+IFERROR(IF(COUNT(K233),ROUND(K233/'Shareholding Pattern'!$L$57*100,2),\"\"),0)","v":0.01},{"v":3000,"d":"3000.00"},null,{"v":3000,"d":"3000.00"},{"$f":"+IFERROR(IF(COUNT(O233),ROUND(O233/('Shareholding Pattern'!$P$58)*100,2),\"\"),0)","v":0.01},null,null,"",{"$f":"+IFERROR(IF(COUNT(K233,S233),ROUND(SUM(S233,K233)/SUM('Shareholding Pattern'!$L$57,'Shareholding Pattern'!$T$57)*100,2),\"\"),0)","v":0.01},null,"",null,"",0,{"$nulls":3},1]
[{"$nulls":4},220,"SREEMANGALATHU NANU SURENDRAN","CPCCC9999Z",2500,null,null,2500,{"$f":"+IFERROR(IF(COUNT(K234),ROUND(K234/'Shareholding Pattern'!$L$57*100,2),\"\"),0)","v":0.01},{"v":2500,"d":"2500.00"},null,{"v":2500,"d":"2500.00"},{"$f":"+IFERROR(IF(COUNT(O234),ROUND(O234/('Shareholding Pattern'!$P$58)*100,2),\"\"),0)","v":0.01},null,null,"",{"$f":"+IFERROR(IF(COUNT(K234,S234),ROUND(SUM(S234,K234)/SUM('Shareholding Pattern'!$L$57,'Shareholding Pattern'!$T$57)*100,2),\"\"),0)","v":0.01},null,"",null,"",0,{"$nulls":3},1]
[{"$nulls":4},221,"KAKKARA BALACHANDRAN","CQCCC9999Z",2500,null,null,2500,{"$f":"+IFERROR(IF(COUNT(K235),ROUND(K235/'Shareholding Pattern'!$L$57*100,2),\"\"),0)","v":0.01},{"v":2500,"d":"2500.00"},null,{"v":2500,"d":"2500.00"},{"$f":"+IFERROR(IF(COUNT(O235),ROUND(O235/('Shareholding Pattern'!$P$58)*100,2),\"\"),0)","v":0.01},null,null,"",{"$f":"+IFERROR(IF(COUNT(K235,S235),ROUND(SUM(S235,K235)/SUM('Shareholding Pattern'!$L$57,'Shareholding Pattern'!$T$57)*100,2),\"\"),0)","v":0.01},null,"",null,"",0,{"$nulls":3},1]
[{"$nulls":4},222,"CHEMMANOOR ARAVINDAKSHAN NA","CRCCC9999Z",2500,null,null,2500,{"$f":"+IFERROR(IF(COUNT(K236),ROUND(K236/'Shareholding Pattern'!$L$57*100,2),\"\"),0)","v":0.01},{"v":2500,"d":"2500.00"},null,{"v":2500,"d":"2500.00"},{"$f":"+IFERROR(IF(COUNT(O236),ROUND(O236/('Shareholding Pattern'!$P$58)*100,2),\"\"),0)","v":0.01},null,null,"",{"$f":"+IFERROR(IF(COUNT(K236,S236),ROUND(SUM(S236,K236)/SUM('Shareholding Pattern'!$L$57,'Shareholding Pattern'!$T$57)*100,2),\"\"),0)","v":0.01},null,"",null,"",0,{"$nulls":3},1]
[{"$nulls":4},223,"DAYANAND S. KUNDER","CSCCC9999Z",2500,null,null,2500,{"$f":"+IFERROR(IF(COUNT(K237),ROUND(K237/'Shareholding Pattern'!$L$57*100,2),\"\"),0)","v":0.01},{"v":2500,"d":"2500.00"},null,{"v":2500,"d":"2500.00"},{"$f":"+IFERROR(IF(COUNT(O237),ROUND(O237/('Shareholding Pattern'!$P$58)*100,2),\"\"),0)","v":0.01},null,null,"",{"$f":"+IFERROR(IF(COUNT(K237,S237),ROUND(SUM(S237,K237)/SUM('Shareholding Pattern'!$L$57,'Shareholding Pattern'!$T$57)*100,2),\"\"),0)","v":0.01},null,"",null,"",0,{"$nulls":3},1]
[{"$nulls":4},224,"CHETHIKATTIL GANGHADHARAN","CTCCC9999Z",2500,null,null,2500,{"$f":"+IFERROR(IF(COUNT(K238),ROUND(K238/'Shareholding Pattern'!$L$57*100,2),\"\"),0)","v":0.01},{"v":2500,"d":"2500.00"},null,{"v":2500,"d":"2500.00"},{"$f":"+IFERROR(IF(COUNT(O238),ROUND(O238/('Shareholding Pattern'!$P$58)*100,2),\"\"),0)","v":0.01},null,null,"",{"$f":"+IFERROR(IF(COUNT(K238,S238),ROUND(SUM(S238,K238)/SUM('Shareholding Pattern'!$L$57,'Shareholding Pattern'!$T$57)*100,2),\"\"),0)","v":0.01},null,"",null,"",0,{"$nulls":3},1]
[{"$nulls":4},225,"RAJEEV SHANKAR NARAYAN","CUCCC9999Z",2500,null,null,2500,{"$f":"+IFERROR(IF(COUNT(K239),ROUND(K239/'Shareholding Pattern'!$L$57*100,2),\"\"),0)","v":0.01},{"v":2500,"d":"2500.00"},null,{"v":2500,"d":"2500.00"},{"$f":"+IFERROR(IF(COUNT(O239),ROUND(O239/('Shareholding Pattern'!$P$58)*100,2),\"\"),0)","v":0.01},null,null,"",{"$f":"+IFERROR(IF(COUNT(K239,S239),ROUND(SUM(S239,K239)/SUM('Shareholding Pattern'!$L$57,'Shareholding Pattern'!$T$57)*100,2),\"\"),0)","v":0.01},null,"",null,"",0,{"$nulls":3},1]
[{"$nulls":4},226,"G. PRASHANTH REDDY","CVCCC9999Z",75000,null,null,75000,{"$f":"+IFERROR(IF(COUNT(K240),ROUND(K240/'Shareholding Pattern'!$L$57*100,2),\"\"),0)","v":0.34},{"v":75000,"d":"75000.00"},null,{"v":75000,"d":"75000.00"},{"$f":"+IFERROR(IF(COUNT(O240),ROUND(O240/('Shareholding Pattern'!$P$58)*100,2),\"\"),0)","v":0.34},null,null,"",{"$f":"+IFERROR(IF(COUNT(K240,S240),ROUND(SUM(S240,K240)/SUM('Shareholding Pattern'!$L$57,'Shareholding Pattern'!$T$57)*100,2),\"\"),0)","v":0.34},null,"",null,"",0,{"$nulls":3},1]
[{"$nulls":4},227,"PROMODINI OJHA","CWCCC9999Z",200,null,null,200,{"$f":"+IFERROR(IF(COUNT(K241),ROUND(K241/'Shareholding Pattern'!$L$57*100,2),\"\"),0)","v":{"v":0,"d":"0.00"}},{"v":200,"d":"200.00"},null,{"v":200,"d":"200.00"},{"$f":"+IFERROR(IF(COUNT(O241),ROUND(O241/('Shareholding Pattern'!$P$58)*100,2),\"\"),0)","v":{"v":0,"d":"0.00"}},null,null,"",{"$f":"+IFERROR(IF(COUNT(K241,S241),ROUND(SUM(S241,K241)/SUM('Shareholding Pattern'!$L$57,'Shareholding Pattern'!$T$57)*100,2),\"\"),0)","v":{"v":0,"d":"0.00"}},null,"",null,"",0,{"$nulls":3},1]
[{"$nulls":4},228,"BAYANA SURYANARAYANA","CXCCC9999Z",600,null,null,600,{"$f":"+IFERROR(IF(COUNT(K242),ROUND(K242/'Shareholding Pattern'!$L$57*100,2),\"\"),0)","v":{"v":0,"d":"0.00"}},{"v":600,"d":"600.00"},null,{"v":600,"d":"600.00"},{"$f":"+IFERROR(IF(COUNT(O242),ROUND(O242/('Shareholding Pattern'!$P$58)*100,2),\"\"),0)","v":{"v":0,"d":"0.00"}},null,null,"",{"$f":"+IFERROR(IF(COUNT(K242,S242),ROUND(SUM(S242,K242)/SUM('Shareholding Pattern'!$L$57,'Shareholding Pattern'!$T$57)*100,2),\"\"),0)","v":{"v":0,"d":"0.00"}},null,"",null,"",0,{"$nulls":3},1]
[{"$nulls":4},229,"A.A.BALASUBRAMANYAM","CYCCC9999Z",100,null,null,100,{"$f":"+IFERROR(IF(COUNT(K243),ROUND(K243/'Shareholding Pattern'!$L$57*100,2),\"\"),0)","v":{"v":0,"d":"0.00"}},{"v":100,"d":"100.00"},null,{"v":100,"d":"100.00"},{"$f":"+IFERROR(IF(COUNT(O243),ROUND(O243/('Shareholding Pattern'!$P$58)*100,2),\"\"),0)","v":{"v":0,"d":"0.00"}},null,null,"",{"$f":"+IFERROR(IF(COUNT(K243,S243),ROUND(SUM(S243,K243)/SUM('Shareholding Pattern'!$L$57,'Shareholding Pattern'!$T$57)*100,2),\"\"),0)","v":{"v":0,"d":"0.00"}},null,"",null,"",0,{"$nulls":3},1]
[{"$nulls":4},230,"SEHRUBANU YUSUF PEDHIWALA","CZCCC9999Z",100,null,null,100,{"$f":"+IFERROR(IF(COUNT(K244),ROUND(K244/'Shareholding Pattern'!$L$57*100,2),\"\"),0)","v":{"v":0,"d":"0.00"}},{"v":100,"d":"100.00"},null,{"v":100,"d":"100.00"},{"$f":"+IFERROR(IF(COUNT(O244),ROUND(O244/('Shareholding Pattern'!$P$58)*100,2),\"\"),0)","v":{"v":0,"d":"0.00"}},null,null,"",{"$f":"+IFERROR(IF(COUNT(K244,S244),ROUND(SUM(S244,K244)/SUM('Shareholding Pattern'!$L$57,'Shareholding Pattern'!$T$57)*100,2),\"\"),0)","v":{"v":0,"d":"0.00"}},null,"",null,"",0,{"$nulls":3},1]
[{"$nulls":4},231,"SOHAN LAL SINGLA","CCACC9999Z",200,null,null,200,{"$f":"+IFERROR(IF(COUNT(K245),ROUND(K245/'Shareholding Pattern'!$L$57*100,2),\"\"),0)","v":{"v":0,"d":"0.00"}},{"v":200,"d":"200.00"},null,{"v":200,"d":"200.00"},{"$f":"+IFERROR(IF(COUNT(O245),ROUND(O245/('Shareholding Pattern'!$P$58)*100,2),\"\"),0)","v":{"v":0,"d":"0.00"}},null,null,"",{"$f":"+IFERROR(IF(COUNT(K245,S245),ROUND(SUM(S245,K245)/SUM('Shareholding Pattern'!$L$57,'Shareholding Pattern'!$T$57)*100,2),\"\"),0)","v":{"v":0,"d":"0.00"}},null,"",null,"",0,{"$nulls":3},1]
[{"$nulls":4},232,"ASHOK KUMAR KUSHWAHA","CCBCC9999Z",500,null,null,500,{"$f":"+IFERROR(IF(COUNT(K246),ROUND(K246/'Shareholding Pattern'!$L$57*100,2),\"\"),0)","v":{"v":0,"d":"0.00"}},{"v":500,"d":"500.00"},null,{"v":500,"d":"500.00"},{"$f":"+IFERROR(IF(COUNT(O246),ROUND(O246/('Shareholding Pattern'!$P$58)*100,2),\"\"),0)","v":{"v":0,"d":"0.00"}},null,null,"",{"$f":"+IFERROR(IF(COUNT(K246,S246),ROUND(SUM(S246,K246)/SUM('Shareholding Pattern'!$L$57,'Shareholding Pattern'!$T$57)*100,2),\"\"),0)","v":{"v":0,"d":"0.00"}},null,"",null,"",0,{"$nulls":3},1]
[{"$nulls":4},233,"MANORANJAN R SHROFF(J/H) HANSA MS","CCDCC9999Z",400,null,null,400,{"$f":"+IFERROR(IF(COUNT(K247),ROUND(K247/'Shareholding Pattern'!$L$57*100,2),\"\"),0)","v":{"v":0,"d":"0.00"}},{"v":400,"d":"400.00"},null,{"v":400,"d":"400.00"},{"$f":"+IFERROR(IF(COUNT(O247),ROUND(O247/('Shareholding Pattern'!$P$58)*100,2),\"\"),0)","v":{"v":0,"d":"0.00"}},null,null,"",{"$f":"+IFERROR(IF(COUNT(K247,S247),ROUND(SUM(S247,K247)/SUM('Shareholding Pattern'!$L$57,'Shareholding Pattern'!$T$57)*100,2),\"\"),0)","v":{"v":0,"d":"0.00"}},null,"",null,"",0,{"$nulls":3},1]
[{"$nulls":4},234,"LAVU SURESH BABU","CCECC9999Z",100,null,null,100,{"$f":"+IFERROR(IF(COUNT(K248),ROUND(K248/'Shareholding Pattern'!$L$57*100,2),\"\"),0)","v":{"v":0,"d":"0.00"}},{"v":100,"d":"100.00"},null,{"v":100,"d":"100.00"},{"$f":"+IFERROR(IF(COUNT(O248),ROUND(O248/('Shareholding Pattern'!$P$58)*100,2),\"\"),0)","v":{"v":0,"d":"0.00"}},null,null,"",{"$f":"+IFERROR(IF(COUNT(K248,S248),ROUND(SUM(S248,K248)/SUM('Shareholding Pattern'!$L$57,'Shareholding Pattern'!$T$57)*100,2),\"\"),0)","v":{"v":0,"d":"0.00"}},null,"",null,"",0,{"$nulls":3},1]
[{"$nulls":4},235,"P.M. RAO ","CCFCC9999Z",500,null,null,500,{"$f":"+IFERROR(IF(COUNT(K249),ROUND(K249/'Shareholding Pattern'!$L$57*100,2),\"\"),0)","v":{"v":0,"d":"0.00"}},{"v":500,"d":"500.00"},null,{"v":500,"d":"500.00"},{"$f":"+IFERROR(IF(COUNT(O249),ROUND(O249/('Shareholding Pattern'!$P$58)*100,2),\"\"),0)","v":{"v":0,"d":"0.00"}},null,null,"",{"$f":"+IFERROR(IF(COUNT(K249,S249),ROUND(SUM(S249,K249)/SUM('Shareholding Pattern'!$L$57,'Shareholding Pattern'!$T$57)*100,2),\"\"),0)","v":{"v":0,"d":"0.00"}},null,"",null,"",0,{"$nulls":3},1]
[{"$nulls":4},236,"N. RAMABRAMHA SASTRY","CCGCC9999Z",200,null,null,200,{"$f":"+IFERROR(IF(COUNT(K250),ROUND(K250/'Shareholding Pattern'!$L$57*100,2),\"\"),0)","v":{"v":0,"d":"0.00"}},{"v":200,"d":"200.00"},null,{"v":200,"d":"200.00"},{"$f":"+IFERROR(IF(COUNT(O250),ROUND(O250/('Shareholding Pattern'!$P$58)*100,2),\"\"),0)","v":{"v":0,"d":"0.00"}},null,null,"",{"$f":"+IFERROR(IF(COUNT(K250,S250),ROUND(SUM(S250,K250)/SUM('Shareholding Pattern'!$L$57,'Shareholding Pattern'!$T$57)*100,2),\"\"),0)","v":{"v":0,"d":"0.00"}},null,"",null,"",0,{"$nulls":3},1]
[{"$nulls":4},237,"R. VANISRI","CCHCC9999Z",100,null,null,100,{"$f":"+IFERROR(IF(COUNT(K251),ROUND(K251/'Shareholding Pattern'!$L$57*100,2),\"\"),0)","v":{"v":0,"d":"0.00"}},{"v":100,"d":"100.00"},null,{"v":100,"d":"100.00"},{"$f":"+IFERROR(IF(COUNT(O251),ROUND(O251/('Shareholding Pattern'!$P$58)*100,2),\"\"),0)","v":{"v":0,"d":"0.00"}},null,null,"",{"$f":"+IFERROR(IF(COUNT(K251,S251),ROUND(SUM(S251,K251)/SUM('Shareholding Pattern'!$L$57,'Shareholding Pattern'!$T$57)*100,2),\"\"),0)","v":{"v":0,"d":"0.00"}},null,"",null,"",0,{"$nulls":3},1]
[{"$nulls":4},238,"P. RAMESH","CCICC9999Z",100,null,null,100,{"$f":"+IFERROR(IF(COUNT(K252),ROUND(K252/'Shareholding Pattern'!$L$57*100,2),\"\"),0)","v":{"v":0,"d":"0.00"}},{"v":100,"d":"100.00"},null,{"v":100,"d":"100.00"},{"$f":"+IFERROR(IF(COUNT(O252),ROUND(O252/('Shareholding Pattern'!$P$58)*100,2),\"\"),0)","v":{"v":0,"d":"0.00"}},null,null,"",{"$f":"+IFERROR(IF(COUNT(K252,S252),ROUND(SUM(S252,K252)/SUM('Shareholding Pattern'!$L$57,'Shareholding Pattern'!$T$57)*100,2),\"\"),0)","v":{"v":0,"d":"0.00"}},null,"",null,"",0,{"$nulls":3},1]
[{"$nulls":4},239,"D. PRAKASH","CCJCC9999Z",300,null,null,300,{"$f":"+IFERROR(IF(COUNT(K253),ROUND(K253/'Shareholding Pattern'!$L$57*100,2),\"\"),0)","v":{"v":0,"d":"0.00"}},{"v":300,"d":"300.00"},null,{"v":300,"d":"300.00"},{"$f":"+IFERROR(IF(COUNT(O253),ROUND(O253/('Shareholding Pattern'!$P$58)*100,2),\"\"),0)","v":{"v":0,"d":"0.00"}},null,null,"",{"$f":"+IFERROR(IF(COUNT(K253,S253),ROUND(SUM(S253,K253)/SUM('Shareholding Pattern'!$L$57,'Shareholding Pattern'!$T$57)*100,2),\"\"),0)","v":{"v":0,"d":"0.00"}},null,"",null,"",0,{"$nulls":3},1]
[{"$nulls":4},240,"KALYAN KUMAR RAKSHIT","CCKCC9999Z",100,null,null,100,{"$f":"+IFERROR(IF(COUNT(K254),ROUND(K254/'Shareholding Pattern'!$L$57*100,2),\"\"),0)","v":{"v":0,"d":"0.00"}},{"v":100,"d":"100.00"},null,{"v":100,"d":"100.00"},{"$f":"+IFERROR(IF(COUNT(O254),ROUND(O254/('Shareholding Pattern'!$P$58)*100,2),\"\"),0)","v":{"v":0,"d":"0.00"}},null,null,"",{"$f":"+IFERROR(IF(COUNT(K254,S254),ROUND(SUM(S254,K254)/SUM('Shareholding Pattern'!$L$57,'Shareholding Pattern'!$T$57)*100,2),\"\"),0)","v":{"v":0,"d":"0.00"}},null,"",null,"",0,{"$nulls":3},1]
[{"$nulls":4},241,"SAYA KURIEN","CCLCC9999Z",100,null,null,100,{"$f":"+IFERROR(IF(COUNT(K255),ROUND(K255/'Shareholding Pattern'!$L$57*100,2),\"\"),0)","v":{"v":0,"d":"0.00"}},{"v":100,"d":"100.00"},null,{"v":100,"d":"100.00"},{"$f":"+IFERROR(IF(COUNT(O255),ROUND(O255/('Shareholding Pattern'!$P$58)*100,2),\"\"),0)","v":{"v":0,"d":"0.00"}},null,null,"",{"$f":"+IFERROR(IF(COUNT(K255,S255),ROUND(SUM(S255,K255)/SUM('Shareholding Pattern'!$L$57,'Shareholding Pattern'!$T$57)*100,2),\"\"),0)","v":{"v":0,"d":"0.00"}},null,"",null,"",0,{"$nulls":3},1]
[{"$nulls":4},242,"MAHENDER PUNJABI &  SURENDRA PUNJABI","CCMCC9999Z",100,null,null,100,{"$f":"+IFERROR(IF(COUNT(K256),ROUND(K256/'Shareholding Pattern'!$L$57*100,2),\"\"),0)","v":{"v":0,"d":"0.00"}},{"v":100,"d":"100.00"},null,{"v":100,"d":"100.00"},{"$f":"+IFERROR(IF(COUNT(O256),ROUND(O256/('Shareholding Pattern'!$P$58)*100,2),\"\"),0)","v":{"v":0,"d":"0.00"}},null,null,"",{"$f":"+IFERROR(IF(COUNT(K256,S256),ROUND(SUM(S256,K256)/SUM('Shareholding Pattern'!$L$57,'Shareholding Pattern'!$T$57)*100,2),\"\"),0)","v":{"v":0,"d":"0.00"}},null,"",null,"",0,{"$nulls":3},1]
[{"$nulls":4},243,"PREMCHAND PANJABI & VEERANDRA PUNJABI","CCNCC9999Z",100,null,null,100,{"$f":"+IFERROR(IF(COUNT(K257),ROUND(K257/'Shareholding Pattern'!$L$57*100,2),\"\"),0)","v":{"v":0,"d":"0.00"}},{"v":100,"d":"100.00"},null,{"v":100,"d":"100.00"},{"$f":"+IFERROR(IF(COUNT(O257),ROUND(O257/('Shareholding Pattern'!$P$58)*100,2),\"\"),0)","v":{"v":0,"d":"0.00"}},null,null,"",{"$f":"+IFERROR(IF(COUNT(K257,S257),ROUND(SUM(S257,K257)/SUM('Shareholding Pattern'!$L$57,'Shareholding Pattern'!$T$57)*100,2),\"\"),0)","v":{"v":0,"d":"0.00"}},null,"",null,"",0,{"$nulls":3},1]
[{"$nulls":4},244,"ASHA SAMAL & RANUJA SAMAL","CCOCC9999Z",400,null,null,400,{"$f":"+IFERROR(IF(COUNT(K258),ROUND(K258/'Shareholding Pattern'!$L$57*100,2),\"\"),0)","v":{"v":0,"d":"0.00"}},{"v":400,"d":"400.00"},null,{"v":400,"d":"400.00"},{"$f":"+IFERROR(IF(COUNT(O258),ROUND(O258/('Shareholding Pattern'!$P$58)*100,2),\"\"),0)","v":{"v":0,"d":"0.00"}},null,null,"",{"$f":"+IFERROR(IF(COUNT(K258,S258),ROUND(SUM(S258,K258)/SUM('Shareholding Pattern'!$L$57,'Shareholding Pattern'!$T$57)*100,2),\"\"),0)","v":{"v":0,"d":"0.00"}},null,"",null,"",0,{"$nulls":3},1]
[{"$nulls":4},245,"U VINOD KUMAR JAIN","CCPCC9999Z",100,null,null,100,{"$f":"+IFERROR(IF(COUNT(K259),ROUND(K259/'Shareholding Pattern'!$L$57*100,2),\"\"),0)","v":{"v":0,"d":"0.00"}},{"v":100,"d":"100.00"},null,{"v":100,"d":"100.00"},{"$f":"+IFERROR(IF(COUNT(O259),ROUND(O259/('Shareholding Pattern'!$P$58)*100,2),\"\"),0)","v":{"v":0,"d":"0.00"}},null,null,"",{"$f":"+IFERROR(IF(COUNT(K259,S259),ROUND(SUM(S259,K259)/SUM('Shareholding Pattern'!$L$57,'Shareholding Pattern'!$T$57)*100,2),\"\"),0)","v":{"v":0,"d":"0.00"}},null,"",null,"",0,{"$nulls":3},1]
[{"$nulls":4},246,"MONIKA JAIN","CCQCC9999Z",600,null,null,600,{"$f":"+IFERROR(IF(COUNT(K260),ROUND(K260/'Shareholding Pattern'!$L$57*100,2),\"\"),0)","v":{"v":0,"d":"0.00"}},{"v":600,"d":"600.00"},null,{"v":600,"d":"600.00"},{"$f":"+IFERROR(IF(COUNT(O260),ROUND(O260/('Shareholding Pattern'!$P$58)*100,2),\"\"),0)","v":{"v":0,"d":"0.00"}},null,null,"",{"$f":"+IFERROR(IF(COUNT(K260,S260),ROUND(SUM(S260,K260)/SUM('Shareholding Pattern'!$L$57,'Shareholding Pattern'!$T$57)*100,2),\"\"),0)","v":{"v":0,"d":"0.00"}},null,"",null,"",0,{"$nulls":3},1]
[{"$nulls":4},247,"UMABEN PATEL & PRANJIVN PATEL","CCRCC9999Z",100,null,null,100,{"$f":"+IFERROR(IF(COUNT(K261),ROUND(K261/'Shareholding Pattern'!$L$57*100,2),\"\"),0)","v":{"v":0,"d":"0.00"}},{"v":100,"d":"100.00"},null,{"v":100,"d":"100.00"},{"$f":"+IFERROR(IF(COUNT(O261),ROUND(O261/('Shareholding Pattern'!$P$58)*100,2),\"\"),0)","v":{"v":0,"d":"0.00"}},null,null,"",{"$f":"+IFERROR(IF(COUNT(K261,S261),ROUND(SUM(S261,K261)/SUM('Shareholding Pattern'!$L$57,'Shareholding Pattern'!$T$57)*100,2),\"\"),0)","v":{"v":0,"d":"0.00"}},null,"",null,"",0,{"$nulls":3},1]
[{"$nulls":4},248,"KRISHNA KUMAR AGARWAL","CCSCC9999Z",400,null,null,400,{"$f":"+IFERROR(IF(COUNT(K262),ROUND(K262/'Shareholding Pattern'!$L$57*100,2),\"\"),0)","v":{"v":0,"d":"0.00"}},{"v":400,"d":"400.00"},null,{"v":400,"d":"400.00"},{"$f":"+IFERROR(IF(COUNT(O262),ROUND(O262/('Shareholding Pattern'!$P$58)*100,2),\"\"),0)","v":{"v":0,"d":"0.00"}},null,null,"",{"$f":"+IFERROR(IF(COUNT(K262,S262),ROUND(SUM(S262,K262)/SUM('Shareholding Pattern'!$L$57,'Shareholding Pattern'!$T$57)*100,2),\"\"),0)","v":{"v":0,"d":"0.00"}},null,"",null,"",0,{"$nulls":3},1]
[{"$nulls":4},249,"M. BHARADWAJA RAO","CCTCC9999Z",200,null,null,200,{"$f":"+IFERROR(IF(COUNT(K263),ROUND(K263/'Shareholding Pattern'!$L$57*100,2),\"\"),0)","v":{"v":0,"d":"0.00"}},{"v":200,"d":"200.00"},null,{"v":200,"d":"200.00"},{"$f":"+IFERROR(IF(COUNT(O263),ROUND(O263/('Shareholding Pattern'!$P$58)*100,2),\"\"),0)","v":{"v":0,"d":"0.00"}},null,null,"",{"$f":"+IFERROR(IF(COUNT(K263,S263),ROUND(SUM(S263,K263)/SUM('Shareholding Pattern'!$L$57,'Shareholding Pattern'!$T$57)*100,2),\"\"),0)","v":{"v":0,"d":"0.00"}},null,"",null,"",0,{"$nulls":3},1]
[{"$nulls":4},250,"SUDHA YADAV","CCUCC9999Z",100,null,null,100,{"$f":"+IFERROR(IF(COUNT(K264),ROUND(K264/'Shareholding Pattern'!$L$57*100,2),\"\"),0)","v":{"v":0,"d":"0.00"}},{"v":100,"d":"100.00"},null,{"v":100,"d":"100.00"},{"$f":"+IFERROR(IF(COUNT(O264),ROUND(O264/('Shareholding Pattern'!$P$58)*100,2),\"\"),0)","v":{"v":0,"d":"0.00"}},null,null,"",{"$f":"+IFERROR(IF(COUNT(K264,S264),ROUND(SUM(S264,K264)/SUM('Shareholding Pattern'!$L$57,'Shareholding Pattern'!$T$57)*100,2),\"\"),0)","v":{"v":0,"d":"0.00"}},null,"",null,"",0,{"$nulls":3},1]
[{"$nulls":4},251,"N. SANTHI","CCVCC9999Z",100,null,null,100,{"$f":"+IFERROR(IF(COUNT(K265),ROUND(K265/'Shareholding Pattern'!$L$57*100,2),\"\"),0)","v":{"v":0,"d":"0.00"}},{"v":100,"d":"100.00"},null,{"v":100,"d":"100.00"},{"$f":"+IFERROR(IF(COUNT(O265),ROUND(O265/('Shareholding Pattern'!$P$58)*100,2),\"\"),0)","v":{"v":0,"d":"0.00"}},null,null,"",{"$f":"+IFERROR(IF(COUNT(K265,S265),ROUND(SUM(S265,K265)/SUM('Shareholding Pattern'!$L$57,'Shareholding Pattern'!$T$57)*100,2),\"\"),0)","v":{"v":0,"d":"0.00"}},null,"",null,"",0,{"$nulls":3},1]
[{"$nulls":4},252,"K. MAHENDHAR REDDY","CCWCC9999Z",200,null,null,200,{"$f":"+IFERROR(IF(COUNT(K266),ROUND(K266/'Shareholding Pattern'!$L$57*100,2),\"\"),0)","v":{"v":0,"d":"0.00"}},{"v":200,"d":"200.00"},null,{"v":200,"d":"200.00"},{"$f":"+IFERROR(IF(COUNT(O266),ROUND(O266/('Shareholding Pattern'!$P$58)*100,2),\"\"),0)","v":{"v":0,"d":"0.00"}},null,null,"",{"$f":"+IFERROR(IF(COUNT(K266,S266),ROUND(SUM(S266,K266)/SUM('Shareholding Pattern'!$L$57,'Shareholding Pattern'!$T$57)*100,2),\"\"),0)","v":{"v":0,"d":"0.00"}},null,"",null,"",0,{"$nulls":3},1]
[{"$nulls":4},253,"REKHABEN M BHATT &  HEMANTH K M BHATT","CCXCC9999Z",400,null,null,400,{"$f":"+IFERROR(IF(COUNT(K267),ROUND(K267/'Shareholding Pattern'!$L$57*100,2),\"\"),0)","v":{"v":0,"d":"0.00"}},{"v":400,"d":"400.00"},null,{"v":400,"d":"400.00"},{"$f":"+IFERROR(IF(COUNT(O267),ROUND(O267/('Shareholding Pattern'!$P$58)*100,2),\"\"),0)","v":{"v":0,"d":"0.00"}},null,null,"",{"$f":"+IFERROR(IF(COUNT(K267,S267),ROUND(SUM(S267,K267)/SUM('Shareholding Pattern'!$L$57,'Shareholding Pattern'!$T$57)*100,2),\"\"),0)","v":{"v":0,"d":"0.00"}},null,"",null,"",0,{"$nulls":3},1]
[{"$nulls":4},254,"RANJEEV HN","CCYCC9999Z",200,null,null,200,{"$f":"+IFERROR(IF(COUNT(K268),ROUND(K268/'Shareholding Pattern'!$L$57*100,2),\"\"),0)","v":{"v":0,"d":"0.00"}},{"v":200,"d":"200.00"},null,{"v":200,"d":"200.00"},{"$f":"+IFERROR(IF(COUNT(O268),ROUND(O268/('Shareholding Pattern'!$P$58)*100,2),\"\"),0)","v":{"v":0,"d":"0.00"}},null,null,"",{"$f":"+IFERROR(IF(COUNT(K268,S268),ROUND(SUM(S268,K268)/SUM('Shareholding Pattern'!$L$57,'Shareholding Pattern'!$T$57)*100,2),\"\"),0)","v":{"v":0,"d":"0.00"}},null,"",null,"",0,{"$nulls":3},1]
[{"$nulls":4},255,"KAVITA SUNIL OSWAL","CCZCC9999Z",300,null,null,300,{"$f":"+IFERROR(IF(COUNT(K269),ROUND(K269/'Shareholding Pattern'!$L$57*100,2),\"\"),0)","v":{"v":0,"d":"0.00"}},{"v":300,"d":"300.00"},null,{"v":300,"d":"300.00"},{"$f":"+IFERROR(IF(COUNT(O269),ROUND(O269/('Shareholding Pattern'!$P$58)*100,2),\"\"),0)","v":{"v":0,"d":"0.00"}},null,null,"",{"$f":"+IFERROR(IF(COUNT(K269,S269),ROUND(SUM(S269,K269)/SUM('Shareholding Pattern'!$L$57,'Shareholding Pattern'!$T$57)*100,2),\"\"),0)","v":{"v":0,"d":"0.00"}},null,"",null,"",0,{"$nulls":3},1]
[{"$nulls":4},256,"AVNISH SOMANI","CCCAC9999Z",600,null,null,600,{"$f":"+IFERROR(IF(COUNT(K270),ROUND(K270/'Shareholding Pattern'!$L$57*100,2),\"\"),0)","v":{"v":0,"d":"0.00"}},{"v":600,"d":"600.00"},null,{"v":600,"d":"600.00"},{"$f":"+IFERROR(IF(COUNT(O270),ROUND(O270/('Shareholding Pattern'!$P$58)*100,2),\"\"),0)","v":{"v":0,"d":"0.00"}},null,null,"",{"$f":"+IFERROR(IF(COUNT(K270,S270),ROUND(SUM(S270,K270)/SUM('Shareholding Pattern'!$L$57,'Shareholding Pattern'!$T$57)*100,2),\"\"),0)","v":{"v":0,"d":"0.00"}},null,"",null,"",0,{"$nulls":3},1]
[{"$nulls":4},257,"REKHA SUREKA","CCCBC9999Z",500,null,null,{"$f":"+IFERROR(IF(COUNT(H271:J271),ROUND(SUM(H271:J271),0),\"\"),\"\")","v":500},{"$f":"+IFERROR(IF(COUNT(K271),ROUND(K271/'Shareholding Pattern'!$L$57*100,2),\"\"),0)","v":{"v":0,"d":"0.00"}},{"$f":"IF(H271=\"\",\"\",H271)","v":{"v":500,"d":"500.00"}},null,{"$f":"+IFERROR(IF(COUNT(M271:N271),ROUND(SUM(M271,N271),2),\"\"),\"\")","v":{"v":500,"d":"500.00"}},{"$f":"+IFERROR(IF(COUNT(O271),ROUND(O271/('Shareholding Pattern'!$P$58)*100,2),\"\"),0)","v":{"v":0,"d":"0.00"}},null,null,{"$f":"+IFERROR(IF(COUNT(Q271:R271),ROUND(SUM(Q271:R271),0),\"\"),\"\")","v":""},{"$f":"+IFERROR(IF(COUNT(K271,S271),ROUND(SUM(S271,K271)/SUM('Shareholding Pattern'!$L$57,'Shareholding Pattern'!$T$57)*100,2),\"\"),0)","v":{"v":0,"d":"0.00"}},null,{"$f":"+IFERROR(IF(COUNT(U271),ROUND(SUM(U271)/SUM(K271)*100,2),\"\"),0)","v":""},null,{"$f":"+IFERROR(IF(COUNT(W271),ROUND(SUM(W271)/SUM(K271)*100,2),\"\"),0)","v":""},0,{"$nulls":3},{"$f":"IF(SUM(H271:Y271)>0,1,0)","v":1}]
[{"$nulls":4},258,"DEVENDRA CHANDRA MODI","CCCDC9999Z",500,null,null,500,{"$f":"+IFERROR(IF(COUNT(K272),ROUND(K272/'Shareholding Pattern'!$L$57*100,2),\"\"),0)","v":{"v":0,"d":"0.00"}},{"v":500,"d":"500.00"},null,{"v":500,"d":"500.00"},{"$f":"+IFERROR(IF(COUNT(O272),ROUND(O272/('Shareholding Pattern'!$P$58)*100,2),\"\"),0)","v":{"v":0,"d":"0.00"}},null,null,"",{"$f":"+IFERROR(IF(COUNT(K272,S272),ROUND(SUM(S272,K272)/SUM('Shareholding Pattern'!$L$57,'Shareholding Pattern'!$T$57)*100,2),\"\"),0)","v":{"v":0,"d":"0.00"}},null,"",null,"",0,{"$nulls":3},1]
[{"$nulls":4},259,"KANAGOLA  ANURADHA","CCCEC9999Z",200,null,null,200,{"$f":"+IFERROR(IF(COUNT(K273),ROUND(K273/'Shareholding Pattern'!$L$57*100,2),\"\"),0)","v":{"v":0,"d":"0.00"}},{"v":200,"d":"200.00"},null,{"v":200,"d":"200.00"},{"$f":"+IFERROR(IF(COUNT(O273),ROUND(O273/('Shareholding Pattern'!$P$58)*100,2),\"\"),0)","v":{"v":0,"d":"0.00"}},null,null,"",{"$f":"+IFERROR(IF(COUNT(K273,S273),ROUND(SUM(S273,K273)/SUM('Shareholding Pattern'!$L$57,'Shareholding Pattern'!$T$57)*100,2),\"\"),0)","v":{"v":0,"d":"0.00"}},null,"",null,"",0,{"$nulls":3},1]
[{"$nulls":4},260,"B. SARAVAN KUMAR","CCCFC9999Z",200,null,null,200,{"$f":"+IFERROR(IF(COUNT(K274),ROUND(K274/'Shareholding Pattern'!$L$57*100,2),\"\"),0)","v":{"v":0,"d":"0.00"}},{"v":200,"d":"200.00"},null,{"v":200,"d":"200.00"},{"$f":"+IFERROR(IF(COUNT(O274),ROUND(O274/('Shareholding Pattern'!$P$58)*100,2),\"\"),0)","v":{"v":0,"d":"0.00"}},null,null,"",{"$f":"+IFERROR(IF(COUNT(K274,S274),ROUND(SUM(S274,K274)/SUM('Shareholding Pattern'!$L$57,'Shareholding Pattern'!$T$57)*100,2),\"\"),0)","v":{"v":0,"d":"0.00"}},null,"",null,"",0,{"$nulls":3},1]
[{"$nulls":4},261,"DAVESH KUMAR JAIN","CCCGC9999Z",100,null,null,100,{"$f":"+IFERROR(IF(COUNT(K275),ROUND(K275/'Shareholding Pattern'!$L$57*100,2),\"\"),0)","v":{"v":0,"d":"0.00"}},{"v":100,"d":"100.00"},null,{"v":100,"d":"100.00"},{"$f":"+IFERROR(IF(COUNT(O275),ROUND(O275/('Shareholding Pattern'!$P$58)*100,2),\"\"),0)","v":{"v":0,"d":"0.00"}},null,null,"",{"$f":"+IFERROR(IF(COUNT(K275,S275),ROUND(SUM(S275,K275)/SUM('Shareholding Pattern'!$L$57,'Shareholding Pattern'!$T$57)*100,2),\"\"),0)","v":{"v":0,"d":"0.00"}},null,"",null,"",0,{"$nulls":3},1]
[{"$nulls":4},262,"PREMGEETHA KOTHARI","CCCHC9999Z",300,null,null,300,{"$f":"+IFERROR(IF(COUNT(K276),ROUND(K276/'Shareholding Pattern'!$L$57*100,2),\"\"),0)","v":{"v":0,"d":"0.00"}},{"v":300,"d":"300.00"},null,{"v":300,"d":"300.00"},{"$f":"+IFERROR(IF(COUNT(O276),ROUND(O276/('Shareholding Pattern'!$P$58)*100,2),\"\"),0)","v":{"v":0,"d":"0.00"}},null,null,"",{"$f":"+IFERROR(IF(COUNT(K276,S276),ROUND(SUM(S276,K276)/SUM('Shareholding Pattern'!$L$57,'Shareholding Pattern'!$T$57)*100,2),\"\"),0)","v":{"v":0,"d":"0.00"}},null,"",null,"",0,{"$nulls":3},1]
[{"$nulls":4},263,"SATYA BISWAS","CCCIC9999Z",500,null,null,500,{"$f":"+IFERROR(IF(COUNT(K277),ROUND(K277/'Shareholding Pattern'!$L$57*100,2),\"\"),0)","v":{"v":0,"d":"0.00"}},{"v":500,"d":"500.00"},null,{"v":500,"d":"500.00"},{"$f":"+IFERROR(IF(COUNT(O277),ROUND(O277/('Shareholding Pattern'!$P$58)*100,2),\"\"),0)","v":{"v":0,"d":"0.00"}},null,null,"",{"$f":"+IFERROR(IF(COUNT(K277,S277),ROUND(SUM(S277,K277)/SUM('Shareholding Pattern'!$L$57,'Shareholding Pattern'!$T$57)*100,2),\"\"),0)","v":{"v":0,"d":"0.00"}},null,"",null,"",0,{"$nulls":3},1]
[{"$nulls":4},264,"NALLURU VENKATARAMANA BABU","CCCJC9999Z",500,null,null,500,{"$f":"+IFERROR(IF(COUNT(K278),ROUND(K278/'Shareholding Pattern'!$L$57*100,2),\"\"),0)","v":{"v":0,"d":"0.00"}},{"v":500,"d":"500.00"},null,{"v":500,"d":"500.00"},{"$f":"+IFERROR(IF(COUNT(O278),ROUND(O278/('Shareholding Pattern'!$P$58)*100,2),\"\"),0)","v":{"v":0,"d":"0.00"}},null,null,"",{"$f":"+IFERROR(IF(COUNT(K278,S278),ROUND(SUM(S278,K278)/SUM('Shareholding Pattern'!$L$57,'Shareholding Pattern'!$T$57)*100,2),\"\"),0)","v":{"v":0,"d":"0.00"}},null,"",null,"",0,{"$nulls":3},1]
[{"$nulls":4},265,"SR PALANISAMY & LAKSHMI PALANISAMY","CCCKC9999Z",300,null,null,300,{"$f":"+IFERROR(IF(COUNT(K279),ROUND(K279/'Shareholding Pattern'!$L$57*100,2),\"\"),0)","v":{"v":0,"d":"0.00"}},{"v":300,"d":"300.00"},null,{"v":300,"d":"300.00"},{"$f":"+IFERROR(IF(COUNT(O279),ROUND(O279/('Shareholding Pattern'!$P$58)*100,2),\"\"),0)","v":{"v":0,"d":"0.00"}},null,null,"",{"$f":"+IFERROR(IF(COUNT(K279,S279),ROUND(SUM(S279,K279)/SUM('Shareholding Pattern'!$L$57,'Shareholding Pattern'!$T$57)*100,2),\"\"),0)","v":{"v":0,"d":"0.00"}},null,"",null,"",0,{"$nulls":3},1]
[]
[{"$nulls":5},"Click here to go back","Total",{"$f":"+IFERROR(IF(COUNT(H14:H280),ROUND(SUM(H14:H280),0),\"\"),\"\")","v":11549400},{"$f":"+IFERROR(IF(COUNT(I14:I280),ROUND(SUM(I14:I280),0),\"\"),\"\")","v":""},{"$f":"+IFERROR(IF(COUNT(J14:J280),ROUND(SUM(J14:J280),0),\"\"),\"\")","v":""},{"$f":"+IFERROR(IF(COUNT(K14:K280),ROUND(SUM(K14:K280),0),\"\"),\"\")","v":11549400},{"$f":"+IFERROR(IF(COUNT(K281),ROUND(K281/'Shareholding Pattern'!$L$57*100,2),\"\"),0)","v":52.47},{"$f":"+IFERROR(IF(COUNT(M14:M280),ROUND(SUM(M14:M280),0),\"\"),\"\")","v":{"v":11549400,"d":"11549400.00"}},{"$f":"+IFERROR(IF(COUNT(N14:N280),ROUND(SUM(N14:N280),0),\"\"),\"\")","v":""},{"$f":"+IFERROR(IF(COUNT(O14:O280),ROUND(SUM(O14:O280),0),\"\"),\"\")","v":{"v":11549400,"d":"11549400.00"}},{"$f":"+IFERROR(IF(COUNT(O281),ROUND(O281/('Shareholding Pattern'!$P$58)*100,2),\"\"),0)","v":52.47},{"$f":"+IFERROR(IF(COUNT(Q14:Q280),ROUND(SUM(Q14:Q280),0),\"\"),\"\")","v":""},{"$f":"+IFERROR(IF(COUNT(R14:R280),ROUND(SUM(R14:R280),0),\"\"),\"\")","v":""},{"$f":"+IFERROR(IF(COUNT(S14:S280),ROUND(SUM(S14:S280),0),\"\"),\"\")","v":""},{"$f":"+IFERROR(IF(COUNT(K281,S281),ROUND(SUM(S281,K281)/SUM('Shareholding Pattern'!$L$57,'Shareholding Pattern'!$T$57)*100,2),\"\"),0)","v":52.47},{"$f":"+IFERROR(IF(COUNT(U14:U280),ROUND(SUM(U14:U280),0),\"\"),\"\")","v":""},{"$f":"+IFERROR(IF(COUNT(U281),ROUND(SUM(U281)/SUM(K281)*100,2),\"\"),0)","v":""},{"$f":"+IFERROR(IF(COUNT(W14:W280),ROUND(SUM(W14:W280),0),\"\"),\"\")","v":""},{"$f":"+IFERROR(IF(COUNT(W281),ROUND(SUM(W281)/SUM(K281)*100,2),\"\"),0)","v":""},{"$f":"+IFERROR(IF(COUNT(Y14:Y280),ROUND(SUM(Y14:Y280),0),\"\"),\"\")","v":0}]

{"sheet":"CGAndSG","index":7,"n_rows":16,"n_cols":30,"rows_kept":16,"hidden":true,"merged":[[8,4,10,4],[8,5,10,5],[8,6,10,6],[8,7,10,7],[8,8,10,8],[8,9,10,9],[8,10,10,10],[8,11,10,11],[8,12,8,15],[8,16,10,16],[8,17,10,17],[8,18,10,18],[8,19,10,19],[8,20,9,21],[8,22,9,23],[8,24,10,24],[8,25,10,25],[9,12,9,14],[9,15,10,15],[11,5,11,6]]}
[{"$nulls":8},0,{"$nulls":20},{"$f":"SUM(AC1:AC65531)","v":0}]
[{"$nulls":5},"Name of shareholder","Permanent account number of shareholder","Number of fully paid up equity shares","Number of partly paid-up equity shares","Number of shares underlying outstanding depository receipts","Total number of shares","Shareholding as a percentage of total number of shares held by promoters and public shareholders and custodians or DR holders","Number of voting rights held by same class of securities","Number of voting rights held by differential voting rights","Total Number of voting rights","Percentage of total number of voting rights","Number of shares underlying outstanding convertible securities","Number of warrant","Number of warrant and convertible securities","Total shareholding as a percentage assuming full conversion of convertible securities","Number of the locked-in-shares ","Locked-in-shares as a percentage of total number of shares","Pledged or encumbered - number of shares","Pledged or encumbered shares held as percentage of total number of shares","Number of equity shares held in dematerialized form","Reason for not providing PAN"]
[]
[]
[]
[]
[]
[]
[{"$nulls":4},"Searial No.","Name\nof the \nShareholders\n     (I)","PAN \n(II)","No. of fully paid up equity shares held\n(IV)","No. Of Partly paid-up equity shares held\n(V)","No. Of shares underlying Depository Receipts\n(VI)","Total nos. shares\nheld\n(VII) = (IV)+(V)+ (VI)","Shareholding as a % of total no. of shares (calculated as per SCRR, 1957)\n(VIII)\nAs a % of (A+B+C2)","Number of Voting Rights held in each class of securities\n(IX)",{"$nulls":3},"No. Of Shares Underlying Outstanding convertible securities\n(X)","No. of Shares Underlying Outstanding Warrants (Xi)","No. Of Shares Underlying Outstanding convertible securities and warrants\n(X)","Shareholding , as a % assuming full conversion of convertible securities (as a percentage of diluted share capital)\n(XI)= (VII)+(X)\nAs a % of (A+B+C2)","Number of Locked in shares\n(XII)",null,"Number of Shares pledged or otherwise encumbered\n(XIII)",null,"Number of equity shares held in dematerialized form \n(XIV)","Reason for not providing PAN"]
[{"$nulls":12},"No of Voting (XIV)\nRights",null,null,"Total as\na % of\nTotal\nVoting\nrights"]
[{"$nulls":12},"Class\neg:\nX","Class\neg:y","Total",{"$nulls":5},"No.\n(a)","As a % of total Shares held\n(b)","No.\n(a)","As a % of total Shares held\n(b)"]
[{"$nulls":4},"A1(b)","Central  Government/ State Government(s)"]
[{"$nulls":10},{"$f":"+IFERROR(IF(COUNT(H13:J13),ROUND(SUM(H13:J13),0),\"\"),\"\")","v":""},{"$f":"+IFERROR(IF(COUNT(K13),ROUND(K13/'Shareholding Pattern'!$L$57*100,2),\"\"),0)","v":""},{"$f":"IF(H13=\"\",\"\",H13)","v":""},null,{"$f":"+IFERROR(IF(COUNT(M13:N13),ROUND(SUM(M13,N13),2),\"\"),\"\")","v":""},{"$f":"+IFERROR(IF(COUNT(O13),ROUND(O13/('Shareholding Pattern'!$P$58)*100,2),\"\"),0)","v":""},null,null,{"$f":"+IFERROR(IF(COUNT(Q13:R13),ROUND(SUM(Q13:R13),0),\"\"),\"\")","v":""},{"$f":"+IFERROR(IF(COUNT(K13,S13),ROUND(SUM(S13,K13)/SUM('Shareholding Pattern'!$L$57,'Shareholding Pattern'!$T$57)*100,2),\"\"),0)","v":""},null,{"$f":"+IFERROR(IF(COUNT(U13),ROUND(SUM(U13)/SUM(K13)*100,2),\"\"),0)","v":""},null,{"$f":"+IFERROR(IF(COUNT(W13),ROUND(SUM(W13)/SUM(K13)*100,2),\"\"),0)","v":""},{"$nulls":4},{"$f":"IF(SUM(H13:Y13)>0,1,0)","v":0},{"$f":"IF(COUNT(H15:$Y$14995)=0,\"\",SUM(AC1:AC65533))","v":""}]
[]
[]
[{"$nulls":5},"Click here to go back","Total",{"$f":"+IFERROR(IF(COUNT(H14:H15),ROUND(SUM(H14:H15),0),\"\"),\"\")","v":""},{"$f":"+IFERROR(IF(COUNT(I14:I15),ROUND(SUM(I14:I15),0),\"\"),\"\")","v":""},{"$f":"+IFERROR(IF(COUNT(J14:J15),ROUND(SUM(J14:J15),0),\"\"),\"\")","v":""},{"$f":"+IFERROR(IF(COUNT(H16:J16),ROUND(SUM(H16:J16),0),\"\"),\"\")","v":""},{"$f":"+IFERROR(IF(COUNT(K16),ROUND(K16/'Shareholding Pattern'!$L$57*100,2),\"\"),0)","v":""},{"$f":"+IFERROR(IF(COUNT(M14:M15),ROUND(SUM(M14:M15),0),\"\"),\"\")","v":""},{"$f":"+IFERROR(IF(COUNT(N14:N15),ROUND(SUM(N14:N15),0),\"\"),\"\")","v":""},{"$f":"+IFERROR(IF(COUNT(M16:N16),ROUND(SUM(M16,N16),2),\"\"),\"\")","v":""},{"$f":"+IFERROR(IF(COUNT(O16),ROUND(O16/('Shareholding Pattern'!$P$58)*100,2),\"\"),0)","v":""},{"$f":"+IFERROR(IF(COUNT(Q14:Q15),ROUND(SUM(Q14:Q15),0),\"\"),\"\")","v":""},{"$f":"+IFERROR(IF(COUNT(R14:R15),ROUND(SUM(R14:R15),0),\"\"),\"\")","v":""},{"$f":"+IFERROR(IF(COUNT(Q16:R16),ROUND(SUM(Q16:R16),0),\"\"),\"\")","v":""},{"$f":"+IFERROR(IF(COUNT(K16,S16),ROUND(SUM(S16,K16)/SUM('Shareholding Pattern'!$L$57,'Shareholding Pattern'!$T$57)*100,2),\"\"),0)","v":""},{"$f":"+IFERROR(IF(COUNT(U14:U15),ROUND(SUM(U14:U15),0),\"\"),\"\")","v":""},{"$f":"+IFERROR(IF(COUNT(U16),ROUND(SUM(U16)/SUM(K16)*100,2),\"\"),0)","v":""},{"$f":"+IFERROR(IF(COUNT(W14:W15),ROUND(SUM(W14:W15),0),\"\"),\"\")","v":""},{"$f":"+IFERROR(IF(COUNT(W16),ROUND(SUM(W16)/SUM(K16)*100,2),\"\"),0)","v":""},{"$f":"+IFERROR(IF(COUNT(Y14:Y15),ROUND(SUM(Y14:Y15),0),\"\"),\"\")","v":""}]

{"sheet":"Banks","index":8,"n_rows":16,"n_cols":44,"rows_kept":16,"hidden":true,"merged":[[8,4,10,4],[8,5,10,5],[8,6,10,6],[8,7,10,7],[8,8,10,8],[8,9,10,9],[8,10,10,10],[8,11,10,11],[8,12,8,15],[8,16,10,16],[8,17,10,17],[8,18,10,18],[8,19,10,19],[8,20,9,21],[8,22,9,23],[8,24,10,24],[8,25,10,25],[9,12,9,14],[9,15,10,15]]}
[{"$nulls":8},0]
[{"$nulls":5},"Name of shareholder","Permanent account number of shareholder","Number of fully paid up equity shares","Number of partly paid-up equity shares","Number of shares underlying outstanding depository receipts","Total number of shares","Shareholding as a percentage of total number of shares held by promoters and public shareholders and custodians or DR holders","Number of voting rights held by same class of securities","Number of voting rights held by differential voting rights","Total Number of voting rights","Percentage of total number of voting rights","Number of shares underlying outstanding convertible securities","Number of warrant","Number of warrant and convertible securities","Total shareholding as a percentage assuming full conversion of convertible securities","Number of the locked-in-shares ","Locked-in-shares as a percentage of total number of shares","Pledged or encumbered - number of shares","Pledged or encumbered shares held as percentage of total number of shares","Number of equity shares held in dematerialized form","Reason for not providing PAN"]
[]
[]
[]
[]
[{"$nulls":43},"Trusts"]
[{"$nulls":43},"HUF"]
[{"$nulls":4},"Searial No.","Name\nof the \nShareholders\n     (I)","PAN \n(II)","No. of fully paid up equity shares held\n(IV)","No. Of Partly paid-up equity shares held\n(V)","No. Of shares underlying Depository Receipts\n(VI)","Total nos. shares\nheld\n(VII) = (IV)+(V)+ (VI)","Shareholding as a % of total no. of shares (calculated as per SCRR, 1957)\n(VIII)\nAs a % of (A+B+C2)","Number of Voting Rights held in each class of securities\n(IX)",{"$nulls":3},"No. Of Shares Underlying Outstanding convertible securities\n(X)","No. of Shares Underlying Outstanding Warrants (Xi)","No. Of Shares Underlying Outstanding convertible securities and No. Of Warrants\n(Xi) (a)","Shareholding , as a % assuming full conversion of convertible securities (as a percentage of diluted share capital)\n(XI)= (VII)+(X)\nAs a % of (A+B+C2)","Number of Locked in shares\n(XII)",null,"Number of Shares pledged or otherwise encumbered\n(XIII)",null,"Number of equity shares held in dematerialized form \n(XIV)","Reason for not providing PAN",{"$nulls":17},"Societies"]
[{"$nulls":12},"No of Voting (XIV)\nRights",null,null,"Total as\na % of\nTotal\nVoting\nrights",{"$nulls":27},"ESOP or ESOS or ESPS"]
[{"$nulls":12},"Class\neg:\nX","Class\neg:y","Total",{"$nulls":5},"No.\n(a)","As a % of total Shares held\n(b)","No.\n(a)","As a % of total Shares held\n(b)",{"$nulls":19},"Employee welfare fund"]
[{"$nulls":4},"A1(c)","Financial  Institutions/ Banks",{"$nulls":37},"Venture capital funds"]
[{"$nulls":10},{"$f":"+IFERROR(IF(COUNT(H13:J13),ROUND(SUM(H13:J13),0),\"\"),\"\")","v":""},{"$f":"+IFERROR(IF(COUNT(K13),ROUND(K13/'Shareholding Pattern'!$L$57*100,2),\"\"),0)","v":""},{"$f":"IF(H13=\"\",\"\",H13)","v":""},null,{"$f":"+IFERROR(IF(COUNT(M13:N13),ROUND(SUM(M13,N13),2),\"\"),\"\")","v":""},{"$f":"+IFERROR(IF(COUNT(O13),ROUND(O13/('Shareholding Pattern'!$P$58)*100,2),\"\"),0)","v":""},null,null,{"$f":"+IFERROR(IF(COUNT(Q13:R13),ROUND(SUM(Q13:R13),0),\"\"),\"\")","v":""},{"$f":"+IFERROR(IF(COUNT(K13,S13),ROUND(SUM(S13,K13)/SUM('Shareholding Pattern'!$L$57,'Shareholding Pattern'!$T$57)*100,2),\"\"),0)","v":""},null,{"$f":"+IFERROR(IF(COUNT(U13),ROUND(SUM(U13)/SUM(K13)*100,2),\"\"),0)","v":""},null,{"$f":"+IFERROR(IF(COUNT(W13),ROUND(SUM(W13)/SUM(K13)*100,2),\"\"),0)","v":""},{"$nulls":4},{"$f":"IF(SUM(H13:Y13)>0,1,0)","v":0},{"$f":"IF(COUNT(H15:$Y$14999)=0,\"\",SUM(AC1:AC65533))","v":""},{"$nulls":13},"Angel Investors"]
[{"$nulls":43},"Private Equity Fund"]
[]
[{"$nulls":5},"Click here to go back","Total",{"$f":"+IFERROR(IF(COUNT(H14:H15),ROUND(SUM(H14:H15),0),\"\"),\"\")","v":""},{"$f":"+IFERROR(IF(COUNT(I14:I15),ROUND(SUM(I14:I15),0),\"\"),\"\")","v":""},{"$f":"+IFERROR(IF(COUNT(J14:J15),ROUND(SUM(J14:J15),0),\"\"),\"\")","v":""},{"$f":"+IFERROR(IF(COUNT(K14:K15),ROUND(SUM(K14:K15),0),\"\"),\"\")","v":""},{"$f":"+IFERROR(IF(COUNT(K16),ROUND(K16/'Shareholding Pattern'!$L$57*100,2),\"\"),0)","v":""},{"$f":"+IFERROR(IF(COUNT(M14:M15),ROUND(SUM(M14:M15),0),\"\"),\"\")","v":""},{"$f":"+IFERROR(IF(COUNT(N14:N15),ROUND(SUM(N14:N15),0),\"\"),\"\")","v":""},{"$f":"+IFERROR(IF(COUNT(O14:O15),ROUND(SUM(O14:O15),0),\"\"),\"\")","v":""},{"$f":"+IFERROR(IF(COUNT(O16),ROUND(O16/('Shareholding Pattern'!$P$58)*100,2),\"\"),0)","v":""},{"$f":"+IFERROR(IF(COUNT(Q14:Q15),ROUND(SUM(Q14:Q15),0),\"\"),\"\")","v":""},{"$f":"+IFERROR(IF(COUNT(R14:R15),ROUND(SUM(R14:R15),0),\"\"),\"\")","v":""},{"$f":"+IFERROR(IF(COUNT(S14:S15),ROUND(SUM(S14:S15),0),\"\"),\"\")","v":""},{"$f":"+IFERROR(IF(COUNT(K16,S16),ROUND(SUM(S16,K16)/SUM('Shareholding Pattern'!$L$57,'Shareholding Pattern'!$T$57)*100,2),\"\"),0)","v":""},{"$f":"+IFERROR(IF(COUNT(U14:U15),ROUND(SUM(U14:U15),0),\"\"),\"\")","v":""},{"$f":"+IFERROR(IF(COUNT(U16),ROUND(SUM(U16)/SUM(K16)*100,2),\"\"),0)","v":""},{"$f":"+IFERROR(IF(COUNT(W14:W15),ROUND(SUM(W14:W15),0),\"\"),\"\")","v":""},{"$f":"+IFERROR(IF(COUNT(W16),ROUND(SUM(W16)/SUM(K16)*100,2),\"\"),0)","v":""},{"$f":"+IFERROR(IF(COUNT(Y14:Y15),ROUND(SUM(Y14:Y15),0),\"\"),\"\")","v":""}]

{"sheet":"OtherIND","index":9,"n_rows":17,"n_cols":48,"rows_kept":17,"hidden":true,"merged":[[8,3,10,3],[8,4,10,4],[8,5,10,5],[8,6,10,6],[8,7,10,7],[8,8,10,8],[8,9,10,9],[8,10,10,10],[8,11,10,11],[8,12,10,12],[8,13,10,13],[8,14,8,17],[8,18,10,18],[8,19,10,19],[8,20,10,20],[8,21,10,21],[8,22,9,23],[8,24,9,25],[8,26,10,26],[8,27,10,27],[9,14,9,16],[9,17,10,17]]}
[{"$nulls":8},1,{"$nulls":34},"Director or Director's Relatives"]
[{"$nulls":4},"Category of other indian shareholders","Category or more than one percentage","Name of shareholder","Permanent account number of shareholder","Number of shareholders","Number of fully paid up equity shares","Number of partly paid-up equity shares","Number of shares underlying outstanding depository receipts","Total number of shares","Shareholding as a percentage of total number of shares held by promoters and public shareholders and custodians or DR holders","Number of voting rights held by same class of securities","Number of voting rights held by differential voting rights","Total Number of voting rights","Percentage of total number of voting rights","Number of shares underlying outstanding convertible securities","Number of warrant","Number of warrant and convertible securities","Total shareholding as a percentage assuming full conversion of convertible securities","Number of the locked-in-shares ","Locked-in-shares as a percentage of total number of shares","Pledged or encumbered - number of shares","Pledged or encumbered shares held as percentage of total number of shares","Number of equity shares held in dematerialized form","Reason for not providing PAN",{"$nulls":15},"Bodies Corporate"]
[{"$nulls":43},"Partnership Firms"]
[{"$nulls":43},"Trusts"]
[{"$nulls":43},"Person Acting in Concert"]
[{"$nulls":43},"Other"]
[]
[]
[{"$nulls":3},"Searial No.","Category",null,"Name\nof the \nShareholders\n     (I)","PAN \n(II)","No.\nof the \nShareholders\n     (I)","No. of fully paid up equity shares held\n(IV)","No. Of Partly paid-up equity shares held\n(V)","No. Of shares underlying Depository Receipts\n(VI)","Total nos. shares\nheld\n(VII) = (IV)+(V)+ (VI)","Shareholding as a % of total no. of shares (calculated as per SCRR, 1957)\n(VIII)\nAs a % of (A+B+C2)","Number of Voting Rights held in each class of securities\n(IX)",{"$nulls":3},"No. Of Shares Underlying Outstanding convertible securities\n(X)","No. of Shares Underlying Outstanding Warrants (Xi)","No. Of Shares Underlying Outstanding convertible securities and No. Of Warrants\n(Xi) (a)","Shareholding , as a % assuming full conversion of convertible securities (as a percentage of diluted share capital)\n(XI)= (VII)+(X)\nAs a % of (A+B+C2)","Number of Locked in shares\n(XII)",null,"Number of Shares pledged or otherwise encumbered\n(XIII)",null,"Number of equity shares held in dematerialized form \n(XIV)","Reason for not providing PAN",{"$nulls":19},"Category"]
[{"$nulls":14},"No of Voting (XIV)\nRights",null,null,"Total as\na % of\nTotal\nVoting\nrights",{"$nulls":29},"More than 1 percentage of shareholding"]
[{"$nulls":14},"Class\neg:\nX","Class\neg:y","Total",{"$nulls":5},"No.\n(a)","As a % of total Shares held\n(b)","No.\n(a)","As a % of total Shares held\n(b)"]
[{"$nulls":3},"A1(d)","Any Other (specify)"]
[{"$nulls":12},{"$f":"+IFERROR(IF(COUNT(J13:L13),ROUND(SUM(J13:L13),0),\"\"),\"\")","v":""},{"$f":"+IFERROR(IF(COUNT(M13),ROUND(M13/'Shareholding Pattern'!$L$57*100,2),\"\"),0)","v":""},{"$f":"IF(J13=\"\",\"\",J13)","v":""},null,{"$f":"+IFERROR(IF(COUNT(O13:P13),ROUND(SUM(O13,P13),2),\"\"),\"\")","v":""},{"$f":"+IFERROR(IF(COUNT(Q13),ROUND(Q13/('Shareholding Pattern'!$P$58)*100,2),\"\"),0)","v":""},null,null,{"$f":"+IFERROR(IF(COUNT(S13:T13),ROUND(SUM(S13:T13),0),\"\"),\"\")","v":""},{"$f":"+IFERROR(IF(COUNT(M13,U13),ROUND(SUM(U13,M13)/SUM('Shareholding Pattern'!$L$57,'Shareholding Pattern'!$T$57)*100,2),\"\"),0)","v":""},null,{"$f":"+IFERROR(IF(COUNT(W13),ROUND(SUM(W13)/SUM(M13)*100,2),\"\"),0)","v":""},null,{"$f":"+IFERROR(IF(COUNT(Y13),ROUND(SUM(Y13)/SUM(M13)*100,2),\"\"),0)","v":""},null,null,{"$f":"IF(SUM(I13:AA13)>0,1,0)","v":0},{"$f":"IF(COUNT(H16:$Y$15000)=0,\"\",SUM(AC1:AC65534))","v":1},{"$f":"SUM(AC1:AC65536)","v":1}]
[]
[{"$nulls":3},1,"Bodies Corporate",null,"RFR FINANCE  & INVESTMENT PRIVATE LIMITED","AAAAA9999Z",1,100,null,null,{"$f":"+IFERROR(IF(COUNT(J15:L15),ROUND(SUM(J15:L15),0),\"\"),\"\")","v":100},{"$f":"+IFERROR(IF(COUNT(M15),ROUND(M15/'Shareholding Pattern'!$L$57*100,2),\"\"),0)","v":{"v":0,"d":"0.00"}},{"$f":"IF(J15=\"\",\"\",J15)","v":{"v":100,"d":"100.00"}},null,{"$f":"+IFERROR(IF(COUNT(O15:P15),ROUND(SUM(O15,P15),2),\"\"),\"\")","v":{"v":100,"d":"100.00"}},{"$f":"+IFERROR(IF(COUNT(Q15),ROUND(Q15/('Shareholding Pattern'!$P$58)*100,2),\"\"),0)","v":{"v":0,"d":"0.00"}},null,null,{"$f":"+IFERROR(IF(COUNT(S15:T15),ROUND(SUM(S15:T15),0),\"\"),\"\")","v":""},{"$f":"+IFERROR(IF(COUNT(M15,U15),ROUND(SUM(U15,M15)/SUM('Shareholding Pattern'!$L$57,'Shareholding Pattern'!$T$57)*100,2),\"\"),0)","v":{"v":0,"d":"0.00"}},null,{"$f":"+IFERROR(IF(COUNT(W15),ROUND(SUM(W15)/SUM(M15)*100,2),\"\"),0)","v":""},null,{"$f":"+IFERROR(IF(COUNT(Y15),ROUND(SUM(Y15)/SUM(M15)*100,2),\"\"),0)","v":""},0,null,{"$f":"IF(SUM(I15:AA15)>0,1,0)","v":1}]
[]
[{"$nulls":4},"Click here to go back",null,null,"Total",{"$f":"+IFERROR(IF(COUNT(I14:I16),ROUND(SUM(I14:I16),0),\"\"),\"\")","v":1},{"$f":"+IFERROR(IF(COUNT(J14:J16),ROUND(SUM(J14:J16),0),\"\"),\"\")","v":100},{"$f":"+IFERROR(IF(COUNT(K14:K16),ROUND(SUM(K14:K16),0),\"\"),\"\")","v":""},{"$f":"+IFERROR(IF(COUNT(L14:L16),ROUND(SUM(L14:L16),0),\"\"),\"\")","v":""},{"$f":"+IFERROR(IF(COUNT(M14:M16),ROUND(SUM(M14:M16),0),\"\"),\"\")","v":100},{"$f":"+IFERROR(IF(COUNT(M17),ROUND(M17/'Shareholding Pattern'!$L$57*100,2),\"\"),0)","v":{"v":0,"d":"0.00"}},{"$f":"+IFERROR(IF(COUNT(O14:O16),ROUND(SUM(O14:O16),0),\"\"),\"\")","v":{"v":100,"d":"100.00"}},{"$f":"+IFERROR(IF(COUNT(P14:P16),ROUND(SUM(P14:P16),0),\"\"),\"\")","v":""},{"$f":"+IFERROR(IF(COUNT(Q14:Q16),ROUND(SUM(Q14:Q16),0),\"\"),\"\")","v":{"v":100,"d":"100.00"}},{"$f":"+IFERROR(IF(COUNT(Q17),ROUND(Q17/('Shareholding Pattern'!$P$58)*100,2),\"\"),0)","v":{"v":0,"d":"0.00"}},{"$f":"+IFERROR(IF(COUNT(S14:S16),ROUND(SUM(S14:S16),0),\"\"),\"\")","v":""},{"$f":"+IFERROR(IF(COUNT(T14:T16),ROUND(SUM(T14:T16),0),\"\"),\"\")","v":""},{"$f":"+IFERROR(IF(COUNT(U14:U16),ROUND(SUM(U14:U16),0),\"\"),\"\")","v":""},{"$f":"+IFERROR(IF(COUNT(M17,U17),ROUND(SUM(U17,M17)/SUM('Shareholding Pattern'!$L$57,'Shareholding Pattern'!$T$57)*100,2),\"\"),0)","v":{"v":0,"d":"0.00"}},{"$f":"+IFERROR(IF(COUNT(W14:W16),ROUND(SUM(W14:W16),0),\"\"),\"\")","v":""},{"$f":"+IFERROR(IF(COUNT(W17),ROUND(SUM(W17)/SUM(M17)*100,2),\"\"),0)","v":""},{"$f":"+IFERROR(IF(COUNT(Y14:Y16),ROUND(SUM(Y14:Y16),0),\"\"),\"\")","v":""},{"$f":"+IFERROR(IF(COUNT(Y17),ROUND(SUM(Y17)/SUM(M17)*100,2),\"\"),0)","v":""},{"$f":"+IFERROR(IF(COUNT(AA14:AA16),ROUND(SUM(AA14:AA16),0),\"\"),\"\")","v":0}]

{"sheet":"Individuals","index":10,"n_rows":134,"n_cols":30,"rows_kept":134,"hidden":true,"merged":[[8,4,10,4],[8,5,10,5],[8,6,10,6],[8,7,10,7],[8,8,10,8],[8,9,10,9],[8,10,10,10],[8,11,10,11],[8,12,8,15],[8,16,10,16],[8,17,10,17],[8,18,10,18],[8,19,10,19],[8,20,9,21],[8,22,9,23],[8,24,10,24],[8,25,10,25],[9,12,9,14],[9,15,10,15]]}
[{"$nulls":8},118]
[{"$nulls":5},"Name of shareholder","Permanent account number of shareholder","Number of fully paid up equity shares","Number of partly paid-up equity shares","Number of shares underlying outstanding depository receipts","Total number of shares","Shareholding as a percentage of total number of shares held by promoters and public shareholders and custodians or DR holders","Number of voting rights held by same class of securities","Number of voting rights held by differential voting rights","Total Number of voting rights","Percentage of total number of voting rights","Number of shares underlying outstanding convertible securities","Number of warrant","Number of warrant and convertible securities","Total shareholding as a percentage assuming full conversion of convertible securities","Number of the locked-in-shares ","Locked-in-shares as a percentage of total number of shares","Pledged or encumbered - number of shares","Pledged or encumbered shares held as percentage of total number of shares","Number of equity shares held in dematerialized form","Reason for not providing PAN"]
[]
[]
[]
[]
[]
[]
[{"$nulls":4},"Searial No.","Name\nof the \nShareholders\n     (I)","PAN \n(II)","No. of fully paid up equity shares held\n(IV)","No. Of Partly paid-up equity shares held\n(V)","No. Of shares underlying Depository Receipts\n(VI)","Total nos. shares\nheld\n(VII) = (IV)+(V)+ (VI)","Shareholding as a % of total no. of shares (calculated as per SCRR, 1957)\n(VIII)\nAs a % of (A+B+C2)","Number of Voting Rights held in each class of securities\n(IX)",{"$nulls":3},"No. Of Shares Underlying Outstanding convertible securities\n(X)","No. of Shares Underlying Outstanding Warrants (Xi)","No. Of Shares Underlying Outstanding convertible securities and No. Of Warrants\n(Xi) (a)","Shareholding , as a % assuming full conversion of convertible securities (as a percentage of diluted share capital)\n(XI)= (VII)+(X)\nAs a % of (A+B+C2)","Number of Locked in shares\n(XII)",null,"Number of Shares pledged or otherwise encumbered\n(XIII)",null,"Number of equity shares held in dematerialized form \n(XIV)","Reason for not providing PAN"]
[{"$nulls":12},"No of Voting (XIV)\nRights",null,null,"Total as\na % of\nTotal\nVoting\nrights"]
[{"$nulls":12},"Class\neg:\nX","Class\neg:y","Total",{"$nulls":5},"No.\n(a)","As a % of total Shares held\n(b)","No.\n(a)","As a % of total Shares held\n(b)"]
[{"$nulls":4},"A2(a)","Individuals (NonResident Individuals/ Foreign Individuals)"]
[{"$nulls":10},{"$f":"+IFERROR(IF(COUNT(H13:J13),ROUND(SUM(H13:J13),0),\"\"),\"\")","v":""},{"$f":"+IFERROR(IF(COUNT(K13),ROUND(K13/'Shareholding Pattern'!$L$57*100,2),\"\"),0)","v":""},{"$f":"IF(H13=\"\",\"\",H13)","v":""},null,{"$f":"+IFERROR(IF(COUNT(M13:N13),ROUND(SUM(M13,N13),2),\"\"),\"\")","v":""},{"$f":"+IFERROR(IF(COUNT(O13),ROUND(O13/('Shareholding Pattern'!$P$58)*100,2),\"\"),0)","v":""},null,null,{"$f":"+IFERROR(IF(COUNT(Q13:R13),ROUND(SUM(Q13:R13),0),\"\"),\"\")","v":""},{"$f":"+IFERROR(IF(COUNT(K13,S13),ROUND(SUM(S13,K13)/SUM('Shareholding Pattern'!$L$57,'Shareholding Pattern'!$T$57)*100,2),\"\"),0)","v":""},null,{"$f":"+IFERROR(IF(COUNT(U13),ROUND(SUM(U13)/SUM(K13)*100,2),\"\"),0)","v":""},null,{"$f":"+IFERROR(IF(COUNT(W13),ROUND(SUM(W13)/SUM(K13)*100,2),\"\"),0)","v":""},{"$nulls":4},{"$f":"IF(SUM(H13:Y13)>0,1,0)","v":0},{"$f":"IF(COUNT(H133:$Y$15118)=0,\"\",SUM(AC1:AC65651))","v":118}]
[]
[{"$nulls":4},1,"Individuals (NonResident Individuals/ Foreign Individuals",null,20000,null,null,{"$f":"+IFERROR(IF(COUNT(H15:J15),ROUND(SUM(H15:J15),0),\"\"),\"\")","v":20000},{"$f":"+IFERROR(IF(COUNT(K15),ROUND(K15/'Shareholding Pattern'!$L$57*100,2),\"\"),0)","v":0.09},{"$f":"IF(H15=\"\",\"\",H15)","v":{"v":20000,"d":"20000.00"}},null,{"$f":"+IFERROR(IF(COUNT(M15:N15),ROUND(SUM(M15,N15),2),\"\"),\"\")","v":{"v":20000,"d":"20000.00"}},{"$f":"+IFERROR(IF(COUNT(O15),ROUND(O15/('Shareholding Pattern'!$P$58)*100,2),\"\"),0)","v":0.09},null,null,{"$f":"+IFERROR(IF(COUNT(Q15:R15),ROUND(SUM(Q15:R15),0),\"\"),\"\")","v":""},{"$f":"+IFERROR(IF(COUNT(K15,S15),ROUND(SUM(S15,K15)/SUM('Shareholding Pattern'!$L$57,'Shareholding Pattern'!$T$57)*100,2),\"\"),0)","v":0.09},null,{"$f":"+IFERROR(IF(COUNT(U15),ROUND(SUM(U15)/SUM(K15)*100,2),\"\"),0)","v":""},null,{"$f":"+IFERROR(IF(COUNT(W15),ROUND(SUM(W15)/SUM(K15)*100,2),\"\"),0)","v":""},0,14,null,null,{"$f":"IF(SUM(H15:Y15)>0,1,0)","v":1}]
[{"$nulls":4},2,"MOHAMED BARKATULLA","DADDD9999Z",2500,null,null,2500,{"$f":"+IFERROR(IF(COUNT(K16),ROUND(K16/'Shareholding Pattern'!$L$57*100,2),\"\"),0)","v":0.01},{"v":2500,"d":"2500.00"},null,{"v":2500,"d":"2500.00"},{"$f":"+IFERROR(IF(COUNT(O16),ROUND(O16/('Shareholding Pattern'!$P$58)*100,2),\"\"),0)","v":0.01},null,null,"",{"$f":"+IFERROR(IF(COUNT(K16,S16),ROUND(SUM(S16,K16)/SUM('Shareholding Pattern'!$L$57,'Shareholding Pattern'!$T$57)*100,2),\"\"),0)","v":0.01},null,"",null,"",0,{"$nulls":3},1]
[{"$nulls":4},3,"KAMADY MANJUNATH","DBDDD9999Z",2500,null,null,2500,{"$f":"+IFERROR(IF(COUNT(K17),ROUND(K17/'Shareholding Pattern'!$L$57*100,2),\"\"),0)","v":0.01},{"v":2500,"d":"2500.00"},null,{"v":2500,"d":"2500.00"},{"$f":"+IFERROR(IF(COUNT(O17),ROUND(O17/('Shareholding Pattern'!$P$58)*100,2),\"\"),0)","v":0.01},null,null,"",{"$f":"+IFERROR(IF(COUNT(K17,S17),ROUND(SUM(S17,K17)/SUM('Shareholding Pattern'!$L$57,'Shareholding Pattern'!$T$57)*100,2),\"\"),0)","v":0.01},null,"",null,"",0,{"$nulls":3},1]
[{"$nulls":4},4,"S.P.M. SHANMUGAM","DCDDD9999Z",3000,null,null,3000,{"$f":"+IFERROR(IF(COUNT(K18),ROUND(K18/'Shareholding Pattern'!$L$57*100,2),\"\"),0)","v":0.01},{"v":3000,"d":"3000.00"},null,{"v":3000,"d":"3000.00"},{"$f":"+IFERROR(IF(COUNT(O18),ROUND(O18/('Shareholding Pattern'!$P$58)*100,2),\"\"),0)","v":0.01},null,null,"",{"$f":"+IFERROR(IF(COUNT(K18,S18),ROUND(SUM(S18,K18)/SUM('Shareholding Pattern'!$L$57,'Shareholding Pattern'!$T$57)*100,2),\"\"),0)","v":0.01},null,"",null,"",0,{"$nulls":3},1]
[{"$nulls":4},5,"LAILA BOSES","DEDDD9999Z",3000,null,null,3000,{"$f":"+IFERROR(IF(COUNT(K19),ROUND(K19/'Shareholding Pattern'!$L$57*100,2),\"\"),0)","v":0.01},{"v":3000,"d":"3000.00"},null,{"v":3000,"d":"3000.00"},{"$f":"+IFERROR(IF(COUNT(O19),ROUND(O19/('Shareholding Pattern'!$P$58)*100,2),\"\"),0)","v":0.01},null,null,"",{"$f":"+IFERROR(IF(COUNT(K19,S19),ROUND(SUM(S19,K19)/SUM('Shareholding Pattern'!$L$57,'Shareholding Pattern'!$T$57)*100,2),\"\"),0)","v":0.01},null,"",null,"",0,{"$nulls":3},1]
[{"$nulls":4},6,"GURMAIL SINGH DHALIWAL","DFDDD9999Z",5000,null,null,5000,{"$f":"+IFERROR(IF(COUNT(K20),ROUND(K20/'Shareholding Pattern'!$L$57*100,2),\"\"),0)","v":0.02},{"v":5000,"d":"5000.00"},null,{"v":5000,"d":"5000.00"},{"$f":"+IFERROR(IF(COUNT(O20),ROUND(O20/('Shareholding Pattern'!$P$58)*100,2),\"\"),0)","v":0.02},null,null,"",{"$f":"+IFERROR(IF(COUNT(K20,S20),ROUND(SUM(S20,K20)/SUM('Shareholding Pattern'!$L$57,'Shareholding Pattern'!$T$57)*100,2),\"\"),0)","v":0.02},null,"",null,"",0,{"$nulls":3},1]
[{"$nulls":4},7,"MOHD HABIB UR REHMAN","DGDDD9999Z",3000,null,null,3000,{"$f":"+IFERROR(IF(COUNT(K21),ROUND(K21/'Shareholding Pattern'!$L$57*100,2),\"\"),0)","v":0.01},{"v":3000,"d":"3000.00"},null,{"v":3000,"d":"3000.00"},{"$f":"+IFERROR(IF(COUNT(O21),ROUND(O21/('Shareholding Pattern'!$P$58)*100,2),\"\"),0)","v":0.01},null,null,"",{"$f":"+IFERROR(IF(COUNT(K21,S21),ROUND(SUM(S21,K21)/SUM('Shareholding Pattern'!$L$57,'Shareholding Pattern'!$T$57)*100,2),\"\"),0)","v":0.01},null,"",null,"",0,{"$nulls":3},1]
[{"$nulls":4},8,"PERIYA G. SUNDERA MURTHY","DHDDD9999Z",2500,null,null,2500,{"$f":"+IFERROR(IF(COUNT(K22),ROUND(K22/'Shareholding Pattern'!$L$57*100,2),\"\"),0)","v":0.01},{"v":2500,"d":"2500.00"},null,{"v":2500,"d":"2500.00"},{"$f":"+IFERROR(IF(COUNT(O22),ROUND(O22/('Shareholding Pattern'!$P$58)*100,2),\"\"),0)","v":0.01},null,null,"",{"$f":"+IFERROR(IF(COUNT(K22,S22),ROUND(SUM(S22,K22)/SUM('Shareholding Pattern'!$L$57,'Shareholding Pattern'!$T$57)*100,2),\"\"),0)","v":0.01},null,"",null,"",0,{"$nulls":3},1]
[{"$nulls":4},9,"MOND ABDUL WAHID","DIDDD9999Z",3000,null,null,3000,{"$f":"+IFERROR(IF(COUNT(K23),ROUND(K23/'Shareholding Pattern'!$L$57*100,2),\"\"),0)","v":0.01},{"v":3000,"d":"3000.00"},null,{"v":3000,"d":"3000.00"},{"$f":"+IFERROR(IF(COUNT(O23),ROUND(O23/('Shareholding Pattern'!$P$58)*100,2),\"\"),0)","v":0.01},null,null,"",{"$f":"+IFERROR(IF(COUNT(K23,S23),ROUND(SUM(S23,K23)/SUM('Shareholding Pattern'!$L$57,'Shareholding Pattern'!$T$57)*100,2),\"\"),0)","v":0.01},null,"",null,"",0,{"$nulls":3},1]
[{"$nulls":4},10,"INDER RAJ SEGAN","DJDDD9999Z",3500,null,null,3500,{"$f":"+IFERROR(IF(COUNT(K24),ROUND(K24/'Shareholding Pattern'!$L$57*100,2),\"\"),0)","v":0.02},{"v":3500,"d":"3500.00"},null,{"v":3500,"d":"3500.00"},{"$f":"+IFERROR(IF(COUNT(O24),ROUND(O24/('Shareholding Pattern'!$P$58)*100,2),\"\"),0)","v":0.02},null,null,"",{"$f":"+IFERROR(IF(COUNT(K24,S24),ROUND(SUM(S24,K24)/SUM('Shareholding Pattern'!$L$57,'Shareholding Pattern'!$T$57)*100,2),\"\"),0)","v":0.02},null,"",null,"",0,{"$nulls":3},1]
[{"$nulls":4},11,"YOGTA SEGAN","DKDDD9999Z",3500,null,null,3500,{"$f":"+IFERROR(IF(COUNT(K25),ROUND(K25/'Shareholding Pattern'!$L$57*100,2),\"\"),0)","v":0.02},{"v":3500,"d":"3500.00"},null,{"v":3500,"d":"3500.00"},{"$f":"+IFERROR(IF(COUNT(O25),ROUND(O25/('Shareholding Pattern'!$P$58)*100,2),\"\"),0)","v":0.02},null,null,"",{"$f":"+IFERROR(IF(COUNT(K25,S25),ROUND(SUM(S25,K25)/SUM('Shareholding Pattern'!$L$57,'Shareholding Pattern'!$T$57)*100,2),\"\"),0)","v":0.02},null,"",null,"",0,{"$nulls":3},1]
[{"$nulls":4},12,"HARBANSH LAL SHARMA","DLDDD9999Z",2500,null,null,2500,{"$f":"+IFERROR(IF(COUNT(K26),ROUND(K26/'Shareholding Pattern'!$L$57*100,2),\"\"),0)","v":0.01},{"v":2500,"d":"2500.00"},null,{"v":2500,"d":"2500.00"},{"$f":"+IFERROR(IF(COUNT(O26),ROUND(O26/('Shareholding Pattern'!$P$58)*100,2),\"\"),0)","v":0.01},null,null,"",{"$f":"+IFERROR(IF(COUNT(K26,S26),ROUND(SUM(S26,K26)/SUM('Shareholding Pattern'!$L$57,'Shareholding Pattern'!$T$57)*100,2),\"\"),0)","v":0.01},null,"",null,"",0,{"$nulls":3},1]
[{"$nulls":4},13,"RAMESH KUMAR CHANDIOK","DMDDD9999Z",3500,null,null,3500,{"$f":"+IFERROR(IF(COUNT(K27),ROUND(K27/'Shareholding Pattern'!$L$57*100,2),\"\"),0)","v":0.02},{"v":3500,"d":"3500.00"},null,{"v":3500,"d":"3500.00"},{"$f":"+IFERROR(IF(COUNT(O27),ROUND(O27/('Shareholding Pattern'!$P$58)*100,2),\"\"),0)","v":0.02},null,null,"",{"$f":"+IFERROR(IF(COUNT(K27,S27),ROUND(SUM(S27,K27)/SUM('Shareholding Pattern'!$L$57,'Shareholding Pattern'!$T$57)*100,2),\"\"),0)","v":0.02},null,"",null,"",0,{"$nulls":3},1]
[{"$nulls":4},14,"CHIDAMBARAM BOSE","DNDDD9999Z",3000,null,null,3000,{"$f":"+IFERROR(IF(COUNT(K28),ROUND(K28/'Shareholding Pattern'!$L$57*100,2),\"\"),0)","v":0.01},{"v":3000,"d":"3000.00"},null,{"v":3000,"d":"3000.00"},{"$f":"+IFERROR(IF(COUNT(O28),ROUND(O28/('Shareholding Pattern'!$P$58)*100,2),\"\"),0)","v":0.01},null,null,"",{"$f":"+IFERROR(IF(COUNT(K28,S28),ROUND(SUM(S28,K28)/SUM('Shareholding Pattern'!$L$57,'Shareholding Pattern'!$T$57)*100,2),\"\"),0)","v":0.01},null,"",null,"",0,{"$nulls":3},1]
[{"$nulls":4},15,"KUMARA SWAMY ANABALGAM","DODDD9999Z",2500,null,null,2500,{"$f":"+IFERROR(IF(COUNT(K29),ROUND(K29/'Shareholding Pattern'!$L$57*100,2),\"\"),0)","v":0.01},{"v":2500,"d":"2500.00"},null,{"v":2500,"d":"2500.00"},{"$f":"+IFERROR(IF(COUNT(O29),ROUND(O29/('Shareholding Pattern'!$P$58)*100,2),\"\"),0)","v":0.01},null,null,"",{"$f":"+IFERROR(IF(COUNT(K29,S29),ROUND(SUM(S29,K29)/SUM('Shareholding Pattern'!$L$57,'Shareholding Pattern'!$T$57)*100,2),\"\"),0)","v":0.01},null,"",null,"",0,{"$nulls":3},1]
[{"$nulls":4},16,"VIJAYA LAKSHMI SUNDERAM","DPDDD9999Z",2500,null,null,2500,{"$f":"+IFERROR(IF(COUNT(K30),ROUND(K30/'Shareholding Pattern'!$L$57*100,2),\"\"),0)","v":0.01},{"v":2500,"d":"2500.00"},null,{"v":2500,"d":"2500.00"},{"$f":"+IFERROR(IF(COUNT(O30),ROUND(O30/('Shareholding Pattern'!$P$58)*100,2),\"\"),0)","v":0.01},null,null,"",{"$f":"+IFERROR(IF(COUNT(K30,S30),ROUND(SUM(S30,K30)/SUM('Shareholding Pattern'!$L$57,'Shareholding Pattern'!$T$57)*100,2),\"\"),0)","v":0.01},null,"",null,"",0,{"$nulls":3},1]
[{"$nulls":4},17,"S. SYED FAZLUDDIN","DQDDD9999Z",2500,null,null,2500,{"$f":"+IFERROR(IF(COUNT(K31),ROUND(K31/'Shareholding Pattern'!$L$57*100,2),\"\"),0)","v":0.01},{"v":2500,"d":"2500.00"},null,{"v":2500,"d":"2500.00"},{"$f":"+IFERROR(IF(COUNT(O31),ROUND(O31/('Shareholding Pattern'!$P$58)*100,2),\"\"),0)","v":0.01},null,null,"",{"$f":"+IFERROR(IF(COUNT(K31,S31),ROUND(SUM(S31,K31)/SUM('Shareholding Pattern'!$L$57,'Shareholding Pattern'!$T$57)*100,2),\"\"),0)","v":0.01},null,"",null,"",0,{"$nulls":3},1]
[{"$nulls":4},18,"I.S. SIVA RAMAN ","DRDDD9999Z",2500,null,null,2500,{"$f":"+IFERROR(IF(COUNT(K32),ROUND(K32/'Shareholding Pattern'!$L$57*100,2),\"\"),0)","v":0.01},{"v":2500,"d":"2500.00"},null,{"v":2500,"d":"2500.00"},{"$f":"+IFERROR(IF(COUNT(O32),ROUND(O32/('Shareholding Pattern'!$P$58)*100,2),\"\"),0)","v":0.01},null,null,"",{"$f":"+IFERROR(IF(COUNT(K32,S32),ROUND(SUM(S32,K32)/SUM('Shareholding Pattern'!$L$57,'Shareholding Pattern'!$T$57)*100,2),\"\"),0)","v":0.01},null,"",null,"",0,{"$nulls":3},1]
[{"$nulls":4},19,"V.K.JYOTHINATHAN","DSDDD9999Z",2500,null,null,2500,{"$f":"+IFERROR(IF(COUNT(K33),ROUND(K33/'Shareholding Pattern'!$L$57*100,2),\"\"),0)","v":0.01},{"v":2500,"d":"2500.00"},null,{"v":2500,"d":"2500.00"},{"$f":"+IFERROR(IF(COUNT(O33),ROUND(O33/('Shareholding Pattern'!$P$58)*100,2),\"\"),0)","v":0.01},null,null,"",{"$f":"+IFERROR(IF(COUNT(K33,S33),ROUND(SUM(S33,K33)/SUM('Shareholding Pattern'!$L$57,'Shareholding Pattern'!$T$57)*100,2),\"\"),0)","v":0.01},null,"",null,"",0,{"$nulls":3},1]
[{"$nulls":4},20,"RADHA SIVARAMAN","DTDDD9999Z",5000,null,null,5000,{"$f":"+IFERROR(IF(COUNT(K34),ROUND(K34/'Shareholding Pattern'!$L$57*100,2),\"\"),0)","v":0.02},{"v":5000,"d":"5000.00"},null,{"v":5000,"d":"5000.00"},{"$f":"+IFERROR(IF(COUNT(O34),ROUND(O34/('Shareholding Pattern'!$P$58)*100,2),\"\"),0)","v":0.02},null,null,"",{"$f":"+IFERROR(IF(COUNT(K34,S34),ROUND(SUM(S34,K34)/SUM('Shareholding Pattern'!$L$57,'Shareholding Pattern'!$T$57)*100,2),\"\"),0)","v":0.02},null,"",null,"",0,{"$nulls":3},1]
[{"$nulls":4},21,"DORAI SWAMY VENKATESAN","DUDDD9999Z",2500,null,null,2500,{"$f":"+IFERROR(IF(COUNT(K35),ROUND(K35/'Shareholding Pattern'!$L$57*100,2),\"\"),0)","v":0.01},{"v":2500,"d":"2500.00"},null,{"v":2500,"d":"2500.00"},{"$f":"+IFERROR(IF(COUNT(O35),ROUND(O35/('Shareholding Pattern'!$P$58)*100,2),\"\"),0)","v":0.01},null,null,"",{"$f":"+IFERROR(IF(COUNT(K35,S35),ROUND(SUM(S35,K35)/SUM('Shareholding Pattern'!$L$57,'Shareholding Pattern'!$T$57)*100,2),\"\"),0)","v":0.01},null,"",null,"",0,{"$nulls":3},1]
[{"$nulls":4},22,"KAKAT DHANANJAYAN","DVDDD9999Z",2500,null,null,2500,{"$f":"+IFERROR(IF(COUNT(K36),ROUND(K36/'Shareholding Pattern'!$L$57*100,2),\"\"),0)","v":0.01},{"v":2500,"d":"2500.00"},null,{"v":2500,"d":"2500.00"},{"$f":"+IFERROR(IF(COUNT(O36),ROUND(O36/('Shareholding Pattern'!$P$58)*100,2),\"\"),0)","v":0.01},null,null,"",{"$f":"+IFERROR(IF(COUNT(K36,S36),ROUND(SUM(S36,K36)/SUM('Shareholding Pattern'!$L$57,'Shareholding Pattern'!$T$57)*100,2),\"\"),0)","v":0.01},null,"",null,"",0,{"$nulls":3},1]
[{"$nulls":4},23,"RAJAGOPAL KRISHNA NAIR","DWDDD9999Z",2500,null,null,2500,{"$f":"+IFERROR(IF(COUNT(K37),ROUND(K37/'Shareholding Pattern'!$L$57*100,2),\"\"),0)","v":0.01},{"v":2500,"d":"2500.00"},null,{"v":2500,"d":"2500.00"},{"$f":"+IFERROR(IF(COUNT(O37),ROUND(O37/('Shareholding Pattern'!$P$58)*100,2),\"\"),0)","v":0.01},null,null,"",{"$f":"+IFERROR(IF(COUNT(K37,S37),ROUND(SUM(S37,K37)/SUM('Shareholding Pattern'!$L$57,'Shareholding Pattern'!$T$57)*100,2),\"\"),0)","v":0.01},null,"",null,"",0,{"$nulls":3},1]
[{"$nulls":4},24,"C.T. JOHNY","DXDDD9999Z",2500,null,null,2500,{"$f":"+IFERROR(IF(COUNT(K38),ROUND(K38/'Shareholding Pattern'!$L$57*100,2),\"\"),0)","v":0.01},{"v":2500,"d":"2500.00"},null,{"v":2500,"d":"2500.00"},{"$f":"+IFERROR(IF(COUNT(O38),ROUND(O38/('Shareholding Pattern'!$P$58)*100,2),\"\"),0)","v":0.01},null,null,"",{"$f":"+IFERROR(IF(COUNT(K38,S38),ROUND(SUM(S38,K38)/SUM('Shareholding Pattern'!$L$57,'Shareholding Pattern'!$T$57)*100,2),\"\"),0)","v":0.01},null,"",null,"",0,{"$nulls":3},1]
[{"$nulls":4},25,"ABRAHAM THOMAS","DYDDD9999Z",2500,null,null,2500,{"$f":"+IFERROR(IF(COUNT(K39),ROUND(K39/'Shareholding Pattern'!$L$57*100,2),\"\"),0)","v":0.01},{"v":2500,"d":"2500.00"},null,{"v":2500,"d":"2500.00"},{"$f":"+IFERROR(IF(COUNT(O39),ROUND(O39/('Shareholding Pattern'!$P$58)*100,2),\"\"),0)","v":0.01},null,null,"",{"$f":"+IFERROR(IF(COUNT(K39,S39),ROUND(SUM(S39,K39)/SUM('Shareholding Pattern'!$L$57,'Shareholding Pattern'!$T$57)*100,2),\"\"),0)","v":0.01},null,"",null,"",0,{"$nulls":3},1]
[{"$nulls":4},26,"KUNNATH THOMAS","DZDDD9999Z",3000,null,null,3000,{"$f":"+IFERROR(IF(COUNT(K40),ROUND(K40/'Shareholding Pattern'!$L$57*100,2),\"\"),0)","v":0.01},{"v":3000,"d":"3000.00"},null,{"v":3000,"d":"3000.00"},{"$f":"+IFERROR(IF(COUNT(O40),ROUND(O40/('Shareholding Pattern'!$P$58)*100,2),\"\"),0)","v":0.01},null,null,"",{"$f":"+IFERROR(IF(COUNT(K40,S40),ROUND(SUM(S40,K40)/SUM('Shareholding Pattern'!$L$57,'Shareholding Pattern'!$T$57)*100,2),\"\"),0)","v":0.01},null,"",null,"",0,{"$nulls":3},1]
[{"$nulls":4},27,"USDHA GIRIDHARI WHARI","DDADD9999Z",5000,null,null,5000,{"$f":"+IFERROR(IF(COUNT(K41),ROUND(K41/'Shareholding Pattern'!$L$57*100,2),\"\"),0)","v":0.02},{"v":5000,"d":"5000.00"},null,{"v":5000,"d":"5000.00"},{"$f":"+IFERROR(IF(COUNT(O41),ROUND(O41/('Shareholding Pattern'!$P$58)*100,2),\"\"),0)","v":0.02},null,null,"",{"$f":"+IFERROR(IF(COUNT(K41,S41),ROUND(SUM(S41,K41)/SUM('Shareholding Pattern'!$L$57,'Shareholding Pattern'!$T$57)*100,2),\"\"),0)","v":0.02},null,"",null,"",0,{"$nulls":3},1]
[{"$nulls":4},28,"GIRIDHARI BUDHANMAL WHARI","DDBDD9999Z",5000,null,null,5000,{"$f":"+IFERROR(IF(COUNT(K42),ROUND(K42/'Shareholding Pattern'!$L$57*100,2),\"\"),0)","v":0.02},{"v":5000,"d":"5000.00"},null,{"v":5000,"d":"5000.00"},{"$f":"+IFERROR(IF(COUNT(O42),ROUND(O42/('Shareholding Pattern'!$P$58)*100,2),\"\"),0)","v":0.02},null,null,"",{"$f":"+IFERROR(IF(COUNT(K42,S42),ROUND(SUM(S42,K42)/SUM('Shareholding Pattern'!$L$57,'Shareholding Pattern'!$T$57)*100,2),\"\"),0)","v":0.02},null,"",null,"",0,{"$nulls":3},1]
[{"$nulls":4},29,"PUSHKARAN T.V.","DDCDD9999Z",2500,null,null,2500,{"$f":"+IFERROR(IF(COUNT(K43),ROUND(K43/'Shareholding Pattern'!$L$57*100,2),\"\"),0)","v":0.01},{"v":2500,"d":"2500.00"},null,{"v":2500,"d":"2500.00"},{"$f":"+IFERROR(IF(COUNT(O43),ROUND(O43/('Shareholding Pattern'!$P$58)*100,2),\"\"),0)","v":0.01},null,null,"",{"$f":"+IFERROR(IF(COUNT(K43,S43),ROUND(SUM(S43,K43)/SUM('Shareholding Pattern'!$L$57,'Shareholding Pattern'!$T$57)*100,2),\"\"),0)","v":0.01},null,"",null,"",0,{"$nulls":3},1]
[{"$nulls":4},30,"P.V. KASIM","DDEDD9999Z",2500,null,null,2500,{"$f":"+IFERROR(IF(COUNT(K44),ROUND(K44/'Shareholding Pattern'!$L$57*100,2),\"\"),0)","v":0.01},{"v":2500,"d":"2500.00"},null,{"v":2500,"d":"2500.00"},{"$f":"+IFERROR(IF(COUNT(O44),ROUND(O44/('Shareholding Pattern'!$P$58)*100,2),\"\"),0)","v":0.01},null,null,"",{"$f":"+IFERROR(IF(COUNT(K44,S44),ROUND(SUM(S44,K44)/SUM('Shareholding Pattern'!$L$57,'Shareholding Pattern'!$T$57)*100,2),\"\"),0)","v":0.01},null,"",null,"",0,{"$nulls":3},1]
[{"$nulls":4},31,"KISHORE RAJARAM LINGA WARE","DDFDD9999Z",5000,null,null,5000,{"$f":"+IFERROR(IF(COUNT(K45),ROUND(K45/'Shareholding Pattern'!$L$57*100,2),\"\"),0)","v":0.02},{"v":5000,"d":"5000.00"},null,{"v":5000,"d":"5000.00"},{"$f":"+IFERROR(IF(COUNT(O45),ROUND(O45/('Shareholding Pattern'!$P$58)*100,2),\"\"),0)","v":0.02},null,null,"",{"$f":"+IFERROR(IF(COUNT(K45,S45),ROUND(SUM(S45,K45)/SUM('Shareholding Pattern'!$L$57,'Shareholding Pattern'!$T$57)*100,2),\"\"),0)","v":0.02},null,"",null,"",0,{"$nulls":3},1]
[{"$nulls":4},32,"ROULAND SEQUIERA","DDGDD9999Z",2500,null,null,2500,{"$f":"+IFERROR(IF(COUNT(K46),ROUND(K46/'Shareholding Pattern'!$L$57*100,2),\"\"),0)","v":0.01},{"v":2500,"d":"2500.00"},null,{"v":2500,"d":"2500.00"},{"$f":"+IFERROR(IF(COUNT(O46),ROUND(O46/('Shareholding Pattern'!$P$58)*100,2),\"\"),0)","v":0.01},null,null,"",{"$f":"+IFERROR(IF(COUNT(K46,S46),ROUND(SUM(S46,K46)/SUM('Shareholding Pattern'!$L$57,'Shareholding Pattern'!$T$57)*100,2),\"\"),0)","v":0.01},null,"",null,"",0,{"$nulls":3},1]
[{"$nulls":4},33,"JHON RICHARD CHITTORE","DDHDD9999Z",2500,null,null,{"$f":"+IFERROR(IF(COUNT(H47:J47),ROUND(SUM(H47:J47),0),\"\"),\"\")","v":2500},{"$f":"+IFERROR(IF(COUNT(K47),ROUND(K47/'Shareholding Pattern'!$L$57*100,2),\"\"),0)","v":0.01},{"$f":"IF(H47=\"\",\"\",H47)","v":{"v":2500,"d":"2500.00"}},null,{"$f":"+IFERROR(IF(COUNT(M47:N47),ROUND(SUM(M47,N47),2),\"\"),\"\")","v":{"v":2500,"d":"2500.00"}},{"$f":"+IFERROR(IF(COUNT(O47),ROUND(O47/('Shareholding Pattern'!$P$58)*100,2),\"\"),0)","v":0.01},null,null,{"$f":"+IFERROR(IF(COUNT(Q47:R47),ROUND(SUM(Q47:R47),0),\"\"),\"\")","v":""},{"$f":"+IFERROR(IF(COUNT(K47,S47),ROUND(SUM(S47,K47)/SUM('Shareholding Pattern'!$L$57,'Shareholding Pattern'!$T$57)*100,2),\"\"),0)","v":0.01},null,{"$f":"+IFERROR(IF(COUNT(U47),ROUND(SUM(U47)/SUM(K47)*100,2),\"\"),0)","v":""},null,{"$f":"+IFERROR(IF(COUNT(W47),ROUND(SUM(W47)/SUM(K47)*100,2),\"\"),0)","v":""},0,{"$nulls":3},{"$f":"IF(SUM(H47:Y47)>0,1,0)","v":1}]
[{"$nulls":4},34,"REYLOND FRANCIS SEUERIA","DDIDD9999Z",2500,null,null,2500,{"$f":"+IFERROR(IF(COUNT(K48),ROUND(K48/'Shareholding Pattern'!$L$57*100,2),\"\"),0)","v":0.01},{"v":2500,"d":"2500.00"},null,{"v":2500,"d":"2500.00"},{"$f":"+IFERROR(IF(COUNT(O48),ROUND(O48/('Shareholding Pattern'!$P$58)*100,2),\"\"),0)","v":0.01},null,null,"",{"$f":"+IFERROR(IF(COUNT(K48,S48),ROUND(SUM(S48,K48)/SUM('Shareholding Pattern'!$L$57,'Shareholding Pattern'!$T$57)*100,2),\"\"),0)","v":0.01},null,"",null,"",0,{"$nulls":3},1]
[{"$nulls":4},35,"PRADEEP KUMAR MEHTA","DDJDD9999Z",2500,null,null,2500,{"$f":"+IFERROR(IF(COUNT(K49),ROUND(K49/'Shareholding Pattern'!$L$57*100,2),\"\"),0)","v":0.01},{"v":2500,"d":"2500.00"},null,{"v":2500,"d":"2500.00"},{"$f":"+IFERROR(IF(COUNT(O49),ROUND(O49/('Shareholding Pattern'!$P$58)*100,2),\"\"),0)","v":0.01},null,null,"",{"$f":"+IFERROR(IF(COUNT(K49,S49),ROUND(SUM(S49,K49)/SUM('Shareholding Pattern'!$L$57,'Shareholding Pattern'!$T$57)*100,2),\"\"),0)","v":0.01},null,"",null,"",0,{"$nulls":3},1]
[{"$nulls":4},36,"ABDULLA SUBBAYAKATTE","DDKDD9999Z",2500,null,null,2500,{"$f":"+IFERROR(IF(COUNT(K50),ROUND(K50/'Shareholding Pattern'!$L$57*100,2),\"\"),0)","v":0.01},{"v":2500,"d":"2500.00"},null,{"v":2500,"d":"2500.00"},{"$f":"+IFERROR(IF(COUNT(O50),ROUND(O50/('Shareholding Pattern'!$P$58)*100,2),\"\"),0)","v":0.01},null,null,"",{"$f":"+IFERROR(IF(COUNT(K50,S50),ROUND(SUM(S50,K50)/SUM('Shareholding Pattern'!$L$57,'Shareholding Pattern'!$T$57)*100,2),\"\"),0)","v":0.01},null,"",null,"",0,{"$nulls":3},1]
[{"$nulls":4},37,"SHEIK KHALISHA VALI","DDLDD9999Z",5000,null,null,5000,{"$f":"+IFERROR(IF(COUNT(K51),ROUND(K51/'Shareholding Pattern'!$L$57*100,2),\"\"),0)","v":0.02},{"v":5000,"d":"5000.00"},null,{"v":5000,"d":"5000.00"},{"$f":"+IFERROR(IF(COUNT(O51),ROUND(O51/('Shareholding Pattern'!$P$58)*100,2),\"\"),0)","v":0.02},null,null,"",{"$f":"+IFERROR(IF(COUNT(K51,S51),ROUND(SUM(S51,K51)/SUM('Shareholding Pattern'!$L$57,'Shareholding Pattern'!$T$57)*100,2),\"\"),0)","v":0.02},null,"",null,"",0,{"$nulls":3},1]
[{"$nulls":4},38,"JYOTHI HEMANTH KUMAR MOOLANI","DDMDD9999Z",2500,null,null,2500,{"$f":"+IFERROR(IF(COUNT(K52),ROUND(K52/'Shareholding Pattern'!$L$57*100,2),\"\"),0)","v":0.01},{"v":2500,"d":"2500.00"},null,{"v":2500,"d":"2500.00"},{"$f":"+IFERROR(IF(COUNT(O52),ROUND(O52/('Shareholding Pattern'!$P$58)*100,2),\"\"),0)","v":0.01},null,null,"",{"$f":"+IFERROR(IF(COUNT(K52,S52),ROUND(SUM(S52,K52)/SUM('Shareholding Pattern'!$L$57,'Shareholding Pattern'!$T$57)*100,2),\"\"),0)","v":0.01},null,"",null,"",0,{"$nulls":3},1]
[{"$nulls":4},39,"MONTINA CELESTINA NAZARETH","DDNDD9999Z",5000,null,null,5000,{"$f":"+IFERROR(IF(COUNT(K53),ROUND(K53/'Shareholding Pattern'!$L$57*100,2),\"\"),0)","v":0.02},{"v":5000,"d":"5000.00"},null,{"v":5000,"d":"5000.00"},{"$f":"+IFERROR(IF(COUNT(O53),ROUND(O53/('Shareholding Pattern'!$P$58)*100,2),\"\"),0)","v":0.02},null,null,"",{"$f":"+IFERROR(IF(COUNT(K53,S53),ROUND(SUM(S53,K53)/SUM('Shareholding Pattern'!$L$57,'Shareholding Pattern'!$T$57)*100,2),\"\"),0)","v":0.02},null,"",null,"",0,{"$nulls":3},1]
[{"$nulls":4},40,"ALEXANDER DENIS NAZARETH ","DDODD9999Z",5000,null,null,5000,{"$f":"+IFERROR(IF(COUNT(K54),ROUND(K54/'Shareholding Pattern'!$L$57*100,2),\"\"),0)","v":0.02},{"v":5000,"d":"5000.00"},null,{"v":5000,"d":"5000.00"},{"$f":"+IFERROR(IF(COUNT(O54),ROUND(O54/('Shareholding Pattern'!$P$58)*100,2),\"\"),0)","v":0.02},null,null,"",{"$f":"+IFERROR(IF(COUNT(K54,S54),ROUND(SUM(S54,K54)/SUM('Shareholding Pattern'!$L$57,'Shareholding Pattern'!$T$57)*100,2),\"\"),0)","v":0.02},null,"",null,"",0,{"$nulls":3},1]
[{"$nulls":4},41,"VASEEM SIDIQUE","DDPDD9999Z",2500,null,null,2500,{"$f":"+IFERROR(IF(COUNT(K55),ROUND(K55/'Shareholding Pattern'!$L$57*100,2),\"\"),0)","v":0.01},{"v":2500,"d":"2500.00"},null,{"v":2500,"d":"2500.00"},{"$f":"+IFERROR(IF(COUNT(O55),ROUND(O55/('Shareholding Pattern'!$P$58)*100,2),\"\"),0)","v":0.01},null,null,"",{"$f":"+IFERROR(IF(COUNT(K55,S55),ROUND(SUM(S55,K55)/SUM('Shareholding Pattern'!$L$57,'Shareholding Pattern'!$T$57)*100,2),\"\"),0)","v":0.01},null,"",null,"",0,{"$nulls":3},1]
[{"$nulls":4},42,"GAJINDER PAL SINGH","DDRDD9999Z",2500,null,null,2500,{"$f":"+IFERROR(IF(COUNT(K56),ROUND(K56/'Shareholding Pattern'!$L$57*100,2),\"\"),0)","v":0.01},{"v":2500,"d":"2500.00"},null,{"v":2500,"d":"2500.00"},{"$f":"+IFERROR(IF(COUNT(O56),ROUND(O56/('Shareholding Pattern'!$P$58)*100,2),\"\"),0)","v":0.01},null,null,"",{"$f":"+IFERROR(IF(COUNT(K56,S56),ROUND(SUM(S56,K56)/SUM('Shareholding Pattern'!$L$57,'Shareholding Pattern'!$T$57)*100,2),\"\"),0)","v":0.01},null,"",null,"",0,{"$nulls":3},1]
[{"$nulls":4},43,"JAGIT SINGH KOHLI","DDSDD9999Z",2500,null,null,2500,{"$f":"+IFERROR(IF(COUNT(K57),ROUND(K57/'Shareholding Pattern'!$L$57*100,2),\"\"),0)","v":0.01},{"v":2500,"d":"2500.00"},null,{"v":2500,"d":"2500.00"},{"$f":"+IFERROR(IF(COUNT(O57),ROUND(O57/('Shareholding Pattern'!$P$58)*100,2),\"\"),0)","v":0.01},null,null,"",{"$f":"+IFERROR(IF(COUNT(K57,S57),ROUND(SUM(S57,K57)/SUM('Shareholding Pattern'!$L$57,'Shareholding Pattern'!$T$57)*100,2),\"\"),0)","v":0.01},null,"",null,"",0,{"$nulls":3},1]
[{"$nulls":4},44,"THOMPSON  CHAKO","DDTDD9999Z",10000,null,null,10000,{"$f":"+IFERROR(IF(COUNT(K58),ROUND(K58/'Shareholding Pattern'!$L$57*100,2),\"\"),0)","v":0.05},{"v":10000,"d":"10000.00"},null,{"v":10000,"d":"10000.00"},{"$f":"+IFERROR(IF(COUNT(O58),ROUND(O58/('Shareholding Pattern'!$P$58)*100,2),\"\"),0)","v":0.05},null,null,"",{"$f":"+IFERROR(IF(COUNT(K58,S58),ROUND(SUM(S58,K58)/SUM('Shareholding Pattern'!$L$57,'Shareholding Pattern'!$T$57)*100,2),\"\"),0)","v":0.05},null,"",null,"",0,{"$nulls":3},1]
[{"$nulls":4},45,"SAFAKAT T. ROKADIA","DDUDD9999Z",2500,null,null,2500,{"$f":"+IFERROR(IF(COUNT(K59),ROUND(K59/'Shareholding Pattern'!$L$57*100,2),\"\"),0)","v":0.01},{"v":2500,"d":"2500.00"},null,{"v":2500,"d":"2500.00"},{"$f":"+IFERROR(IF(COUNT(O59),ROUND(O59/('Shareholding Pattern'!$P$58)*100,2),\"\"),0)","v":0.01},null,null,"",{"$f":"+IFERROR(IF(COUNT(K59,S59),ROUND(SUM(S59,K59)/SUM('Shareholding Pattern'!$L$57,'Shareholding Pattern'!$T$57)*100,2),\"\"),0)","v":0.01},null,"",null,"",0,{"$nulls":3},1]
[{"$nulls":4},46,"SUNIL MEHTA","DDVDD9999Z",2500,null,null,2500,{"$f":"+IFERROR(IF(COUNT(K60),ROUND(K60/'Shareholding Pattern'!$L$57*100,2),\"\"),0)","v":0.01},{"v":2500,"d":"2500.00"},null,{"v":2500,"d":"2500.00"},{"$f":"+IFERROR(IF(COUNT(O60),ROUND(O60/('Shareholding Pattern'!$P$58)*100,2),\"\"),0)","v":0.01},null,null,"",{"$f":"+IFERROR(IF(COUNT(K60,S60),ROUND(SUM(S60,K60)/SUM('Shareholding Pattern'!$L$57,'Shareholding Pattern'!$T$57)*100,2),\"\"),0)","v":0.01},null,"",null,"",0,{"$nulls":3},1]
[{"$nulls":4},47,"ARAKKANATIL OOMEN IYPE","DDWDD9999Z",2500,null,null,2500,{"$f":"+IFERROR(IF(COUNT(K61),ROUND(K61/'Shareholding Pattern'!$L$57*100,2),\"\"),0)","v":0.01},{"v":2500,"d":"2500.00"},null,{"v":2500,"d":"2500.00"},{"$f":"+IFERROR(IF(COUNT(O61),ROUND(O61/('Shareholding Pattern'!$P$58)*100,2),\"\"),0)","v":0.01},null,null,"",{"$f":"+IFERROR(IF(COUNT(K61,S61),ROUND(SUM(S61,K61)/SUM('Shareholding Pattern'!$L$57,'Shareholding Pattern'!$T$57)*100,2),\"\"),0)","v":0.01},null,"",null,"",0,{"$nulls":3},1]
[{"$nulls":4},48,"DANIEL THOMAS","DDXDD9999Z",2500,null,null,2500,{"$f":"+IFERROR(IF(COUNT(K62),ROUND(K62/'Shareholding Pattern'!$L$57*100,2),\"\"),0)","v":0.01},{"v":2500,"d":"2500.00"},null,{"v":2500,"d":"2500.00"},{"$f":"+IFERROR(IF(COUNT(O62),ROUND(O62/('Shareholding Pattern'!$P$58)*100,2),\"\"),0)","v":0.01},null,null,"",{"$f":"+IFERROR(IF(COUNT(K62,S62),ROUND(SUM(S62,K62)/SUM('Shareholding Pattern'!$L$57,'Shareholding Pattern'!$T$57)*100,2),\"\"),0)","v":0.01},null,"",null,"",0,{"$nulls":3},1]
[{"$nulls":4},49,"S. MANGALA KUMARI","DDYDD9999Z",2500,null,null,2500,{"$f":"+IFERROR(IF(COUNT(K63),ROUND(K63/'Shareholding Pattern'!$L$57*100,2),\"\"),0)","v":0.01},{"v":2500,"d":"2500.00"},null,{"v":2500,"d":"2500.00"},{"$f":"+IFERROR(IF(COUNT(O63),ROUND(O63/('Shareholding Pattern'!$P$58)*100,2),\"\"),0)","v":0.01},null,null,"",{"$f":"+IFERROR(IF(COUNT(K63,S63),ROUND(SUM(S63,K63)/SUM('Shareholding Pattern'!$L$57,'Shareholding Pattern'!$T$57)*100,2),\"\"),0)","v":0.01},null,"",null,"",0,{"$nulls":3},1]
[{"$nulls":4},50,"NAVILLE SEQUIERA","DDZDD9999Z",3000,null,null,3000,{"$f":"+IFERROR(IF(COUNT(K64),ROUND(K64/'Shareholding Pattern'!$L$57*100,2),\"\"),0)","v":0.01},{"v":3000,"d":"3000.00"},null,{"v":3000,"d":"3000.00"},{"$f":"+IFERROR(IF(COUNT(O64),ROUND(O64/('Shareholding Pattern'!$P$58)*100,2),\"\"),0)","v":0.01},null,null,"",{"$f":"+IFERROR(IF(COUNT(K64,S64),ROUND(SUM(S64,K64)/SUM('Shareholding Pattern'!$L$57,'Shareholding Pattern'!$T$57)*100,2),\"\"),0)","v":0.01},null,"",null,"",0,{"$nulls":3},1]
[{"$nulls":4},51,"SHASHAMSUDDEN S. RENTHER","DDDAD9999Z",5000,null,null,5000,{"$f":"+IFERROR(IF(COUNT(K65),ROUND(K65/'Shareholding Pattern'!$L$57*100,2),\"\"),0)","v":0.02},{"v":5000,"d":"5000.00"},null,{"v":5000,"d":"5000.00"},{"$f":"+IFERROR(IF(COUNT(O65),ROUND(O65/('Shareholding Pattern'!$P$58)*100,2),\"\"),0)","v":0.02},null,null,"",{"$f":"+IFERROR(IF(COUNT(K65,S65),ROUND(SUM(S65,K65)/SUM('Shareholding Pattern'!$L$57,'Shareholding Pattern'!$T$57)*100,2),\"\"),0)","v":0.02},null,"",null,"",0,{"$nulls":3},1]
[{"$nulls":4},52,"JOSEPH P.K.","DDDBD9999Z",2500,null,null,2500,{"$f":"+IFERROR(IF(COUNT(K66),ROUND(K66/'Shareholding Pattern'!$L$57*100,2),\"\"),0)","v":0.01},{"v":2500,"d":"2500.00"},null,{"v":2500,"d":"2500.00"},{"$f":"+IFERROR(IF(COUNT(O66),ROUND(O66/('Shareholding Pattern'!$P$58)*100,2),\"\"),0)","v":0.01},null,null,"",{"$f":"+IFERROR(IF(COUNT(K66,S66),ROUND(SUM(S66,K66)/SUM('Shareholding Pattern'!$L$57,'Shareholding Pattern'!$T$57)*100,2),\"\"),0)","v":0.01},null,"",null,"",0,{"$nulls":3},1]
[{"$nulls":4},53,"CHARLEY THOMAS","DDDCD9999Z",5000,null,null,5000,{"$f":"+IFERROR(IF(COUNT(K67),ROUND(K67/'Shareholding Pattern'!$L$57*100,2),\"\"),0)","v":0.02},{"v":5000,"d":"5000.00"},null,{"v":5000,"d":"5000.00"},{"$f":"+IFERROR(IF(COUNT(O67),ROUND(O67/('Shareholding Pattern'!$P$58)*100,2),\"\"),0)","v":0.02},null,null,"",{"$f":"+IFERROR(IF(COUNT(K67,S67),ROUND(SUM(S67,K67)/SUM('Shareholding Pattern'!$L$57,'Shareholding Pattern'!$T$57)*100,2),\"\"),0)","v":0.02},null,"",null,"",0,{"$nulls":3},1]
[{"$nulls":4},54,"BALAKRISHNAN NAIR ANIL KUMAR","DDDED9999Z",2500,null,null,2500,{"$f":"+IFERROR(IF(COUNT(K68),ROUND(K68/'Shareholding Pattern'!$L$57*100,2),\"\"),0)","v":0.01},{"v":2500,"d":"2500.00"},null,{"v":2500,"d":"2500.00"},{"$f":"+IFERROR(IF(COUNT(O68),ROUND(O68/('Shareholding Pattern'!$P$58)*100,2),\"\"),0)","v":0.01},null,null,"",{"$f":"+IFERROR(IF(COUNT(K68,S68),ROUND(SUM(S68,K68)/SUM('Shareholding Pattern'!$L$57,'Shareholding Pattern'!$T$57)*100,2),\"\"),0)","v":0.01},null,"",null,"",0,{"$nulls":3},1]
[{"$nulls":4},55,"THOMAS KOSHY","DDDFD9999Z",2500,null,null,2500,{"$f":"+IFERROR(IF(COUNT(K69),ROUND(K69/'Shareholding Pattern'!$L$57*100,2),\"\"),0)","v":0.01},{"v":2500,"d":"2500.00"},null,{"v":2500,"d":"2500.00"},{"$f":"+IFERROR(IF(COUNT(O69),ROUND(O69/('Shareholding Pattern'!$P$58)*100,2),\"\"),0)","v":0.01},null,null,"",{"$f":"+IFERROR(IF(COUNT(K69,S69),ROUND(SUM(S69,K69)/SUM('Shareholding Pattern'!$L$57,'Shareholding Pattern'!$T$57)*100,2),\"\"),0)","v":0.01},null,"",null,"",0,{"$nulls":3},1]
[{"$nulls":4},56,"JOHN VARGHESH","DDDGD9999Z",2500,null,null,2500,{"$f":"+IFERROR(IF(COUNT(K70),ROUND(K70/'Shareholding Pattern'!$L$57*100,2),\"\"),0)","v":0.01},{"v":2500,"d":"2500.00"},null,{"v":2500,"d":"2500.00"},{"$f":"+IFERROR(IF(COUNT(O70),ROUND(O70/('Shareholding Pattern'!$P$58)*100,2),\"\"),0)","v":0.01},null,null,"",{"$f":"+IFERROR(IF(COUNT(K70,S70),ROUND(SUM(S70,K70)/SUM('Shareholding Pattern'!$L$57,'Shareholding Pattern'!$T$57)*100,2),\"\"),0)","v":0.01},null,"",null,"",0,{"$nulls":3},1]
[{"$nulls":4},57,"JOHNSON MOODA THOMA","DDDHD9999Z",2500,null,null,2500,{"$f":"+IFERROR(IF(COUNT(K71),ROUND(K71/'Shareholding Pattern'!$L$57*100,2),\"\"),0)","v":0.01},{"v":2500,"d":"2500.00"},null,{"v":2500,"d":"2500.00"},{"$f":"+IFERROR(IF(COUNT(O71),ROUND(O71/('Shareholding Pattern'!$P$58)*100,2),\"\"),0)","v":0.01},null,null,"",{"$f":"+IFERROR(IF(COUNT(K71,S71),ROUND(SUM(S71,K71)/SUM('Shareholding Pattern'!$L$57,'Shareholding Pattern'!$T$57)*100,2),\"\"),0)","v":0.01},null,"",null,"",0,{"$nulls":3},1]
[{"$nulls":4},58,"PRAFULLA SURYAKANT JOSHI","DDDID9999Z",2500,null,null,2500,{"$f":"+IFERROR(IF(COUNT(K72),ROUND(K72/'Shareholding Pattern'!$L$57*100,2),\"\"),0)","v":0.01},{"v":2500,"d":"2500.00"},null,{"v":2500,"d":"2500.00"},{"$f":"+IFERROR(IF(COUNT(O72),ROUND(O72/('Shareholding Pattern'!$P$58)*100,2),\"\"),0)","v":0.01},null,null,"",{"$f":"+IFERROR(IF(COUNT(K72,S72),ROUND(SUM(S72,K72)/SUM('Shareholding Pattern'!$L$57,'Shareholding Pattern'!$T$57)*100,2),\"\"),0)","v":0.01},null,"",null,"",0,{"$nulls":3},1]
[{"$nulls":4},59,"AMERIPADATH SURYANARAYANA","DDDJD9999Z",2500,null,null,2500,{"$f":"+IFERROR(IF(COUNT(K73),ROUND(K73/'Shareholding Pattern'!$L$57*100,2),\"\"),0)","v":0.01},{"v":2500,"d":"2500.00"},null,{"v":2500,"d":"2500.00"},{"$f":"+IFERROR(IF(COUNT(O73),ROUND(O73/('Shareholding Pattern'!$P$58)*100,2),\"\"),0)","v":0.01},null,null,"",{"$f":"+IFERROR(IF(COUNT(K73,S73),ROUND(SUM(S73,K73)/SUM('Shareholding Pattern'!$L$57,'Shareholding Pattern'!$T$57)*100,2),\"\"),0)","v":0.01},null,"",null,"",0,{"$nulls":3},1]
[{"$nulls":4},60,"ABRAHAM GEORGE","DDDKD9999Z",2500,null,null,2500,{"$f":"+IFERROR(IF(COUNT(K74),ROUND(K74/'Shareholding Pattern'!$L$57*100,2),\"\"),0)","v":0.01},{"v":2500,"d":"2500.00"},null,{"v":2500,"d":"2500.00"},{"$f":"+IFERROR(IF(COUNT(O74),ROUND(O74/('Shareholding Pattern'!$P$58)*100,2),\"\"),0)","v":0.01},null,null,"",{"$f":"+IFERROR(IF(COUNT(K74,S74),ROUND(SUM(S74,K74)/SUM('Shareholding Pattern'!$L$57,'Shareholding Pattern'!$T$57)*100,2),\"\"),0)","v":0.01},null,"",null,"",0,{"$nulls":3},1]
[{"$nulls":4},61,"SILVY JOSE","DDDLD9999Z",2500,null,null,2500,{"$f":"+IFERROR(IF(COUNT(K75),ROUND(K75/'Shareholding Pattern'!$L$57*100,2),\"\"),0)","v":0.01},{"v":2500,"d":"2500.00"},null,{"v":2500,"d":"2500.00"},{"$f":"+IFERROR(IF(COUNT(O75),ROUND(O75/('Shareholding Pattern'!$P$58)*100,2),\"\"),0)","v":0.01},null,null,"",{"$f":"+IFERROR(IF(COUNT(K75,S75),ROUND(SUM(S75,K75)/SUM('Shareholding Pattern'!$L$57,'Shareholding Pattern'!$T$57)*100,2),\"\"),0)","v":0.01},null,"",null,"",0,{"$nulls":3},1]
[{"$nulls":4},62,"MARIAMMA K. CHACKO","DDDMD9999Z",3000,null,null,3000,{"$f":"+IFERROR(IF(COUNT(K76),ROUND(K76/'Shareholding Pattern'!$L$57*100,2),\"\"),0)","v":0.01},{"v":3000,"d":"3000.00"},null,{"v":3000,"d":"3000.00"},{"$f":"+IFERROR(IF(COUNT(O76),ROUND(O76/('Shareholding Pattern'!$P$58)*100,2),\"\"),0)","v":0.01},null,null,"",{"$f":"+IFERROR(IF(COUNT(K76,S76),ROUND(SUM(S76,K76)/SUM('Shareholding Pattern'!$L$57,'Shareholding Pattern'!$T$57)*100,2),\"\"),0)","v":0.01},null,"",null,"",0,{"$nulls":3},1]
[{"$nulls":4},63,"K. JOSEPH CHAKO","DDDND9999Z",7000,null,null,7000,{"$f":"+IFERROR(IF(COUNT(K77),ROUND(K77/'Shareholding Pattern'!$L$57*100,2),\"\"),0)","v":0.03},{"v":7000,"d":"7000.00"},null,{"v":7000,"d":"7000.00"},{"$f":"+IFERROR(IF(COUNT(O77),ROUND(O77/('Shareholding Pattern'!$P$58)*100,2),\"\"),0)","v":0.03},null,null,"",{"$f":"+IFERROR(IF(COUNT(K77,S77),ROUND(SUM(S77,K77)/SUM('Shareholding Pattern'!$L$57,'Shareholding Pattern'!$T$57)*100,2),\"\"),0)","v":0.03},null,"",null,"",0,{"$nulls":3},1]
[{"$nulls":4},64,"MARIUM JOSEPH","DDDOD9999Z",3000,null,null,3000,{"$f":"+IFERROR(IF(COUNT(K78),ROUND(K78/'Shareholding Pattern'!$L$57*100,2),\"\"),0)","v":0.01},{"v":3000,"d":"3000.00"},null,{"v":3000,"d":"3000.00"},{"$f":"+IFERROR(IF(COUNT(O78),ROUND(O78/('Shareholding Pattern'!$P$58)*100,2),\"\"),0)","v":0.01},null,null,"",{"$f":"+IFERROR(IF(COUNT(K78,S78),ROUND(SUM(S78,K78)/SUM('Shareholding Pattern'!$L$57,'Shareholding Pattern'!$T$57)*100,2),\"\"),0)","v":0.01},null,"",null,"",0,{"$nulls":3},1]
[{"$nulls":4},65,"JYOTHI SARA CHARLY","DDDPD9999Z",7500,null,null,{"$f":"+IFERROR(IF(COUNT(H79:J79),ROUND(SUM(H79:J79),0),\"\"),\"\")","v":7500},{"$f":"+IFERROR(IF(COUNT(K79),ROUND(K79/'Shareholding Pattern'!$L$57*100,2),\"\"),0)","v":0.03},{"$f":"IF(H79=\"\",\"\",H79)","v":{"v":7500,"d":"7500.00"}},null,{"$f":"+IFERROR(IF(COUNT(M79:N79),ROUND(SUM(M79,N79),2),\"\"),\"\")","v":{"v":7500,"d":"7500.00"}},{"$f":"+IFERROR(IF(COUNT(O79),ROUND(O79/('Shareholding Pattern'!$P$58)*100,2),\"\"),0)","v":0.03},null,null,{"$f":"+IFERROR(IF(COUNT(Q79:R79),ROUND(SUM(Q79:R79),0),\"\"),\"\")","v":""},{"$f":"+IFERROR(IF(COUNT(K79,S79),ROUND(SUM(S79,K79)/SUM('Shareholding Pattern'!$L$57,'Shareholding Pattern'!$T$57)*100,2),\"\"),0)","v":0.03},null,{"$f":"+IFERROR(IF(COUNT(U79),ROUND(SUM(U79)/SUM(K79)*100,2),\"\"),0)","v":""},null,{"$f":"+IFERROR(IF(COUNT(W79),ROUND(SUM(W79)/SUM(K79)*100,2),\"\"),0)","v":""},0,{"$nulls":3},{"$f":"IF(SUM(H79:Y79)>0,1,0)","v":1}]
[{"$nulls":4},66,"KUPPUSAMY AYYAWAR","DDDQD9999Z",2500,null,null,2500,{"$f":"+IFERROR(IF(COUNT(K80),ROUND(K80/'Shareholding Pattern'!$L$57*100,2),\"\"),0)","v":0.01},{"v":2500,"d":"2500.00"},null,{"v":2500,"d":"2500.00"},{"$f":"+IFERROR(IF(COUNT(O80),ROUND(O80/('Shareholding Pattern'!$P$58)*100,2),\"\"),0)","v":0.01},null,null,"",{"$f":"+IFERROR(IF(COUNT(K80,S80),ROUND(SUM(S80,K80)/SUM('Shareholding Pattern'!$L$57,'Shareholding Pattern'!$T$57)*100,2),\"\"),0)","v":0.01},null,"",null,"",0,{"$nulls":3},1]
[{"$nulls":4},67,"ROMUALD CYRIAC PEREIRA","DDDRD9999Z",2500,null,null,2500,{"$f":"+IFERROR(IF(COUNT(K81),ROUND(K81/'Shareholding Pattern'!$L$57*100,2),\"\"),0)","v":0.01},{"v":2500,"d":"2500.00"},null,{"v":2500,"d":"2500.00"},{"$f":"+IFERROR(IF(COUNT(O81),ROUND(O81/('Shareholding Pattern'!$P$58)*100,2),\"\"),0)","v":0.01},null,null,"",{"$f":"+IFERROR(IF(COUNT(K81,S81),ROUND(SUM(S81,K81)/SUM('Shareholding Pattern'!$L$57,'Shareholding Pattern'!$T$57)*100,2),\"\"),0)","v":0.01},null,"",null,"",0,{"$nulls":3},1]
[{"$nulls":4},68,"RATIKANT NANDA MANDREKAR","DDDSD9999Z",2500,null,null,2500,{"$f":"+IFERROR(IF(COUNT(K82),ROUND(K82/'Shareholding Pattern'!$L$57*100,2),\"\"),0)","v":0.01},{"v":2500,"d":"2500.00"},null,{"v":2500,"d":"2500.00"},{"$f":"+IFERROR(IF(COUNT(O82),ROUND(O82/('Shareholding Pattern'!$P$58)*100,2),\"\"),0)","v":0.01},null,null,"",{"$f":"+IFERROR(IF(COUNT(K82,S82),ROUND(SUM(S82,K82)/SUM('Shareholding Pattern'!$L$57,'Shareholding Pattern'!$T$57)*100,2),\"\"),0)","v":0.01},null,"",null,"",0,{"$nulls":3},1]
[{"$nulls":4},69,"MAIMOONA MAHIN","DDDTD9999Z",3000,null,null,3000,{"$f":"+IFERROR(IF(COUNT(K83),ROUND(K83/'Shareholding Pattern'!$L$57*100,2),\"\"),0)","v":0.01},{"v":3000,"d":"3000.00"},null,{"v":3000,"d":"3000.00"},{"$f":"+IFERROR(IF(COUNT(O83),ROUND(O83/('Shareholding Pattern'!$P$58)*100,2),\"\"),0)","v":0.01},null,null,"",{"$f":"+IFERROR(IF(COUNT(K83,S83),ROUND(SUM(S83,K83)/SUM('Shareholding Pattern'!$L$57,'Shareholding Pattern'!$T$57)*100,2),\"\"),0)","v":0.01},null,"",null,"",0,{"$nulls":3},1]
[{"$nulls":4},70,"PURUSHOTAM PRAKASH","DDDUD9999Z",5000,null,null,5000,{"$f":"+IFERROR(IF(COUNT(K84),ROUND(K84/'Shareholding Pattern'!$L$57*100,2),\"\"),0)","v":0.02},{"v":5000,"d":"5000.00"},null,{"v":5000,"d":"5000.00"},{"$f":"+IFERROR(IF(COUNT(O84),ROUND(O84/('Shareholding Pattern'!$P$58)*100,2),\"\"),0)","v":0.02},null,null,"",{"$f":"+IFERROR(IF(COUNT(K84,S84),ROUND(SUM(S84,K84)/SUM('Shareholding Pattern'!$L$57,'Shareholding Pattern'!$T$57)*100,2),\"\"),0)","v":0.02},null,"",null,"",0,{"$nulls":3},1]
[{"$nulls":4},71,"MOHINI MENGHRAI","DDDVD9999Z",5000,null,null,5000,{"$f":"+IFERROR(IF(COUNT(K85),ROUND(K85/'Shareholding Pattern'!$L$57*100,2),\"\"),0)","v":0.02},{"v":5000,"d":"5000.00"},null,{"v":5000,"d":"5000.00"},{"$f":"+IFERROR(IF(COUNT(O85),ROUND(O85/('Shareholding Pattern'!$P$58)*100,2),\"\"),0)","v":0.02},null,null,"",{"$f":"+IFERROR(IF(COUNT(K85,S85),ROUND(SUM(S85,K85)/SUM('Shareholding Pattern'!$L$57,'Shareholding Pattern'!$T$57)*100,2),\"\"),0)","v":0.02},null,"",null,"",0,{"$nulls":3},1]
[{"$nulls":4},72,"ALEY PAULOSE","DDDWD9999Z",3000,null,null,3000,{"$f":"+IFERROR(IF(COUNT(K86),ROUND(K86/'Shareholding Pattern'!$L$57*100,2),\"\"),0)","v":0.01},{"v":3000,"d":"3000.00"},null,{"v":3000,"d":"3000.00"},{"$f":"+IFERROR(IF(COUNT(O86),ROUND(O86/('Shareholding Pattern'!$P$58)*100,2),\"\"),0)","v":0.01},null,null,"",{"$f":"+IFERROR(IF(COUNT(K86,S86),ROUND(SUM(S86,K86)/SUM('Shareholding Pattern'!$L$57,'Shareholding Pattern'!$T$57)*100,2),\"\"),0)","v":0.01},null,"",null,"",0,{"$nulls":3},1]
[{"$nulls":4},73,"THEKUMKATIL.D. ALEXANDER","DDDXD9999Z",2500,null,null,2500,{"$f":"+IFERROR(IF(COUNT(K87),ROUND(K87/'Shareholding Pattern'!$L$57*100,2),\"\"),0)","v":0.01},{"v":2500,"d":"2500.00"},null,{"v":2500,"d":"2500.00"},{"$f":"+IFERROR(IF(COUNT(O87),ROUND(O87/('Shareholding Pattern'!$P$58)*100,2),\"\"),0)","v":0.01},null,null,"",{"$f":"+IFERROR(IF(COUNT(K87,S87),ROUND(SUM(S87,K87)/SUM('Shareholding Pattern'!$L$57,'Shareholding Pattern'!$T$57)*100,2),\"\"),0)","v":0.01},null,"",null,"",0,{"$nulls":3},1]
[{"$nulls":4},74,"FAZUL SHAIK MOHAMED JAMAL","DDDYD9999Z",2500,null,null,2500,{"$f":"+IFERROR(IF(COUNT(K88),ROUND(K88/'Shareholding Pattern'!$L$57*100,2),\"\"),0)","v":0.01},{"v":2500,"d":"2500.00"},null,{"v":2500,"d":"2500.00"},{"$f":"+IFERROR(IF(COUNT(O88),ROUND(O88/('Shareholding Pattern'!$P$58)*100,2),\"\"),0)","v":0.01},null,null,"",{"$f":"+IFERROR(IF(COUNT(K88,S88),ROUND(SUM(S88,K88)/SUM('Shareholding Pattern'!$L$57,'Shareholding Pattern'!$T$57)*100,2),\"\"),0)","v":0.01},null,"",null,"",0,{"$nulls":3},1]
[{"$nulls":4},75,"MAHESH KUNDAPOOR SHEREGAR","DDDZD9999Z",2500,null,null,2500,{"$f":"+IFERROR(IF(COUNT(K89),ROUND(K89/'Shareholding Pattern'!$L$57*100,2),\"\"),0)","v":0.01},{"v":2500,"d":"2500.00"},null,{"v":2500,"d":"2500.00"},{"$f":"+IFERROR(IF(COUNT(O89),ROUND(O89/('Shareholding Pattern'!$P$58)*100,2),\"\"),0)","v":0.01},null,null,"",{"$f":"+IFERROR(IF(COUNT(K89,S89),ROUND(SUM(S89,K89)/SUM('Shareholding Pattern'!$L$57,'Shareholding Pattern'!$T$57)*100,2),\"\"),0)","v":0.01},null,"",null,"",0,{"$nulls":3},1]
[{"$nulls":4},76,"POOKUNJU AHMAMEDU KUNJU","DDDDA9999Z",2500,null,null,2500,{"$f":"+IFERROR(IF(COUNT(K90),ROUND(K90/'Shareholding Pattern'!$L$57*100,2),\"\"),0)","v":0.01},{"v":2500,"d":"2500.00"},null,{"v":2500,"d":"2500.00"},{"$f":"+IFERROR(IF(COUNT(O90),ROUND(O90/('Shareholding Pattern'!$P$58)*100,2),\"\"),0)","v":0.01},null,null,"",{"$f":"+IFERROR(IF(COUNT(K90,S90),ROUND(SUM(S90,K90)/SUM('Shareholding Pattern'!$L$57,'Shareholding Pattern'!$T$57)*100,2),\"\"),0)","v":0.01},null,"",null,"",0,{"$nulls":3},1]
[{"$nulls":4},77,"MEKKATTUKULAM DOMINI JOSE","DDDDB9999Z",2500,null,null,2500,{"$f":"+IFERROR(IF(COUNT(K91),ROUND(K91/'Shareholding Pattern'!$L$57*100,2),\"\"),0)","v":0.01},{"v":2500,"d":"2500.00"},null,{"v":2500,"d":"2500.00"},{"$f":"+IFERROR(IF(COUNT(O91),ROUND(O91/('Shareholding Pattern'!$P$58)*100,2),\"\"),0)","v":0.01},null,null,"",{"$f":"+IFERROR(IF(COUNT(K91,S91),ROUND(SUM(S91,K91)/SUM('Shareholding Pattern'!$L$57,'Shareholding Pattern'!$T$57)*100,2),\"\"),0)","v":0.01},null,"",null,"",0,{"$nulls":3},1]
[{"$nulls":4},78,"NEDUMATTATHIL VARKEY VARGHE","DDDDC9999Z",2500,null,null,2500,{"$f":"+IFERROR(IF(COUNT(K92),ROUND(K92/'Shareholding Pattern'!$L$57*100,2),\"\"),0)","v":0.01},{"v":2500,"d":"2500.00"},null,{"v":2500,"d":"2500.00"},{"$f":"+IFERROR(IF(COUNT(O92),ROUND(O92/('Shareholding Pattern'!$P$58)*100,2),\"\"),0)","v":0.01},null,null,"",{"$f":"+IFERROR(IF(COUNT(K92,S92),ROUND(SUM(S92,K92)/SUM('Shareholding Pattern'!$L$57,'Shareholding Pattern'!$T$57)*100,2),\"\"),0)","v":0.01},null,"",null,"",0,{"$nulls":3},1]
[{"$nulls":4},79,"MOHAMMED AKRAM KHAN","DDDDE9999Z",2500,null,null,2500,{"$f":"+IFERROR(IF(COUNT(K93),ROUND(K93/'Shareholding Pattern'!$L$57*100,2),\"\"),0)","v":0.01},{"v":2500,"d":"2500.00"},null,{"v":2500,"d":"2500.00"},{"$f":"+IFERROR(IF(COUNT(O93),ROUND(O93/('Shareholding Pattern'!$P$58)*100,2),\"\"),0)","v":0.01},null,null,"",{"$f":"+IFERROR(IF(COUNT(K93,S93),ROUND(SUM(S93,K93)/SUM('Shareholding Pattern'!$L$57,'Shareholding Pattern'!$T$57)*100,2),\"\"),0)","v":0.01},null,"",null,"",0,{"$nulls":3},1]
[{"$nulls":4},80,"ABBAS HAFIZEE","DDDDF9999Z",2500,null,null,2500,{"$f":"+IFERROR(IF(COUNT(K94),ROUND(K94/'Shareholding Pattern'!$L$57*100,2),\"\"),0)","v":0.01},{"v":2500,"d":"2500.00"},null,{"v":2500,"d":"2500.00"},{"$f":"+IFERROR(IF(COUNT(O94),ROUND(O94/('Shareholding Pattern'!$P$58)*100,2),\"\"),0)","v":0.01},null,null,"",{"$f":"+IFERROR(IF(COUNT(K94,S94),ROUND(SUM(S94,K94)/SUM('Shareholding Pattern'!$L$57,'Shareholding Pattern'!$T$57)*100,2),\"\"),0)","v":0.01},null,"",null,"",0,{"$nulls":3},1]
[{"$nulls":4},81,"RAMESH VASUDEYA PANICKER","DDDDG9999Z",2500,null,null,2500,{"$f":"+IFERROR(IF(COUNT(K95),ROUND(K95/'Shareholding Pattern'!$L$57*100,2),\"\"),0)","v":0.01},{"v":2500,"d":"2500.00"},null,{"v":2500,"d":"2500.00"},{"$f":"+IFERROR(IF(COUNT(O95),ROUND(O95/('Shareholding Pattern'!$P$58)*100,2),\"\"),0)","v":0.01},null,null,"",{"$f":"+IFERROR(IF(COUNT(K95,S95),ROUND(SUM(S95,K95)/SUM('Shareholding Pattern'!$L$57,'Shareholding Pattern'!$T$57)*100,2),\"\"),0)","v":0.01},null,"",null,"",0,{"$nulls":3},1]
[{"$nulls":4},82,"PARAYIL JOSEPH BABY","DDDDH9999Z",2500,null,null,2500,{"$f":"+IFERROR(IF(COUNT(K96),ROUND(K96/'Shareholding Pattern'!$L$57*100,2),\"\"),0)","v":0.01},{"v":2500,"d":"2500.00"},null,{"v":2500,"d":"2500.00"},{"$f":"+IFERROR(IF(COUNT(O96),ROUND(O96/('Shareholding Pattern'!$P$58)*100,2),\"\"),0)","v":0.01},null,null,"",{"$f":"+IFERROR(IF(COUNT(K96,S96),ROUND(SUM(S96,K96)/SUM('Shareholding Pattern'!$L$57,'Shareholding Pattern'!$T$57)*100,2),\"\"),0)","v":0.01},null,"",null,"",0,{"$nulls":3},1]
[{"$nulls":4},83,"JOSE ABRAHAM","DDDDI9999Z",2500,null,null,2500,{"$f":"+IFERROR(IF(COUNT(K97),ROUND(K97/'Shareholding Pattern'!$L$57*100,2),\"\"),0)","v":0.01},{"v":2500,"d":"2500.00"},null,{"v":2500,"d":"2500.00"},{"$f":"+IFERROR(IF(COUNT(O97),ROUND(O97/('Shareholding Pattern'!$P$58)*100,2),\"\"),0)","v":0.01},null,null,"",{"$f":"+IFERROR(IF(COUNT(K97,S97),ROUND(SUM(S97,K97)/SUM('Shareholding Pattern'!$L$57,'Shareholding Pattern'!$T$57)*100,2),\"\"),0)","v":0.01},null,"",null,"",0,{"$nulls":3},1]
[{"$nulls":4},84,"RONIFACE PATRICK GOVEAS","DDDDJ9999Z",2500,null,null,2500,{"$f":"+IFERROR(IF(COUNT(K98),ROUND(K98/'Shareholding Pattern'!$L$57*100,2),\"\"),0)","v":0.01},{"v":2500,"d":"2500.00"},null,{"v":2500,"d":"2500.00"},{"$f":"+IFERROR(IF(COUNT(O98),ROUND(O98/('Shareholding Pattern'!$P$58)*100,2),\"\"),0)","v":0.01},null,null,"",{"$f":"+IFERROR(IF(COUNT(K98,S98),ROUND(SUM(S98,K98)/SUM('Shareholding Pattern'!$L$57,'Shareholding Pattern'!$T$57)*100,2),\"\"),0)","v":0.01},null,"",null,"",0,{"$nulls":3},1]
[{"$nulls":4},85,"KRISHNA CHOUDHARY","DDDDK9999Z",2500,null,null,2500,{"$f":"+IFERROR(IF(COUNT(K99),ROUND(K99/'Shareholding Pattern'!$L$57*100,2),\"\"),0)","v":0.01},{"v":2500,"d":"2500.00"},null,{"v":2500,"d":"2500.00"},{"$f":"+IFERROR(IF(COUNT(O99),ROUND(O99/('Shareholding Pattern'!$P$58)*100,2),\"\"),0)","v":0.01},null,null,"",{"$f":"+IFERROR(IF(COUNT(K99,S99),ROUND(SUM(S99,K99)/SUM('Shareholding Pattern'!$L$57,'Shareholding Pattern'!$T$57)*100,2),\"\"),0)","v":0.01},null,"",null,"",0,{"$nulls":3},1]
[{"$nulls":4},86,"EVELYAN PINTO","DDDDL9999Z",2500,null,null,2500,{"$f":"+IFERROR(IF(COUNT(K100),ROUND(K100/'Shareholding Pattern'!$L$57*100,2),\"\"),0)","v":0.01},{"v":2500,"d":"2500.00"},null,{"v":2500,"d":"2500.00"},{"$f":"+IFERROR(IF(COUNT(O100),ROUND(O100/('Shareholding Pattern'!$P$58)*100,2),\"\"),0)","v":0.01},null,null,"",{"$f":"+IFERROR(IF(COUNT(K100,S100),ROUND(SUM(S100,K100)/SUM('Shareholding Pattern'!$L$57,'Shareholding Pattern'!$T$57)*100,2),\"\"),0)","v":0.01},null,"",null,"",0,{"$nulls":3},1]
[{"$nulls":4},87,"PAMELA KOSHY","DDDDM9999Z",2500,null,null,2500,{"$f":"+IFERROR(IF(COUNT(K101),ROUND(K101/'Shareholding Pattern'!$L$57*100,2),\"\"),0)","v":0.01},{"v":2500,"d":"2500.00"},null,{"v":2500,"d":"2500.00"},{"$f":"+IFERROR(IF(COUNT(O101),ROUND(O101/('Shareholding Pattern'!$P$58)*100,2),\"\"),0)","v":0.01},null,null,"",{"$f":"+IFERROR(IF(COUNT(K101,S101),ROUND(SUM(S101,K101)/SUM('Shareholding Pattern'!$L$57,'Shareholding Pattern'!$T$57)*100,2),\"\"),0)","v":0.01},null,"",null,"",0,{"$nulls":3},1]
[{"$nulls":4},88,"SETHU MADHAVAN","DDDDN9999Z",2500,null,null,2500,{"$f":"+IFERROR(IF(COUNT(K102),ROUND(K102/'Shareholding Pattern'!$L$57*100,2),\"\"),0)","v":0.01},{"v":2500,"d":"2500.00"},null,{"v":2500,"d":"2500.00"},{"$f":"+IFERROR(IF(COUNT(O102),ROUND(O102/('Shareholding Pattern'!$P$58)*100,2),\"\"),0)","v":0.01},null,null,"",{"$f":"+IFERROR(IF(COUNT(K102,S102),ROUND(SUM(S102,K102)/SUM('Shareholding Pattern'!$L$57,'Shareholding Pattern'!$T$57)*100,2),\"\"),0)","v":0.01},null,"",null,"",0,{"$nulls":3},1]
[{"$nulls":4},89,"USHA RAMAN","DDDDN9999X",2500,null,null,2500,{"$f":"+IFERROR(IF(COUNT(K103),ROUND(K103/'Shareholding Pattern'!$L$57*100,2),\"\"),0)","v":0.01},{"v":2500,"d":"2500.00"},null,{"v":2500,"d":"2500.00"},{"$f":"+IFERROR(IF(COUNT(O103),ROUND(O103/('Shareholding Pattern'!$P$58)*100,2),\"\"),0)","v":0.01},null,null,"",{"$f":"+IFERROR(IF(COUNT(K103,S103),ROUND(SUM(S103,K103)/SUM('Shareholding Pattern'!$L$57,'Shareholding Pattern'!$T$57)*100,2),\"\"),0)","v":0.01},null,"",null,"",0,{"$nulls":3},1]
[{"$nulls":4},90,"VIJAYAN THRIPPAYYA","DDDDO9999Z",3000,null,null,3000,{"$f":"+IFERROR(IF(COUNT(K104),ROUND(K104/'Shareholding Pattern'!$L$57*100,2),\"\"),0)","v":0.01},{"v":3000,"d":"3000.00"},null,{"v":3000,"d":"3000.00"},{"$f":"+IFERROR(IF(COUNT(O104),ROUND(O104/('Shareholding Pattern'!$P$58)*100,2),\"\"),0)","v":0.01},null,null,"",{"$f":"+IFERROR(IF(COUNT(K104,S104),ROUND(SUM(S104,K104)/SUM('Shareholding Pattern'!$L$57,'Shareholding Pattern'!$T$57)*100,2),\"\"),0)","v":0.01},null,"",null,"",0,{"$nulls":3},1]
[{"$nulls":4},91,"MANGATTIL SANKARA MENON MADH","DDDDP9999Z",2500,null,null,2500,{"$f":"+IFERROR(IF(COUNT(K105),ROUND(K105/'Shareholding Pattern'!$L$57*100,2),\"\"),0)","v":0.01},{"v":2500,"d":"2500.00"},null,{"v":2500,"d":"2500.00"},{"$f":"+IFERROR(IF(COUNT(O105),ROUND(O105/('Shareholding Pattern'!$P$58)*100,2),\"\"),0)","v":0.01},null,null,"",{"$f":"+IFERROR(IF(COUNT(K105,S105),ROUND(SUM(S105,K105)/SUM('Shareholding Pattern'!$L$57,'Shareholding Pattern'!$T$57)*100,2),\"\"),0)","v":0.01},null,"",null,"",0,{"$nulls":3},1]
[{"$nulls":4},92,"GURGA VIJAYAN","DDDDQ9999Z",2500,null,null,2500,{"$f":"+IFERROR(IF(COUNT(K106),ROUND(K106/'Shareholding Pattern'!$L$57*100,2),\"\"),0)","v":0.01},{"v":2500,"d":"2500.00"},null,{"v":2500,"d":"2500.00"},{"$f":"+IFERROR(IF(COUNT(O106),ROUND(O106/('Shareholding Pattern'!$P$58)*100,2),\"\"),0)","v":0.01},null,null,"",{"$f":"+IFERROR(IF(COUNT(K106,S106),ROUND(SUM(S106,K106)/SUM('Shareholding Pattern'!$L$57,'Shareholding Pattern'!$T$57)*100,2),\"\"),0)","v":0.01},null,"",null,"",0,{"$nulls":3},1]
[{"$nulls":4},93,"RACHEL RAJU VARGHESE","DDDDR9999Z",2500,null,null,2500,{"$f":"+IFERROR(IF(COUNT(K107),ROUND(K107/'Shareholding Pattern'!$L$57*100,2),\"\"),0)","v":0.01},{"v":2500,"d":"2500.00"},null,{"v":2500,"d":"2500.00"},{"$f":"+IFERROR(IF(COUNT(O107),ROUND(O107/('Shareholding Pattern'!$P$58)*100,2),\"\"),0)","v":0.01},null,null,"",{"$f":"+IFERROR(IF(COUNT(K107,S107),ROUND(SUM(S107,K107)/SUM('Shareholding Pattern'!$L$57,'Shareholding Pattern'!$T$57)*100,2),\"\"),0)","v":0.01},null,"",null,"",0,{"$nulls":3},1]
[{"$nulls":4},94,"PUTHUCHERIL ANTONY THOMAS","DDDDS9999Z",2500,null,null,2500,{"$f":"+IFERROR(IF(COUNT(K108),ROUND(K108/'Shareholding Pattern'!$L$57*100,2),\"\"),0)","v":0.01},{"v":2500,"d":"2500.00"},null,{"v":2500,"d":"2500.00"},{"$f":"+IFERROR(IF(COUNT(O108),ROUND(O108/('Shareholding Pattern'!$P$58)*100,2),\"\"),0)","v":0.01},null,null,"",{"$f":"+IFERROR(IF(COUNT(K108,S108),ROUND(SUM(S108,K108)/SUM('Shareholding Pattern'!$L$57,'Shareholding Pattern'!$T$57)*100,2),\"\"),0)","v":0.01},null,"",null,"",0,{"$nulls":3},1]
[{"$nulls":4},95,"ANDERSON DAVID","DDDDT9999Z",2500,null,null,2500,{"$f":"+IFERROR(IF(COUNT(K109),ROUND(K109/'Shareholding Pattern'!$L$57*100,2),\"\"),0)","v":0.01},{"v":2500,"d":"2500.00"},null,{"v":2500,"d":"2500.00"},{"$f":"+IFERROR(IF(COUNT(O109),ROUND(O109/('Shareholding Pattern'!$P$58)*100,2),\"\"),0)","v":0.01},null,null,"",{"$f":"+IFERROR(IF(COUNT(K109,S109),ROUND(SUM(S109,K109)/SUM('Shareholding Pattern'!$L$57,'Shareholding Pattern'!$T$57)*100,2),\"\"),0)","v":0.01},null,"",null,"",0,{"$nulls":3},1]
[{"$nulls":4},96,"ABDUL RAHIMAN MAHIN","DDDDU9999Z",4000,null,null,4000,{"$f":"+IFERROR(IF(COUNT(K110),ROUND(K110/'Shareholding Pattern'!$L$57*100,2),\"\"),0)","v":0.02},{"v":4000,"d":"4000.00"},null,{"v":4000,"d":"4000.00"},{"$f":"+IFERROR(IF(COUNT(O110),ROUND(O110/('Shareholding Pattern'!$P$58)*100,2),\"\"),0)","v":0.02},null,null,"",{"$f":"+IFERROR(IF(COUNT(K110,S110),ROUND(SUM(S110,K110)/SUM('Shareholding Pattern'!$L$57,'Shareholding Pattern'!$T$57)*100,2),\"\"),0)","v":0.02},null,"",null,"",0,{"$nulls":3},1]
[{"$nulls":4},97,"AMARJEET SINGH KALRA","DDDDV9999Z",2500,null,null,{"$f":"+IFERROR(IF(COUNT(H111:J111),ROUND(SUM(H111:J111),0),\"\"),\"\")","v":2500},{"$f":"+IFERROR(IF(COUNT(K111),ROUND(K111/'Shareholding Pattern'!$L$57*100,2),\"\"),0)","v":0.01},{"$f":"IF(H111=\"\",\"\",H111)","v":{"v":2500,"d":"2500.00"}},null,{"$f":"+IFERROR(IF(COUNT(M111:N111),ROUND(SUM(M111,N111),2),\"\"),\"\")","v":{"v":2500,"d":"2500.00"}},{"$f":"+IFERROR(IF(COUNT(O111),ROUND(O111/('Shareholding Pattern'!$P$58)*100,2),\"\"),0)","v":0.01},null,null,{"$f":"+IFERROR(IF(COUNT(Q111:R111),ROUND(SUM(Q111:R111),0),\"\"),\"\")","v":""},{"$f":"+IFERROR(IF(COUNT(K111,S111),ROUND(SUM(S111,K111)/SUM('Shareholding Pattern'!$L$57,'Shareholding Pattern'!$T$57)*100,2),\"\"),0)","v":0.01},null,{"$f":"+IFERROR(IF(COUNT(U111),ROUND(SUM(U111)/SUM(K111)*100,2),\"\"),0)","v":""},null,{"$f":"+IFERROR(IF(COUNT(W111),ROUND(SUM(W111)/SUM(K111)*100,2),\"\"),0)","v":""},0,{"$nulls":3},{"$f":"IF(SUM(H111:Y111)>0,1,0)","v":1}]
[{"$nulls":4},98,"YOHANNAN BABY","DDDDW9999Z",2500,null,null,2500,{"$f":"+IFERROR(IF(COUNT(K112),ROUND(K112/'Shareholding Pattern'!$L$57*100,2),\"\"),0)","v":0.01},{"v":2500,"d":"2500.00"},null,{"v":2500,"d":"2500.00"},{"$f":"+IFERROR(IF(COUNT(O112),ROUND(O112/('Shareholding Pattern'!$P$58)*100,2),\"\"),0)","v":0.01},null,null,"",{"$f":"+IFERROR(IF(COUNT(K112,S112),ROUND(SUM(S112,K112)/SUM('Shareholding Pattern'!$L$57,'Shareholding Pattern'!$T$57)*100,2),\"\"),0)","v":0.01},null,"",null,"",0,{"$nulls":3},1]
[{"$nulls":4},99,"JAMES CHERIYAN","DDDDX9999Z",2500,null,null,2500,{"$f":"+IFERROR(IF(COUNT(K113),ROUND(K113/'Shareholding Pattern'!$L$57*100,2),\"\"),0)","v":0.01},{"v":2500,"d":"2500.00"},null,{"v":2500,"d":"2500.00"},{"$f":"+IFERROR(IF(COUNT(O113),ROUND(O113/('Shareholding Pattern'!$P$58)*100,2),\"\"),0)","v":0.01},null,null,"",{"$f":"+IFERROR(IF(COUNT(K113,S113),ROUND(SUM(S113,K113)/SUM('Shareholding Pattern'!$L$57,'Shareholding Pattern'!$T$57)*100,2),\"\"),0)","v":0.01},null,"",null,"",0,{"$nulls":3},1]
[{"$nulls":4},100,"RADHAKRISHNAN KUMARAN","DDDDY9999Z",2500,null,null,2500,{"$f":"+IFERROR(IF(COUNT(K114),ROUND(K114/'Shareholding Pattern'!$L$57*100,2),\"\"),0)","v":0.01},{"v":2500,"d":"2500.00"},null,{"v":2500,"d":"2500.00"},{"$f":"+IFERROR(IF(COUNT(O114),ROUND(O114/('Shareholding Pattern'!$P$58)*100,2),\"\"),0)","v":0.01},null,null,"",{"$f":"+IFERROR(IF(COUNT(K114,S114),ROUND(SUM(S114,K114)/SUM('Shareholding Pattern'!$L$57,'Shareholding Pattern'!$T$57)*100,2),\"\"),0)","v":0.01},null,"",null,"",0,{"$nulls":3},1]
[{"$nulls":4},101,"S. NARAYANA PRASAD KOIMATINE","DDDDZ9999Z",2500,null,null,2500,{"$f":"+IFERROR(IF(COUNT(K115),ROUND(K115/'Shareholding Pattern'!$L$57*100,2),\"\"),0)","v":0.01},{"v":2500,"d":"2500.00"},null,{"v":2500,"d":"2500.00"},{"$f":"+IFERROR(IF(COUNT(O115),ROUND(O115/('Shareholding Pattern'!$P$58)*100,2),\"\"),0)","v":0.01},null,null,"",{"$f":"+IFERROR(IF(COUNT(K115,S115),ROUND(SUM(S115,K115)/SUM('Shareholding Pattern'!$L$57,'Shareholding Pattern'!$T$57)*100,2),\"\"),0)","v":0.01},null,"",null,"",0,{"$nulls":3},1]
[{"$nulls":4},102,"KIRON HARISONDAS SHAH","EEEEE9999Z",2500,null,null,2500,{"$f":"+IFERROR(IF(COUNT(K116),ROUND(K116/'Shareholding Pattern'!$L$57*100,2),\"\"),0)","v":0.01},{"v":2500,"d":"2500.00"},null,{"v":2500,"d":"2500.00"},{"$f":"+IFERROR(IF(COUNT(O116),ROUND(O116/('Shareholding Pattern'!$P$58)*100,2),\"\"),0)","v":0.01},null,null,"",{"$f":"+IFERROR(IF(COUNT(K116,S116),ROUND(SUM(S116,K116)/SUM('Shareholding Pattern'!$L$57,'Shareholding Pattern'!$T$57)*100,2),\"\"),0)","v":0.01},null,"",null,"",0,{"$nulls":3},1]
[{"$nulls":4},103,"PEETHAMBARAN G.N.","EAEEE9999Z",2500,null,null,2500,{"$f":"+IFERROR(IF(COUNT(K117),ROUND(K117/'Shareholding Pattern'!$L$57*100,2),\"\"),0)","v":0.01},{"v":2500,"d":"2500.00"},null,{"v":2500,"d":"2500.00"},{"$f":"+IFERROR(IF(COUNT(O117),ROUND(O117/('Shareholding Pattern'!$P$58)*100,2),\"\"),0)","v":0.01},null,null,"",{"$f":"+IFERROR(IF(COUNT(K117,S117),ROUND(SUM(S117,K117)/SUM('Shareholding Pattern'!$L$57,'Shareholding Pattern'!$T$57)*100,2),\"\"),0)","v":0.01},null,"",null,"",0,{"$nulls":3},1]
[{"$nulls":4},104,"KALAMULLATHIL RAMACHANDRAN","EBEEE9999Z",2500,null,null,2500,{"$f":"+IFERROR(IF(COUNT(K118),ROUND(K118/'Shareholding Pattern'!$L$57*100,2),\"\"),0)","v":0.01},{"v":2500,"d":"2500.00"},null,{"v":2500,"d":"2500.00"},{"$f":"+IFERROR(IF(COUNT(O118),ROUND(O118/('Shareholding Pattern'!$P$58)*100,2),\"\"),0)","v":0.01},null,null,"",{"$f":"+IFERROR(IF(COUNT(K118,S118),ROUND(SUM(S118,K118)/SUM('Shareholding Pattern'!$L$57,'Shareholding Pattern'!$T$57)*100,2),\"\"),0)","v":0.01},null,"",null,"",0,{"$nulls":3},1]
[{"$nulls":4},105,"MOHD.IBRAHIM","ECEEE9999Z",5000,null,null,5000,{"$f":"+IFERROR(IF(COUNT(K119),ROUND(K119/'Shareholding Pattern'!$L$57*100,2),\"\"),0)","v":0.02},{"v":5000,"d":"5000.00"},null,{"v":5000,"d":"5000.00"},{"$f":"+IFERROR(IF(COUNT(O119),ROUND(O119/('Shareholding Pattern'!$P$58)*100,2),\"\"),0)","v":0.02},null,null,"",{"$f":"+IFERROR(IF(COUNT(K119,S119),ROUND(SUM(S119,K119)/SUM('Shareholding Pattern'!$L$57,'Shareholding Pattern'!$T$57)*100,2),\"\"),0)","v":0.02},null,"",null,"",0,{"$nulls":3},1]
[{"$nulls":4},106,"GAGAN DEV MEHTA","EDEEE9999Z",2500,null,null,2500,{"$f":"+IFERROR(IF(COUNT(K120),ROUND(K120/'Shareholding Pattern'!$L$57*100,2),\"\"),0)","v":0.01},{"v":2500,"d":"2500.00"},null,{"v":2500,"d":"2500.00"},{"$f":"+IFERROR(IF(COUNT(O120),ROUND(O120/('Shareholding Pattern'!$P$58)*100,2),\"\"),0)","v":0.01},null,null,"",{"$f":"+IFERROR(IF(COUNT(K120,S120),ROUND(SUM(S120,K120)/SUM('Shareholding Pattern'!$L$57,'Shareholding Pattern'!$T$57)*100,2),\"\"),0)","v":0.01},null,"",null,"",0,{"$nulls":3},1]
[{"$nulls":4},107,"MANI RADHA KRISHNAN","EFEEE9999Z",5000,null,null,5000,{"$f":"+IFERROR(IF(COUNT(K121),ROUND(K121/'Shareholding Pattern'!$L$57*100,2),\"\"),0)","v":0.02},{"v":5000,"d":"5000.00"},null,{"v":5000,"d":"5000.00"},{"$f":"+IFERROR(IF(COUNT(O121),ROUND(O121/('Shareholding Pattern'!$P$58)*100,2),\"\"),0)","v":0.02},null,null,"",{"$f":"+IFERROR(IF(COUNT(K121,S121),ROUND(SUM(S121,K121)/SUM('Shareholding Pattern'!$L$57,'Shareholding Pattern'!$T$57)*100,2),\"\"),0)","v":0.02},null,"",null,"",0,{"$nulls":3},1]
[{"$nulls":4},108,"LATIKA B . NAYAK","EGEEE9999Z",2500,null,null,2500,{"$f":"+IFERROR(IF(COUNT(K122),ROUND(K122/'Shareholding Pattern'!$L$57*100,2),\"\"),0)","v":0.01},{"v":2500,"d":"2500.00"},null,{"v":2500,"d":"2500.00"},{"$f":"+IFERROR(IF(COUNT(O122),ROUND(O122/('Shareholding Pattern'!$P$58)*100,2),\"\"),0)","v":0.01},null,null,"",{"$f":"+IFERROR(IF(COUNT(K122,S122),ROUND(SUM(S122,K122)/SUM('Shareholding Pattern'!$L$57,'Shareholding Pattern'!$T$57)*100,2),\"\"),0)","v":0.01},null,"",null,"",0,{"$nulls":3},1]
[{"$nulls":4},109,"NARENDRA KUMAR ZAVERI","EHEEE9999Z",2500,null,null,2500,{"$f":"+IFERROR(IF(COUNT(K123),ROUND(K123/'Shareholding Pattern'!$L$57*100,2),\"\"),0)","v":0.01},{"v":2500,"d":"2500.00"},null,{"v":2500,"d":"2500.00"},{"$f":"+IFERROR(IF(COUNT(O123),ROUND(O123/('Shareholding Pattern'!$P$58)*100,2),\"\"),0)","v":0.01},null,null,"",{"$f":"+IFERROR(IF(COUNT(K123,S123),ROUND(SUM(S123,K123)/SUM('Shareholding Pattern'!$L$57,'Shareholding Pattern'!$T$57)*100,2),\"\"),0)","v":0.01},null,"",null,"",0,{"$nulls":3},1]
[{"$nulls":4},110,"CHACKO ABRAHAM PARCKAMANNIL","EIEEE9999Z",2500,null,null,2500,{"$f":"+IFERROR(IF(COUNT(K124),ROUND(K124/'Shareholding Pattern'!$L$57*100,2),\"\"),0)","v":0.01},{"v":2500,"d":"2500.00"},null,{"v":2500,"d":"2500.00"},{"$f":"+IFERROR(IF(COUNT(O124),ROUND(O124/('Shareholding Pattern'!$P$58)*100,2),\"\"),0)","v":0.01},null,null,"",{"$f":"+IFERROR(IF(COUNT(K124,S124),ROUND(SUM(S124,K124)/SUM('Shareholding Pattern'!$L$57,'Shareholding Pattern'!$T$57)*100,2),\"\"),0)","v":0.01},null,"",null,"",0,{"$nulls":3},1]
[{"$nulls":4},111,"JAMES FRANCIS  DSOUZA","EJEEE9999Z",3000,null,null,3000,{"$f":"+IFERROR(IF(COUNT(K125),ROUND(K125/'Shareholding Pattern'!$L$57*100,2),\"\"),0)","v":0.01},{"v":3000,"d":"3000.00"},null,{"v":3000,"d":"3000.00"},{"$f":"+IFERROR(IF(COUNT(O125),ROUND(O125/('Shareholding Pattern'!$P$58)*100,2),\"\"),0)","v":0.01},null,null,"",{"$f":"+IFERROR(IF(COUNT(K125,S125),ROUND(SUM(S125,K125)/SUM('Shareholding Pattern'!$L$57,'Shareholding Pattern'!$T$57)*100,2),\"\"),0)","v":0.01},null,"",null,"",0,{"$nulls":3},1]
[{"$nulls":4},112,"RATANCHAND SURANA","EKEEE9999Z",2500,null,null,2500,{"$f":"+IFERROR(IF(COUNT(K126),ROUND(K126/'Shareholding Pattern'!$L$57*100,2),\"\"),0)","v":0.01},{"v":2500,"d":"2500.00"},null,{"v":2500,"d":"2500.00"},{"$f":"+IFERROR(IF(COUNT(O126),ROUND(O126/('Shareholding Pattern'!$P$58)*100,2),\"\"),0)","v":0.01},null,null,"",{"$f":"+IFERROR(IF(COUNT(K126,S126),ROUND(SUM(S126,K126)/SUM('Shareholding Pattern'!$L$57,'Shareholding Pattern'!$T$57)*100,2),\"\"),0)","v":0.01},null,"",null,"",0,{"$nulls":3},1]
[{"$nulls":4},113,"R. GOWRI SHANKAR","ELEEE9999Z",2500,null,null,2500,{"$f":"+IFERROR(IF(COUNT(K127),ROUND(K127/'Shareholding Pattern'!$L$57*100,2),\"\"),0)","v":0.01},{"v":2500,"d":"2500.00"},null,{"v":2500,"d":"2500.00"},{"$f":"+IFERROR(IF(COUNT(O127),ROUND(O127/('Shareholding Pattern'!$P$58)*100,2),\"\"),0)","v":0.01},null,null,"",{"$f":"+IFERROR(IF(COUNT(K127,S127),ROUND(SUM(S127,K127)/SUM('Shareholding Pattern'!$L$57,'Shareholding Pattern'!$T$57)*100,2),\"\"),0)","v":0.01},null,"",null,"",0,{"$nulls":3},1]
[{"$nulls":4},114,"JAGDISH PRASAD MITTAL","EMEEE9999Z",2500,null,null,2500,{"$f":"+IFERROR(IF(COUNT(K128),ROUND(K128/'Shareholding Pattern'!$L$57*100,2),\"\"),0)","v":0.01},{"v":2500,"d":"2500.00"},null,{"v":2500,"d":"2500.00"},{"$f":"+IFERROR(IF(COUNT(O128),ROUND(O128/('Shareholding Pattern'!$P$58)*100,2),\"\"),0)","v":0.01},null,null,"",{"$f":"+IFERROR(IF(COUNT(K128,S128),ROUND(SUM(S128,K128)/SUM('Shareholding Pattern'!$L$57,'Shareholding Pattern'!$T$57)*100,2),\"\"),0)","v":0.01},null,"",null,"",0,{"$nulls":3},1]
[{"$nulls":4},115,"RACHANA KHANNA","ENEEE9999Z",2500,null,null,2500,{"$f":"+IFERROR(IF(COUNT(K129),ROUND(K129/'Shareholding Pattern'!$L$57*100,2),\"\"),0)","v":0.01},{"v":2500,"d":"2500.00"},null,{"v":2500,"d":"2500.00"},{"$f":"+IFERROR(IF(COUNT(O129),ROUND(O129/('Shareholding Pattern'!$P$58)*100,2),\"\"),0)","v":0.01},null,null,"",{"$f":"+IFERROR(IF(COUNT(K129,S129),ROUND(SUM(S129,K129)/SUM('Shareholding Pattern'!$L$57,'Shareholding Pattern'!$T$57)*100,2),\"\"),0)","v":0.01},null,"",null,"",0,{"$nulls":3},1]
[{"$nulls":4},116,"BHAGAVAN RAMCHAND","EOEEE9999Z",2500,null,null,2500,{"$f":"+IFERROR(IF(COUNT(K130),ROUND(K130/'Shareholding Pattern'!$L$57*100,2),\"\"),0)","v":0.01},{"v":2500,"d":"2500.00"},null,{"v":2500,"d":"2500.00"},{"$f":"+IFERROR(IF(COUNT(O130),ROUND(O130/('Shareholding Pattern'!$P$58)*100,2),\"\"),0)","v":0.01},null,null,"",{"$f":"+IFERROR(IF(COUNT(K130,S130),ROUND(SUM(S130,K130)/SUM('Shareholding Pattern'!$L$57,'Shareholding Pattern'!$T$57)*100,2),\"\"),0)","v":0.01},null,"",null,"",0,{"$nulls":3},1]
[{"$nulls":4},117,"M. RADHAKRISHNAN","EPEEE9999Z",2500,null,null,2500,{"$f":"+IFERROR(IF(COUNT(K131),ROUND(K131/'Shareholding Pattern'!$L$57*100,2),\"\"),0)","v":0.01},{"v":2500,"d":"2500.00"},null,{"v":2500,"d":"2500.00"},{"$f":"+IFERROR(IF(COUNT(O131),ROUND(O131/('Shareholding Pattern'!$P$58)*100,2),\"\"),0)","v":0.01},null,null,"",{"$f":"+IFERROR(IF(COUNT(K131,S131),ROUND(SUM(S131,K131)/SUM('Shareholding Pattern'!$L$57,'Shareholding Pattern'!$T$57)*100,2),\"\"),0)","v":0.01},null,"",null,"",0,{"$nulls":3},1]
[{"$nulls":4},118,"G.NEEL REDDY","EQEEE9999Z",75000,null,null,75000,{"$f":"+IFERROR(IF(COUNT(K132),ROUND(K132/'Shareholding Pattern'!$L$57*100,2),\"\"),0)","v":0.34},{"v":75000,"d":"75000.00"},null,{"v":75000,"d":"75000.00"},{"$f":"+IFERROR(IF(COUNT(O132),ROUND(O132/('Shareholding Pattern'!$P$58)*100,2),\"\"),0)","v":0.34},null,null,"",{"$f":"+IFERROR(IF(COUNT(K132,S132),ROUND(SUM(S132,K132)/SUM('Shareholding Pattern'!$L$57,'Shareholding Pattern'!$T$57)*100,2),\"\"),0)","v":0.34},null,"",null,"",0,{"$nulls":3},1]
[]
[{"$nulls":5},"Click here to go back","Total",{"$f":"+IFERROR(IF(COUNT(H14:H133),ROUND(SUM(H14:H133),0),\"\"),\"\")","v":448000},{"$f":"+IFERROR(IF(COUNT(I14:I133),ROUND(SUM(I14:I133),0),\"\"),\"\")","v":""},{"$f":"+IFERROR(IF(COUNT(J14:J133),ROUND(SUM(J14:J133),0),\"\"),\"\")","v":""},{"$f":"+IFERROR(IF(COUNT(K14:K133),ROUND(SUM(K14:K133),0),\"\"),\"\")","v":448000},{"$f":"+IFERROR(IF(COUNT(K134),ROUND(K134/'Shareholding Pattern'!$L$57*100,2),\"\"),0)","v":2.04},{"$f":"+IFERROR(IF(COUNT(M14:M133),ROUND(SUM(M14:M133),0),\"\"),\"\")","v":{"v":448000,"d":"448000.00"}},{"$f":"+IFERROR(IF(COUNT(N14:N133),ROUND(SUM(N14:N133),0),\"\"),\"\")","v":""},{"$f":"+IFERROR(IF(COUNT(O14:O133),ROUND(SUM(O14:O133),0),\"\"),\"\")","v":{"v":448000,"d":"448000.00"}},{"$f":"+IFERROR(IF(COUNT(O134),ROUND(O134/('Shareholding Pattern'!$P$58)*100,2),\"\"),0)","v":2.04},{"$f":"+IFERROR(IF(COUNT(Q14:Q133),ROUND(SUM(Q14:Q133),0),\"\"),\"\")","v":""},{"$f":"+IFERROR(IF(COUNT(R14:R133),ROUND(SUM(R14:R133),0),\"\"),\"\")","v":""},{"$f":"+IFERROR(IF(COUNT(S14:S133),ROUND(SUM(S14:S133),0),\"\"),\"\")","v":""},{"$f":"+IFERROR(IF(COUNT(K134,S134),ROUND(SUM(S134,K134)/SUM('Shareholding Pattern'!$L$57,'Shareholding Pattern'!$T$57)*100,2),\"\"),0)","v":2.04},{"$f":"+IFERROR(IF(COUNT(U14:U133),ROUND(SUM(U14:U133),0),\"\"),\"\")","v":""},{"$f":"+IFERROR(IF(COUNT(U134),ROUND(SUM(U134)/SUM(K134)*100,2),\"\"),0)","v":""},{"$f":"+IFERROR(IF(COUNT(W14:W133),ROUND(SUM(W14:W133),0),\"\"),\"\")","v":""},{"$f":"+IFERROR(IF(COUNT(W134),ROUND(SUM(W134)/SUM(K134)*100,2),\"\"),0)","v":""},{"$f":"+IFERROR(IF(COUNT(Y14:Y133),ROUND(SUM(Y14:Y133),0),\"\"),\"\")","v":0}]

{"sheet":"Government","index":11,"n_rows":23,"n_cols":30,"rows_kept":23,"hidden":true,"merged":[[8,4,10,4],[8,5,10,5],[8,6,10,6],[8,7,10,7],[8,8,10,8],[8,9,10,9],[8,10,10,10],[8,11,10,11],[8,12,8,15],[8,16,10,16],[8,17,10,17],[8,18,10,18],[8,19,10,19],[8,20,9,21],[8,22,9,23],[8,24,10,24],[8,25,10,25],[9,12,9,14],[9,15,10,15]]}
[{"$nulls":8},0]
[{"$nulls":5},"Name of shareholder","Permanent account number of shareholder","Number of fully paid up equity shares","Number of partly paid-up equity shares","Number of shares underlying outstanding depository receipts","Total number of shares","Shareholding as a percentage of total number of shares held by promoters and public shareholders and custodians or DR holders","Number of voting rights held by same class of securities","Number of voting rights held by differential voting rights","Total Number of voting rights","Percentage of total number of voting rights","Number of shares underlying outstanding convertible securities","Number of warrant","Number of warrant and convertible securities","Total shareholding as a percentage assuming full conversion of convertible securities","Number of the locked-in-shares ","Locked-in-shares as a percentage of total number of shares","Pledged or encumbered - number of shares","Pledged or encumbered shares held as percentage of total number of shares","Number of equity shares held in dematerialized form","Reason for not providing PAN"]
[]
[]
[]
[]
[]
[]
[{"$nulls":4},"Searial No.","Name\nof the \nShareholders\n     (I)","PAN \n(II)","No. of fully paid up equity shares held\n(IV)","No. Of Partly paid-up equity shares held\n(V)","No. Of shares underlying Depository Receipts\n(VI)","Total nos. shares\nheld\n(VII) = (IV)+(V)+ (VI)","Shareholding as a % of total no. of shares (calculated as per SCRR, 1957)\n(VIII)\nAs a % of (A+B+C2)","Number of Voting Rights held in each class of securities\n(IX)",{"$nulls":3},"No. Of Shares Underlying Outstanding convertible securities\n(X)","No. of Shares Underlying Outstanding Warrants (Xi)","No. Of Shares Underlying Outstanding convertible securities and No. Of Warrants\n(Xi) (a)","Shareholding , as a % assuming full conversion of convertible securities (as a percentage of diluted share capital)\n(XI)= (VII)+(X)\nAs a % of (A+B+C2)","Number of Locked in shares\n(XII)",null,"Number of Shares pledged or otherwise encumbered\n(XIII)",null,"Number of equity shares held in dematerialized form \n(XIV)","Reason for not providing PAN"]
[{"$nulls":12},"No of Voting (XIV)\nRights",null,null,"Total as\na % of\nTotal\nVoting\nrights"]
[{"$nulls":12},"Class\neg:\nX","Class\neg:y","Total",{"$nulls":5},"No.\n(a)","As a % of total Shares held\n(b)","No.\n(a)","As a % of total Shares held\n(b)"]
[{"$nulls":4},"A2(a)","Government"]
[{"$nulls":10},{"$f":"+IFERROR(IF(COUNT(H13:J13),ROUND(SUM(H13:J13),0),\"\"),\"\")","v":""},{"$f":"+IFERROR(IF(COUNT(K13),ROUND(K13/'Shareholding Pattern'!$L$57*100,2),\"\"),0)","v":""},{"$f":"IF(H13=\"\",\"\",H13)","v":""},null,{"$f":"+IFERROR(IF(COUNT(M13:N13),ROUND(SUM(M13,N13),2),\"\"),\"\")","v":""},{"$f":"+IFERROR(IF(COUNT(O13),ROUND(O13/('Shareholding Pattern'!$P$58)*100,2),\"\"),0)","v":""},null,null,{"$f":"+IFERROR(IF(COUNT(Q13:R13),ROUND(SUM(Q13:R13),0),\"\"),\"\")","v":""},{"$f":"+IFERROR(IF(COUNT(K13,S13),ROUND(SUM(S13,K13)/SUM('Shareholding Pattern'!$L$57,'Shareholding Pattern'!$T$57)*100,2),\"\"),0)","v":""},null,{"$f":"+IFERROR(IF(COUNT(U13),ROUND(SUM(U13)/SUM(K13)*100,2),\"\"),0)","v":""},null,{"$f":"+IFERROR(IF(COUNT(W13),ROUND(SUM(W13)/SUM(K13)*100,2),\"\"),0)","v":""},{"$nulls":4},{"$f":"IF(SUM(H13:I13)>0,1,0)","v":0},{"$f":"IF(COUNT(H15:$Y$15000)=0,\"\",SUM(AC1:AC65533))","v":""}]
[]
[]
[{"$nulls":5},"Click here to go back","Total",{"$f":"+IFERROR(IF(COUNT(H14:H15),ROUND(SUM(H14:H15),0),\"\"),\"\")","v":""},{"$f":"+IFERROR(IF(COUNT(I14:I15),ROUND(SUM(I14:I15),0),\"\"),\"\")","v":""},{"$f":"+IFERROR(IF(COUNT(J14:J15),ROUND(SUM(J14:J15),0),\"\"),\"\")","v":""},{"$f":"+IFERROR(IF(COUNT(K14:K15),ROUND(SUM(K14:K15),0),\"\"),\"\")","v":""},{"$f":"+IFERROR(IF(COUNT(K16),ROUND(K16/'Shareholding Pattern'!$L$57*100,2),\"\"),0)","v":""},{"$f":"+IFERROR(IF(COUNT(M14:M15),ROUND(SUM(M14:M15),0),\"\"),\"\")","v":""},{"$f":"+IFERROR(IF(COUNT(N14:N15),ROUND(SUM(N14:N15),0),\"\"),\"\")","v":""},{"$f":"+IFERROR(IF(COUNT(O14:O15),ROUND(SUM(O14:O15),0),\"\"),\"\")","v":""},{"$f":"+IFERROR(IF(COUNT(O16),ROUND(O16/('Shareholding Pattern'!$P$58)*100,2),\"\"),0)","v":""},{"$f":"+IFERROR(IF(COUNT(Q14:Q15),ROUND(SUM(Q14:Q15),0),\"\"),\"\")","v":""},{"$f":"+IFERROR(IF(COUNT(R14:R15),ROUND(SUM(R14:R15),0),\"\"),\"\")","v":""},{"$f":"+IFERROR(IF(COUNT(S14:S15),ROUND(SUM(S14:S15),0),\"\"),\"\")","v":""},{"$f":"+IFERROR(IF(COUNT(K16,S16),ROUND(SUM(S16,K16)/SUM('Shareholding Pattern'!$L$57,'Shareholding Pattern'!$T$57)*100,2),\"\"),0)","v":""},{"$f":"+IFERROR(IF(COUNT(U14:U15),ROUND(SUM(U14:U15),0),\"\"),\"\")","v":""},{"$f":"+IFERROR(IF(COUNT(U16),ROUND(SUM(U16)/SUM(K16)*100,2),\"\"),0)","v":""},{"$f":"+IFERROR(IF(COUNT(W14:W15),ROUND(SUM(W14:W15),0),\"\"),\"\")","v":""},{"$f":"+IFERROR(IF(COUNT(W16),ROUND(SUM(W16)/SUM(K16)*100,2),\"\"),0)","v":""},{"$f":"+IFERROR(IF(COUNT(Y14:Y15),ROUND(SUM(Y14:Y15),0),\"\"),\"\")","v":""}]
[]
[]
[]
[]
[]
[]
[{"$nulls":8}," "]

{"sheet":"Institutions","index":12,"n_rows":16,"n_cols":44,"rows_kept":16,"hidden":true,"merged":[[8,4,10,4],[8,5,10,5],[8,6,10,6],[8,7,10,7],[8,8,10,8],[8,9,10,9],[8,10,10,10],[8,11,10,11],[8,12,8,15],[8,16,10,16],[8,17,10,17],[8,18,10,18],[8,19,10,19],[8,20,9,21],[8,22,9,23],[8,24,10,24],[8,25,10,25],[9,12,9,14],[9,15,10,15]]}
[{"$nulls":8},0]
[{"$nulls":5},"Name of shareholder","Permanent account number of shareholder","Number of fully paid up equity shares","Number of partly paid-up equity shares","Number of shares underlying outstanding depository receipts","Total number of shares","Shareholding as a percentage of total number of shares held by promoters and public shareholders and custodians or DR holders","Number of voting rights held by same class of securities","Number of voting rights held by differential voting rights","Total Number of voting rights","Percentage of total number of voting rights","Number of shares underlying outstanding convertible securities","Number of warrant","Number of warrant and convertible securities","Total shareholding as a percentage assuming full conversion of convertible securities","Number of the locked-in-shares ","Locked-in-shares as a percentage of total number of shares","Pledged or encumbered - number of shares","Pledged or encumbered shares held as percentage of total number of shares","Number of equity shares held in dematerialized form","Reason for not providing PAN"]
[]
[]
[]
[]
[{"$nulls":43},"Trusts"]
[{"$nulls":43},"Societies"]
[{"$nulls":4},"Searial No.","Name\nof the \nShareholders\n     (I)","PAN \n(II)","No. of fully paid up equity shares held\n(IV)","No. Of Partly paid-up equity shares held\n(V)","No. Of shares underlying Depository Receipts\n(VI)","Total nos. shares\nheld\n(VII) = (IV)+(V)+ (VI)","Shareholding as a % of total no. of shares (calculated as per SCRR, 1957)\n(VIII)\nAs a % of (A+B+C2)","Number of Voting Rights held in each class of securities\n(IX)",{"$nulls":3},"No. Of Shares Underlying Outstanding convertible securities\n(X)","No. of Shares Underlying Outstanding Warrants (Xi)","No. Of Shares Underlying Outstanding convertible securities and No. Of Warrants\n(Xi) (a)","Shareholding , as a % assuming full conversion of convertible securities (as a percentage of diluted share capital)\n(XI)= (VII)+(X)\nAs a % of (A+B+C2)","Number of Locked in shares\n(XII)",null,"Number of Shares pledged or otherwise encumbered\n(XIII)",null,"Number of equity shares held in dematerialized form \n(XIV)","Reason for not providing PAN",{"$nulls":17},"ESOP or ESOS or ESPS"]
[{"$nulls":12},"No of Voting (XIV)\nRights",null,null,"Total as\na % of\nTotal\nVoting\nrights",{"$nulls":27},"Employee welfare fund"]
[{"$nulls":12},"Class\neg:\nX","Class\neg:y","Total",{"$nulls":5},"No.\n(a)","As a % of total Shares held\n(b)","No.\n(a)","As a % of total Shares held\n(b)",{"$nulls":19},"Overseas corporate bodies"]
[{"$nulls":4},"A2(c)","Institutions",{"$nulls":37},"Venture capital funds"]
[{"$nulls":10},{"$f":"+IFERROR(IF(COUNT(H13:J13),ROUND(SUM(H13:J13),0),\"\"),\"\")","v":""},{"$f":"+IFERROR(IF(COUNT(K13),ROUND(K13/'Shareholding Pattern'!$L$57*100,2),\"\"),0)","v":""},{"$f":"IF(H13=\"\",\"\",H13)","v":""},null,{"$f":"+IFERROR(IF(COUNT(M13:N13),ROUND(SUM(M13,N13),2),\"\"),\"\")","v":""},{"$f":"+IFERROR(IF(COUNT(O13),ROUND(O13/('Shareholding Pattern'!$P$58)*100,2),\"\"),0)","v":""},null,null,{"$f":"+IFERROR(IF(COUNT(Q13:R13),ROUND(SUM(Q13:R13),0),\"\"),\"\")","v":""},{"$f":"+IFERROR(IF(COUNT(K13,S13),ROUND(SUM(S13,K13)/SUM('Shareholding Pattern'!$L$57,'Shareholding Pattern'!$T$57)*100,2),\"\"),0)","v":""},null,{"$f":"+IFERROR(IF(COUNT(U13),ROUND(SUM(U13)/SUM(K13)*100,2),\"\"),0)","v":""},null,{"$f":"+IFERROR(IF(COUNT(W13),ROUND(SUM(W13)/SUM(K13)*100,2),\"\"),0)","v":""},{"$nulls":4},{"$f":"IF(SUM(H13:Y13)>0,1,0)","v":0},{"$f":"IF(COUNT(H15:$Y$15000)=0,\"\",SUM(AC1:AC65533))","v":""},{"$nulls":13},"Angel Investors"]
[{"$nulls":43},"Private Equity Fund"]
[]
[{"$nulls":5},"Click here to go back","Total",{"$f":"+IFERROR(IF(COUNT(H14:H15),ROUND(SUM(H14:H15),0),\"\"),\"\")","v":""},{"$f":"+IFERROR(IF(COUNT(I14:I15),ROUND(SUM(I14:I15),0),\"\"),\"\")","v":""},{"$f":"+IFERROR(IF(COUNT(J14:J15),ROUND(SUM(J14:J15),0),\"\"),\"\")","v":""},{"$f":"+IFERROR(IF(COUNT(K14:K15),ROUND(SUM(K14:K15),0),\"\"),\"\")","v":""},{"$f":"+IFERROR(IF(COUNT(K16),ROUND(K16/'Shareholding Pattern'!$L$57*100,2),\"\"),0)","v":""},{"$f":"+IFERROR(IF(COUNT(M14:M15),ROUND(SUM(M14:M15),0),\"\"),\"\")","v":""},{"$f":"+IFERROR(IF(COUNT(N14:N15),ROUND(SUM(N14:N15),0),\"\"),\"\")","v":""},{"$f":"+IFERROR(IF(COUNT(O14:O15),ROUND(SUM(O14:O15),0),\"\"),\"\")","v":""},{"$f":"+IFERROR(IF(COUNT(O16),ROUND(O16/('Shareholding Pattern'!$P$58)*100,2),\"\"),0)","v":""},{"$f":"+IFERROR(IF(COUNT(Q14:Q15),ROUND(SUM(Q14:Q15),0),\"\"),\"\")","v":""},{"$f":"+IFERROR(IF(COUNT(R14:R15),ROUND(SUM(R14:R15),0),\"\"),\"\")","v":""},{"$f":"+IFERROR(IF(COUNT(S14:S15),ROUND(SUM(S14:S15),0),\"\"),\"\")","v":""},{"$f":"+IFERROR(IF(COUNT(K16,S16),ROUND(SUM(S16,K16)/SUM('Shareholding Pattern'!$L$57,'Shareholding Pattern'!$T$57)*100,2),\"\"),0)","v":""},{"$f":"+IFERROR(IF(COUNT(U14:U15),ROUND(SUM(U14:U15),0),\"\"),\"\")","v":""},{"$f":"+IFERROR(IF(COUNT(U16),ROUND(SUM(U16)/SUM(K16)*100,2),\"\"),0)","v":""},{"$f":"+IFERROR(IF(COUNT(W14:W15),ROUND(SUM(W14:W15),0),\"\"),\"\")","v":""},{"$f":"+IFERROR(IF(COUNT(W16),ROUND(SUM(W16)/SUM(K16)*100,2),\"\"),0)","v":""},{"$f":"+IFERROR(IF(COUNT(Y14:Y15),ROUND(SUM(Y14:Y15),0),\"\"),\"\")","v":""}]

{"sheet":"FPIPromoter","index":13,"n_rows":16,"n_cols":44,"rows_kept":16,"hidden":true,"merged":[[8,4,10,4],[8,5,10,5],[8,6,10,6],[8,7,10,7],[8,8,10,8],[8,9,10,9],[8,10,10,10],[8,11,10,11],[8,12,8,15],[8,16,10,16],[8,17,10,17],[8,18,10,18],[8,19,10,19],[8,20,9,21],[8,22,9,23],[8,24,10,24],[8,25,10,25],[9,12,9,14],[9,15,10,15]]}
[{"$nulls":8},0]
[{"$nulls":5},"Name of shareholder","Permanent account number of shareholder","Number of fully paid up equity shares","Number of partly paid-up equity shares","Number of shares underlying outstanding depository receipts","Total number of shares","Shareholding as a percentage of total number of shares held by promoters and public shareholders and custodians or DR holders","Number of voting rights held by same class of securities","Number of voting rights held by differential voting rights","Total Number of voting rights","Percentage of total number of voting rights","Number of shares underlying outstanding convertible securities","Number of warrant","Number of warrant and convertible securities","Total shareholding as a percentage assuming full conversion of convertible securities","Number of the locked-in-shares ","Locked-in-shares as a percentage of total number of shares","Pledged or encumbered - number of shares","Pledged or encumbered shares held as percentage of total number of shares","Number of equity shares held in dematerialized form","Reason for not providing PAN"]
[]
[]
[]
[]
[{"$nulls":43},"Trusts"]
[{"$nulls":43},"Societies"]
[{"$nulls":4},"Searial No.","Name\nof the \nShareholders\n     (I)","PAN \n(II)","No. of fully paid up equity shares held\n(IV)","No. Of Partly paid-up equity shares held\n(V)","No. Of shares underlying Depository Receipts\n(VI)","Total nos. shares\nheld\n(VII) = (IV)+(V)+ (VI)","Shareholding as a % of total no. of shares (calculated as per SCRR, 1957)\n(VIII)\nAs a % of (A+B+C2)","Number of Voting Rights held in each class of securities\n(IX)",{"$nulls":3},"No. Of Shares Underlying Outstanding convertible securities\n(X)","No. of Shares Underlying Outstanding Warrants (Xi)","No. Of Shares Underlying Outstanding convertible securities and No. Of Warrants\n(Xi) (a)","Shareholding , as a % assuming full conversion of convertible securities (as a percentage of diluted share capital)\n(XI)= (VII)+(X)\nAs a % of (A+B+C2)","Number of Locked in shares\n(XII)",null,"Number of Shares pledged or otherwise encumbered\n(XIII)",null,"Number of equity shares held in dematerialized form \n(XIV)","Reason for not providing PAN",{"$nulls":17},"ESOP or ESOS or ESPS"]
[{"$nulls":12},"No of Voting (XIV)\nRights",null,null,"Total as\na % of\nTotal\nVoting\nrights",{"$nulls":27},"Employee welfare fund"]
[{"$nulls":12},"Class\neg:\nX","Class\neg:y","Total",{"$nulls":5},"No.\n(a)","As a % of total Shares held\n(b)","No.\n(a)","As a % of total Shares held\n(b)",{"$nulls":19},"Overseas corporate bodies"]
[{"$nulls":4},"A2(d)","Foreign Portfolio Investor",{"$nulls":37},"Venture capital funds"]
[{"$nulls":10},{"$f":"+IFERROR(IF(COUNT(H13:J13),ROUND(SUM(H13:J13),0),\"\"),\"\")","v":""},{"$f":"+IFERROR(IF(COUNT(K13),ROUND(K13/'Shareholding Pattern'!$L$57*100,2),\"\"),0)","v":""},{"$f":"IF(H13=\"\",\"\",H13)","v":""},null,{"$f":"+IFERROR(IF(COUNT(M13:N13),ROUND(SUM(M13,N13),2),\"\"),\"\")","v":""},{"$f":"+IFERROR(IF(COUNT(O13),ROUND(O13/('Shareholding Pattern'!$P$58)*100,2),\"\"),0)","v":""},null,null,{"$f":"+IFERROR(IF(COUNT(Q13:R13),ROUND(SUM(Q13:R13),0),\"\"),\"\")","v":""},{"$f":"+IFERROR(IF(COUNT(K13,S13),ROUND(SUM(S13,K13)/SUM('Shareholding Pattern'!$L$57,'Shareholding Pattern'!$T$57)*100,2),\"\"),0)","v":""},null,{"$f":"+IFERROR(IF(COUNT(U13),ROUND(SUM(U13)/SUM(K13)*100,2),\"\"),0)","v":""},null,{"$f":"+IFERROR(IF(COUNT(W13),ROUND(SUM(W13)/SUM(K13)*100,2),\"\"),0)","v":""},{"$nulls":4},{"$f":"IF(SUM(H13:Y13)>0,1,0)","v":0},{"$f":"IF(COUNT(H15:$Y$15000)=0,\"\",SUM(AC1:AC65533))","v":""},{"$nulls":13},"Angel Investors"]
[{"$nulls":43},"Private Equity Fund"]
[]
[{"$nulls":5},"Click here to go back ","Total",{"$f":"+IFERROR(IF(COUNT(H14:H15),ROUND(SUM(H14:H15),0),\"\"),\"\")","v":""},{"$f":"+IFERROR(IF(COUNT(I14:I15),ROUND(SUM(I14:I15),0),\"\"),\"\")","v":""},{"$f":"+IFERROR(IF(COUNT(J14:J15),ROUND(SUM(J14:J15),0),\"\"),\"\")","v":""},{"$f":"+IFERROR(IF(COUNT(K14:K15),ROUND(SUM(K14:K15),0),\"\"),\"\")","v":""},{"$f":"+IFERROR(IF(COUNT(K16),ROUND(K16/'Shareholding Pattern'!$L$57*100,2),\"\"),0)","v":""},{"$f":"+IFERROR(IF(COUNT(M14:M15),ROUND(SUM(M14:M15),0),\"\"),\"\")","v":""},{"$f":"+IFERROR(IF(COUNT(N14:N15),ROUND(SUM(N14:N15),0),\"\"),\"\")","v":""},{"$f":"+IFERROR(IF(COUNT(O14:O15),ROUND(SUM(O14:O15),0),\"\"),\"\")","v":""},{"$f":"+IFERROR(IF(COUNT(O16),ROUND(O16/('Shareholding Pattern'!$P$58)*100,2),\"\"),0)","v":""},{"$f":"+IFERROR(IF(COUNT(Q14:Q15),ROUND(SUM(Q14:Q15),0),\"\"),\"\")","v":""},{"$f":"+IFERROR(IF(COUNT(R14:R15),ROUND(SUM(R14:R15),0),\"\"),\"\")","v":""},{"$f":"+IFERROR(IF(COUNT(S14:S15),ROUND(SUM(S14:S15),0),\"\"),\"\")","v":""},{"$f":"+IFERROR(IF(COUNT(K16,S16),ROUND(SUM(S16,K16)/SUM('Shareholding Pattern'!$L$57,'Shareholding Pattern'!$T$57)*100,2),\"\"),0)","v":""},{"$f":"+IFERROR(IF(COUNT(U14:U15),ROUND(SUM(U14:U15),0),\"\"),\"\")","v":""},{"$f":"+IFERROR(IF(COUNT(U16),ROUND(SUM(U16)/SUM(K16)*100,2),\"\"),0)","v":""},{"$f":"+IFERROR(IF(COUNT(W14:W15),ROUND(SUM(W14:W15),0),\"\"),\"\")","v":""},{"$f":"+IFERROR(IF(COUNT(W16),ROUND(SUM(W16)/SUM(K16)*100,2),\"\"),0)","v":""},{"$f":"+IFERROR(IF(COUNT(Y14:Y15),ROUND(SUM(Y14:Y15),0),\"\"),\"\")","v":""}]

{"sheet":"OtherForeign","index":14,"n_rows":16,"n_cols":48,"rows_kept":16,"hidden":true,"merged":[[8,3,10,3],[8,4,10,4],[8,5,10,5],[8,6,10,6],[8,7,10,7],[8,8,10,8],[8,9,10,9],[8,10,10,10],[8,11,10,11],[8,12,10,12],[8,13,10,13],[8,14,8,17],[8,18,10,18],[8,19,10,19],[8,20,10,20],[8,21,10,21],[8,22,9,23],[8,24,9,25],[8,26,10,26],[8,27,10,27],[9,14,9,16],[9,17,10,17]]}
[{"$nulls":8},0]
[{"$nulls":4},"Category of other foreign shareholders","Category or more than one percentage","Name of shareholder","Permanent account number of shareholder","Number of shareholders","Number of fully paid up equity shares","Number of partly paid-up equity shares","Number of shares underlying outstanding depository receipts","Total number of shares","Shareholding as a percentage of total number of shares held by promoters and public shareholders and custodians or DR holders","Number of voting rights held by same class of securities","Number of voting rights held by differential voting rights","Total Number of voting rights","Percentage of total number of voting rights","Number of shares underlying outstanding convertible securities","Number of warrant","Number of warrant and convertible securities","Total shareholding as a percentage assuming full conversion of convertible securities","Number of the locked-in-shares ","Locked-in-shares as a percentage of total number of shares","Pledged or encumbered - number of shares","Pledged or encumbered shares held as percentage of total number of shares","Number of equity shares held in dematerialized form","Reason for not providing PAN"]
[{"$nulls":43},"Bodies Corporate","Other"]
[]
[]
[]
[]
[]
[{"$nulls":3},"Searial No.","Category",null,"Name\nof the \nShareholders\n     (I)","PAN \n(II)","No.\nof the \nShareholders\n     (I)","No. of fully paid up equity shares held\n(IV)","No. Of Partly paid-up equity shares held\n(V)","No. Of shares underlying Depository Receipts\n(VI)","Total nos. shares\nheld\n(VII) = (IV)+(V)+ (VI)","Shareholding as a % of total no. of shares (calculated as per SCRR, 1957)\n(VIII)\nAs a % of (A+B+C2)","Number of Voting Rights held in each class of securities\n(IX)",{"$nulls":3},"No. Of Shares Underlying Outstanding convertible securities\n(X)","No. of Shares Underlying Outstanding Warrants (Xi)","No. Of Shares Underlying Outstanding convertible securities and No. Of Warrants\n(Xi) (a)","Shareholding , as a % assuming full conversion of convertible securities (as a percentage of diluted share capital)\n(XI)= (VII)+(X)\nAs a % of (A+B+C2)","Number of Locked in shares\n(XII)",null,"Number of Shares pledged or otherwise encumbered\n(XIII)",null,"Number of equity shares held in dematerialized form \n(XIV)","Reason for not providing PAN",{"$nulls":19},"Category"]
[{"$nulls":14},"No of Voting (XIV)\nRights",null,null,"Total as\na % of\nTotal\nVoting\nrights",{"$nulls":29},"More than 1 percentage of shareholding"]
[{"$nulls":14},"Class\neg:\nX","Class\neg:y","Total",{"$nulls":5},"No.\n(a)","As a % of total Shares held\n(b)","No.\n(a)","As a % of total Shares held\n(b)"]
[{"$nulls":3},"A2(d)","Any Other (specify)"]
[{"$nulls":12},{"$f":"+IFERROR(IF(COUNT(J13:L13),ROUND(SUM(J13:L13),0),\"\"),\"\")","v":""},{"$f":"+IFERROR(IF(COUNT(M13),ROUND(M13/'Shareholding Pattern'!$L$57*100,2),\"\"),0)","v":""},{"$f":"IF(J13=\"\",\"\",J13)","v":""},null,{"$f":"+IFERROR(IF(COUNT(O13:P13),ROUND(SUM(O13,P13),0),\"\"),\"\")","v":""},{"$f":"+IFERROR(IF(COUNT(Q13),ROUND(Q13/('Shareholding Pattern'!$P$58)*100,2),\"\"),0)","v":""},null,null,{"$f":"+IFERROR(IF(COUNT(S13:T13),ROUND(SUM(S13:T13),0),\"\"),\"\")","v":""},{"$f":"+IFERROR(IF(COUNT(M13,U13),ROUND(SUM(U13,M13)/SUM('Shareholding Pattern'!$L$57,'Shareholding Pattern'!$T$57)*100,2),\"\"),0)","v":""},null,{"$f":"+IFERROR(IF(W13=\"\",\"\",(IF(COUNT(W13,M13),ROUND(SUM(W13)/SUM(M13)*100,2),\"\"))),0)","v":""},null,{"$f":"+IFERROR(IF(Y13=\"\",\"\",(IF(COUNT(Y13,M13),ROUND(SUM(Y13)/SUM(M13)*100,2),\"\"))),0)","v":""},null,null,{"$f":"IF(SUM(I13:AA13),1,0)","v":0},{"$f":"IF(COUNT(H15:$Y$15000)=0,\"\",SUM(AC1:AC65533))","v":""}]
[]
[]
[{"$nulls":6},"Click here to go back","Total",{"$f":"+IFERROR(IF(COUNT(I14:I15),ROUND(SUM(I14:I15),0),\"\"),\"\")","v":""},{"$f":"+IFERROR(IF(COUNT(J14:J15),ROUND(SUM(J14:J15),0),\"\"),\"\")","v":""},{"$f":"+IFERROR(IF(COUNT(K14:K15),ROUND(SUM(K14:K15),0),\"\"),\"\")","v":""},{"$f":"+IFERROR(IF(COUNT(L14:L15),ROUND(SUM(L14:L15),0),\"\"),\"\")","v":""},{"$f":"+IFERROR(IF(COUNT(M14:M15),ROUND(SUM(M14:M15),0),\"\"),\"\")","v":""},{"$f":"+IFERROR(IF(COUNT(M16),ROUND(M16/'Shareholding Pattern'!$L$57*100,2),\"\"),0)","v":""},{"$f":"+IFERROR(IF(COUNT(O14:O15),ROUND(SUM(O14:O15),0),\"\"),\"\")","v":""},{"$f":"+IFERROR(IF(COUNT(P14:P15),ROUND(SUM(P14:P15),0),\"\"),\"\")","v":""},{"$f":"+IFERROR(IF(COUNT(Q14:Q15),ROUND(SUM(Q14:Q15),0),\"\"),\"\")","v":""},{"$f":"+IFERROR(IF(COUNT(Q16),ROUND(Q16/('Shareholding Pattern'!$P$58)*100,2),\"\"),0)","v":""},{"$f":"+IFERROR(IF(COUNT(S14:S15),ROUND(SUM(S14:S15),0),\"\"),\"\")","v":""},{"$f":"+IFERROR(IF(COUNT(T14:T15),ROUND(SUM(T14:T15),0),\"\"),\"\")","v":""},{"$f":"+IFERROR(IF(COUNT(U14:U15),ROUND(SUM(U14:U15),0),\"\"),\"\")","v":""},{"$f":"+IFERROR(IF(COUNT(M16,U16),ROUND(SUM(U16,M16)/SUM('Shareholding Pattern'!$L$57,'Shareholding Pattern'!$T$57)*100,2),\"\"),0)","v":""},{"$f":"+IFERROR(IF(COUNT(W14:W15),ROUND(SUM(W14:W15),0),\"\"),\"\")","v":""},{"$f":"+IFERROR(IF(COUNT(W16,J16),ROUND(SUM(W16)/SUM(M16)*100,2),\"\"),0)","v":""},{"$f":"+IFERROR(IF(COUNT(Y14:Y15),ROUND(SUM(Y14:Y15),0),\"\"),\"\")","v":""},{"$f":"+IFERROR(IF(COUNT(Y16,J16),ROUND(SUM(Y16)/SUM(M16)*100,2),\"\"),0)","v":""},{"$f":"+IFERROR(IF(COUNT(AA14:AA15),ROUND(SUM(AA14:AA15),0),\"\"),\"\")","v":""}]

{"sheet":"MutuaFund","index":15,"n_rows":16,"n_cols":44,"rows_kept":16,"hidden":true,"merged":[[8,4,10,4],[8,5,10,5],[8,6,10,6],[8,7,10,7],[8,8,10,8],[8,9,10,9],[8,10,10,10],[8,11,10,11],[8,12,8,15],[8,16,10,16],[8,17,10,17],[8,18,10,18],[8,19,10,19],[8,20,9,21],[8,22,10,22],[8,23,10,23],[9,12,9,14],[9,15,10,15]]}
[{"$nulls":8},0]
[{"$nulls":5},"Name of shareholder","Permanent account number of shareholder","Number of fully paid up equity shares","Number of partly paid-up equity shares","Number of shares underlying outstanding depository receipts","Total number of shares","Shareholding as a percentage of total number of shares held by promoters and public shareholders and custodians or DR holders","Number of voting rights held by same class of securities","Number of voting rights held by differential voting rights","Total Number of voting rights","Percentage of total number of voting rights","Number of shares underlying outstanding convertible securities","Number of warrant","Number of warrant and convertible securities","Total shareholding as a percentage assuming full conversion of convertible securities","Number of the locked-in-shares ","Locked-in-shares as a percentage of total number of shares","Number of equity shares held in dematerialized form","Reason for not providing PAN"]
[]
[]
[]
[]
[{"$nulls":43},"NRI"]
[{"$nulls":43},"Trusts"]
[{"$nulls":4},"Searial No.","Name\nof the \nShareholders\n     (I)","PAN \n(II)","No. of fully paid up equity shares held\n(IV)","No. Of Partly paid-up equity shares held\n(V)","No. Of shares underlying Depository Receipts\n(VI)","Total nos. shares\nheld\n(VII) = (IV)+(V)+ (VI)","Shareholding as a % of total no. of shares (calculated as per SCRR, 1957)\n(VIII)\nAs a % of (A+B+C2)","Number of Voting Rights held in each class of securities\n(IX)",{"$nulls":3},"No. Of Shares Underlying Outstanding convertible securities\n(X)","No. of Shares Underlying Outstanding Warrants (Xi)","No. Of Shares Underlying Outstanding convertible securities and No. Of Warrants\n(Xi) (a)","Shareholding , as a % assuming full conversion of convertible securities (as a percentage of diluted share capital)\n(XI)= (VII)+(X)\nAs a % of (A+B+C2)","Number of Locked in shares\n(XII)",null,"Number of equity shares held in dematerialized form \n(XIV)","Reason for not providing PAN",{"$nulls":19},"Market Maker"]
[{"$nulls":12},"No of Voting (XIV)\nRights",null,null,"Total as\na % of\nTotal\nVoting\nrights",{"$nulls":27},"HUF"]
[{"$nulls":12},"Class\neg:\nX","Class\neg:y","Total",{"$nulls":5},"No.\n(a)","As a % of total Shares held\n(b)",{"$nulls":21},"Clearing Members"]
[{"$nulls":4},"B1(a)","Mutual Funds",{"$nulls":37},"NSDL or CDSL transit"]
[{"$nulls":10},{"$f":"+IFERROR(IF(COUNT(H13:J13),ROUND(SUM(H13:J13),0),\"\"),\"\")","v":""},{"$f":"+IFERROR(IF(COUNT(K13),ROUND(K13/'Shareholding Pattern'!$L$57*100,2),\"\"),\"\")","v":""},{"$f":"IF(H13=\"\",\"\",H13)","v":""},null,{"$f":"+IFERROR(IF(COUNT(M13:N13),ROUND(SUM(M13,N13),2),\"\"),\"\")","v":""},{"$f":"+IFERROR(IF(COUNT(O13),ROUND(O13/('Shareholding Pattern'!$P$58)*100,2),\"\"),\"\")","v":""},null,null,{"$f":"+IFERROR(IF(COUNT(Q13:R13),ROUND(SUM(Q13:R13),0),\"\"),\"\")","v":""},{"$f":"+IFERROR(IF(COUNT(K13,S13),ROUND(SUM(S13,K13)/SUM('Shareholding Pattern'!$L$57,'Shareholding Pattern'!$T$57)*100,2),\"\"),\"\")","v":""},null,{"$f":"+IFERROR(IF(COUNT(U13),ROUND(SUM(U13)/SUM(K13)*100,2),\"\"),0)","v":""},{"$nulls":6},{"$f":"IF(SUM(H13:W13)>0,1,0)","v":0},{"$f":"SUM(AC15:AC65535)","v":0},{"$nulls":13},"Employee welfare fund"]
[{"$nulls":6},"Disclosure of shareholder holding more than 1% of total number of shares",{"$nulls":36},"Overseas corporate bodies"]
[]
[{"$nulls":5},"Click here to go back","Total",{"$f":"+IFERROR(IF(COUNT(H14:H15),ROUND(SUM(H14:H15),0),\"\"),\"\")","v":""},{"$f":"+IFERROR(IF(COUNT(I14:I15),ROUND(SUM(I14:I15),0),\"\"),\"\")","v":""},{"$f":"+IFERROR(IF(COUNT(J14:J15),ROUND(SUM(J14:J15),0),\"\"),\"\")","v":""},{"$f":"+IFERROR(IF(COUNT(K14:K15),ROUND(SUM(K14:K15),0),\"\"),\"\")","v":""},{"$f":"+IFERROR(IF(COUNT(K16),ROUND(K16/'Shareholding Pattern'!$L$57*100,2),\"\"),\"\")","v":""},{"$f":"+IFERROR(IF(COUNT(M14:M15),ROUND(SUM(M14:M15),0),\"\"),\"\")","v":""},{"$f":"+IFERROR(IF(COUNT(N14:N15),ROUND(SUM(N14:N15),0),\"\"),\"\")","v":""},{"$f":"+IFERROR(IF(COUNT(O14:O15),ROUND(SUM(O14:O15),0),\"\"),\"\")","v":""},{"$f":"+IFERROR(IF(COUNT(O16),ROUND(O16/('Shareholding Pattern'!$P$58)*100,2),\"\"),\"\")","v":""},{"$f":"+IFERROR(IF(COUNT(Q14:Q15),ROUND(SUM(Q14:Q15),0),\"\"),\"\")","v":""},{"$f":"+IFERROR(IF(COUNT(R14:R15),ROUND(SUM(R14:R15),0),\"\"),\"\")","v":""},{"$f":"+IFERROR(IF(COUNT(S14:S15),ROUND(SUM(S14:S15),0),\"\"),\"\")","v":""},{"$f":"+IFERROR(IF(COUNT(K16,S16),ROUND(SUM(S16,K16)/SUM('Shareholding Pattern'!$L$57,'Shareholding Pattern'!$T$57)*100,2),\"\"),\"\")","v":""},{"$f":"+IFERROR(IF(COUNT(U14:U15),ROUND(SUM(U14:U15),0),\"\"),\"\")","v":""},{"$f":"+IFERROR(IF(COUNT(U16),ROUND(SUM(U16)/SUM(K16)*100,2),\"\"),0)","v":""},{"$f":"+IFERROR(IF(COUNT(W14:W15),ROUND(SUM(W14:W15),0),\"\"),\"\")","v":""}]

{"sheet":"VentureCap","index":16,"n_rows":16,"n_cols":44,"rows_kept":16,"hidden":true,"merged":[[8,4,10,4],[8,5,10,5],[8,6,10,6],[8,7,10,7],[8,8,10,8],[8,9,10,9],[8,10,10,10],[8,11,10,11],[8,12,8,15],[8,16,10,16],[8,17,10,17],[8,18,10,18],[8,19,10,19],[8,20,9,21],[8,22,10,22],[8,23,10,23],[9,12,9,14],[9,15,10,15]]}
[{"$nulls":8},0]
[{"$nulls":5},"Name of shareholder","Permanent account number of shareholder","Number of fully paid up equity shares","Number of partly paid-up equity shares","Number of shares underlying outstanding depository receipts","Total number of shares","Shareholding as a percentage of total number of shares held by promoters and public shareholders and custodians or DR holders","Number of voting rights held by same class of securities","Number of voting rights held by differential voting rights","Total Number of voting rights","Percentage of total number of voting rights","Number of shares underlying outstanding convertible securities","Number of warrant","Number of warrant and convertible securities","Total shareholding as a percentage assuming full conversion of convertible securities","Number of the locked-in-shares ","Locked-in-shares as a percentage of total number of shares","Number of equity shares held in dematerialized form","Reason for not providing PAN"]
[]
[]
[]
[]
[{"$nulls":43},"NRI"]
[{"$nulls":43},"Trusts"]
[{"$nulls":4},"Searial No.","Name\nof the \nShareholders\n     (I)","PAN \n(II)","No. of fully paid up equity shares held\n(IV)","No. Of Partly paid-up equity shares held\n(V)","No. Of shares underlying Depository Receipts\n(VI)","Total nos. shares\nheld\n(VII) = (IV)+(V)+ (VI)","Shareholding as a % of total no. of shares (calculated as per SCRR, 1957)\n(VIII)\nAs a % of (A+B+C2)","Number of Voting Rights held in each class of securities\n(IX)",{"$nulls":3},"No. Of Shares Underlying Outstanding convertible securities\n(X)","No. of Shares Underlying Outstanding Warrants (Xi)","No. Of Shares Underlying Outstanding convertible securities and No. Of Warrants\n(Xi) (a)","Shareholding , as a % assuming full conversion of convertible securities (as a percentage of diluted share capital)\n(XI)= (VII)+(X)\nAs a % of (A+B+C2)","Number of Locked in shares\n(XII)",null,"Number of equity shares held in dematerialized form \n(XIV)","Reason for not providing PAN",{"$nulls":19},"Market Maker"]
[{"$nulls":12},"No of Voting (XIV)\nRights",null,null,"Total as\na % of\nTotal\nVoting\nrights",{"$nulls":27},"HUF"]
[{"$nulls":12},"Class\neg:\nX","Class\neg:y","Total",{"$nulls":5},"No.\n(a)","As a % of total Shares held\n(b)",{"$nulls":21},"Clearing Members"]
[{"$nulls":4},"B1(b)","Venture Capital Funds",{"$nulls":37},"NSDL or CDSL transit"]
[{"$nulls":10},{"$f":"+IFERROR(IF(COUNT(H13:J13),ROUND(SUM(H13:J13),0),\"\"),\"\")","v":""},{"$f":"+IFERROR(IF(COUNT(K13),ROUND(K13/'Shareholding Pattern'!$L$57*100,2),\"\"),\"\")","v":""},{"$f":"IF(H13=\"\",\"\",H13)","v":""},null,{"$f":"+IFERROR(IF(COUNT(M13:N13),ROUND(SUM(M13,N13),2),\"\"),\"\")","v":""},{"$f":"+IFERROR(IF(COUNT(O13),ROUND(O13/('Shareholding Pattern'!$P$58)*100,2),\"\"),\"\")","v":""},null,null,{"$f":"+IFERROR(IF(COUNT(Q13:R13),ROUND(SUM(Q13:R13),0),\"\"),\"\")","v":""},{"$f":"+IFERROR(IF(COUNT(K13,S13),ROUND(SUM(S13,K13)/SUM('Shareholding Pattern'!$L$57,'Shareholding Pattern'!$T$57)*100,2),\"\"),\"\")","v":""},null,{"$f":"+IFERROR(IF(COUNT(U13),ROUND(SUM(U13)/SUM(K13)*100,2),\"\"),0)","v":""},{"$nulls":6},{"$f":"IF(SUM(H13:W13)>0,1,0)","v":0},{"$f":"SUM(AC15:AC65535)","v":0},{"$nulls":13},"Employee welfare fund"]
[{"$nulls":6},"\nDisclosure of shareholder holding more than 1% of total number of shares",{"$nulls":36},"Overseas corporate bodies"]
[{"$nulls":43},"Private equity fund"]
[{"$nulls":5},"Click here to go back","Total",{"$f":"+IFERROR(IF(COUNT(H14:H15),ROUND(SUM(H14:H15),0),\"\"),\"\")","v":""},{"$f":"+IFERROR(IF(COUNT(I14:I15),ROUND(SUM(I14:I15),0),\"\"),\"\")","v":""},{"$f":"+IFERROR(IF(COUNT(J14:J15),ROUND(SUM(J14:J15),0),\"\"),\"\")","v":""},{"$f":"+IFERROR(IF(COUNT(K14:K15),ROUND(SUM(K14:K15),0),\"\"),\"\")","v":""},{"$f":"+IFERROR(IF(COUNT(K16),ROUND(K16/'Shareholding Pattern'!$L$57*100,2),\"\"),\"\")","v":""},{"$f":"+IFERROR(IF(COUNT(M14:M15),ROUND(SUM(M14:M15),0),\"\"),\"\")","v":""},{"$f":"+IFERROR(IF(COUNT(N14:N15),ROUND(SUM(N14:N15),0),\"\"),\"\")","v":""},{"$f":"+IFERROR(IF(COUNT(O14:O15),ROUND(SUM(O14:O15),0),\"\"),\"\")","v":""},{"$f":"+IFERROR(IF(COUNT(O16),ROUND(O16/('Shareholding Pattern'!$P$58)*100,2),\"\"),\"\")","v":""},{"$f":"+IFERROR(IF(COUNT(Q14:Q15),ROUND(SUM(Q14:Q15),0),\"\"),\"\")","v":""},{"$f":"+IFERROR(IF(COUNT(R14:R15),ROUND(SUM(R14:R15),0),\"\"),\"\")","v":""},{"$f":"+IFERROR(IF(COUNT(S14:S15),ROUND(SUM(S14:S15),0),\"\"),\"\")","v":""},{"$f":"+IFERROR(IF(COUNT(K16,S16),ROUND(SUM(S16,K16)/SUM('Shareholding Pattern'!$L$57,'Shareholding Pattern'!$T$57)*100,2),\"\"),\"\")","v":""},{"$f":"+IFERROR(IF(COUNT(U14:U15),ROUND(SUM(U14:U15),0),\"\"),\"\")","v":""},{"$f":"+IFERROR(IF(COUNT(U16),ROUND(SUM(U16)/SUM(K16)*100,2),\"\"),0)","v":""},{"$f":"+IFERROR(IF(COUNT(W14:W15),ROUND(SUM(W14:W15),0),\"\"),\"\")","v":""},{"$nulls":20},"Other"]

{"sheet":"AIF","index":17,"n_rows":16,"n_cols":44,"rows_kept":16,"hidden":true,"merged":[[8,4,10,4],[8,5,10,5],[8,6,10,6],[8,7,10,7],[8,8,10,8],[8,9,10,9],[8,10,10,10],[8,11,10,11],[8,12,8,15],[8,16,10,16],[8,17,10,17],[8,18,10,18],[8,19,10,19],[8,20,9,21],[8,22,10,22],[8,23,10,23],[9,12,9,14],[9,15,10,15]]}
[{"$nulls":8},0]
[{"$nulls":5},"Name of shareholder","Permanent account number of shareholder","Number of fully paid up equity shares","Number of partly paid-up equity shares","Number of shares underlying outstanding depository receipts","Total number of shares","Shareholding as a percentage of total number of shares held by promoters and public shareholders and custodians or DR holders","Number of voting rights held by same class of securities","Number of voting rights held by differential voting rights","Total Number of voting rights","Percentage of total number of voting rights","Number of shares underlying outstanding convertible securities","Number of warrant","Number of warrant and convertible securities","Total shareholding as a percentage assuming full conversion of convertible securities","Number of the locked-in-shares ","Locked-in-shares as a percentage of total number of shares","Number of equity shares held in dematerialized form","Reason for not providing PAN"]
[]
[]
[]
[]
[{"$nulls":43},"NRI"]
[{"$nulls":43},"Trusts"]
[{"$nulls":4},"Searial No.","Name\nof the \nShareholders\n     (I)","PAN \n(II)","No. of fully paid up equity shares held\n(IV)","No. Of Partly paid-up equity shares held\n(V)","No. Of shares underlying Depository Receipts\n(VI)","Total nos. shares\nheld\n(VII) = (IV)+(V)+ (VI)","Shareholding as a % of total no. of shares (calculated as per SCRR, 1957)\n(VIII)\nAs a % of (A+B+C2)","Number of Voting Rights held in each class of securities\n(IX)",{"$nulls":3},"No. Of Shares Underlying Outstanding convertible securities\n(X)","No. of Shares Underlying Outstanding Warrants (Xi)","No. Of Shares Underlying Outstanding convertible securities and No. Of Warrants\n(Xi) (a)","Shareholding , as a % assuming full conversion of convertible securities (as a percentage of diluted share capital)\n(XI)= (VII)+(X)\nAs a % of (A+B+C2)","Number of Locked in shares\n(XII)",null,"Number of equity shares held in dematerialized form \n(XIV)","Reason for not providing PAN",{"$nulls":19},"Market Maker"]
[{"$nulls":12},"No of Voting (XIV)\nRights",null,null,"Total as\na % of\nTotal\nVoting\nrights",{"$nulls":27},"HUF"]
[{"$nulls":12},"Class\neg:\nX","Class\neg:y","Total",{"$nulls":5},"No.\n(a)","As a % of total Shares held\n(b)",{"$nulls":21},"Clearing Members"]
[{"$nulls":4},"B1(c)","Alternate Investment Funds",{"$nulls":37},"NSDL or CDSL transit"]
[{"$nulls":10},{"$f":"+IFERROR(IF(COUNT(H13:J13),ROUND(SUM(H13:J13),0),\"\"),\"\")","v":""},{"$f":"+IFERROR(IF(COUNT(K13),ROUND(K13/'Shareholding Pattern'!$L$57*100,2),\"\"),\"\")","v":""},{"$f":"IF(H13=\"\",\"\",H13)","v":""},null,{"$f":"+IFERROR(IF(COUNT(M13:N13),ROUND(SUM(M13,N13),2),\"\"),\"\")","v":""},{"$f":"+IFERROR(IF(COUNT(O13),ROUND(O13/('Shareholding Pattern'!$P$58)*100,2),\"\"),\"\")","v":""},null,null,{"$f":"+IFERROR(IF(COUNT(Q13:R13),ROUND(SUM(Q13:R13),0),\"\"),\"\")","v":""},{"$f":"+IFERROR(IF(COUNT(K13,S13),ROUND(SUM(S13,K13)/SUM('Shareholding Pattern'!$L$57,'Shareholding Pattern'!$T$57)*100,2),\"\"),\"\")","v":""},null,{"$f":"+IFERROR(IF(COUNT(U13),ROUND(SUM(U13)/SUM(K13)*100,2),\"\"),0)","v":""},{"$nulls":6},{"$f":"IF(SUM(H13:W13)>0,1,0)","v":0},{"$f":"SUM(AC15:AC65535)","v":0},{"$nulls":13},"Employee welfare fund"]
[{"$nulls":6},"Disclosure of shareholder holding more than 1% of total number of shares",{"$nulls":36},"Overseas corporate bodies"]
[{"$nulls":43},"Private equity fund"]
[{"$nulls":5},"Click here to go back","Total",{"$f":"+IFERROR(IF(COUNT(H14:H15),ROUND(SUM(H14:H15),0),\"\"),\"\")","v":""},{"$f":"+IFERROR(IF(COUNT(I14:I15),ROUND(SUM(I14:I15),0),\"\"),\"\")","v":""},{"$f":"+IFERROR(IF(COUNT(J14:J15),ROUND(SUM(J14:J15),0),\"\"),\"\")","v":""},{"$f":"+IFERROR(IF(COUNT(K14:K15),ROUND(SUM(K14:K15),0),\"\"),\"\")","v":""},{"$f":"+IFERROR(IF(COUNT(K16),ROUND(K16/'Shareholding Pattern'!$L$57*100,2),\"\"),\"\")","v":""},{"$f":"+IFERROR(IF(COUNT(M14:M15),ROUND(SUM(M14:M15),0),\"\"),\"\")","v":""},{"$f":"+IFERROR(IF(COUNT(N14:N15),ROUND(SUM(N14:N15),0),\"\"),\"\")","v":""},{"$f":"+IFERROR(IF(COUNT(O14:O15),ROUND(SUM(O14:O15),0),\"\"),\"\")","v":""},{"$f":"+IFERROR(IF(COUNT(O16),ROUND(O16/('Shareholding Pattern'!$P$58)*100,2),\"\"),\"\")","v":""},{"$f":"+IFERROR(IF(COUNT(Q14:Q15),ROUND(SUM(Q14:Q15),0),\"\"),\"\")","v":""},{"$f":"+IFERROR(IF(COUNT(R14:R15),ROUND(SUM(R14:R15),0),\"\"),\"\")","v":""},{"$f":"+IFERROR(IF(COUNT(S14:S15),ROUND(SUM(S14:S15),0),\"\"),\"\")","v":""},{"$f":"+IFERROR(IF(COUNT(K16,S16),ROUND(SUM(S16,K16)/SUM('Shareholding Pattern'!$L$57,'Shareholding Pattern'!$T$57)*100,2),\"\"),\"\")","v":""},{"$f":"+IFERROR(IF(COUNT(U14:U15),ROUND(SUM(U14:U15),0),\"\"),\"\")","v":""},{"$f":"+IFERROR(IF(COUNT(U16),ROUND(SUM(U16)/SUM(K16)*100,2),\"\"),0)","v":""},{"$f":"+IFERROR(IF(COUNT(W14:W15),ROUND(SUM(W14:W15),0),\"\"),\"\")","v":""},{"$nulls":20},"Other"]

{"sheet":"FVC","index":18,"n_rows":16,"n_cols":44,"rows_kept":16,"hidden":true,"merged":[[8,4,10,4],[8,5,10,5],[8,6,10,6],[8,7,10,7],[8,8,10,8],[8,9,10,9],[8,10,10,10],[8,11,10,11],[8,12,8,15],[8,16,10,16],[8,17,10,17],[8,18,10,18],[8,19,10,19],[8,20,9,21],[8,22,10,22],[8,23,10,23],[9,12,9,14],[9,15,10,15]]}
[{"$nulls":8},0]
[{"$nulls":5},"Name of shareholder","Permanent account number of shareholder","Number of fully paid up equity shares","Number of partly paid-up equity shares","Number of shares underlying outstanding depository receipts","Total number of shares","Shareholding as a percentage of total number of shares held by promoters and public shareholders and custodians or DR holders","Number of voting rights held by same class of securities","Number of voting rights held by differential voting rights","Total Number of voting rights","Percentage of total number of voting rights","Number of shares underlying outstanding convertible securities","Number of warrant","Number of warrant and convertible securities","Total shareholding as a percentage assuming full conversion of convertible securities","Number of the locked-in-shares ","Locked-in-shares as a percentage of total number of shares","Number of equity shares held in dematerialized form","Reason for not providing PAN"]
[]
[]
[]
[]
[{"$nulls":43},"NRI"]
[{"$nulls":43},"Trusts"]
[{"$nulls":4},"Searial No.","Name\nof the \nShareholders\n     (I)","PAN \n(II)","No. of fully paid up equity shares held\n(IV)","No. Of Partly paid-up equity shares held\n(V)","No. Of shares underlying Depository Receipts\n(VI)","Total nos. shares\nheld\n(VII) = (IV)+(V)+ (VI)","Shareholding as a % of total no. of shares (calculated as per SCRR, 1957)\n(VIII)\nAs a % of (A+B+C2)","Number of Voting Rights held in each class of securities\n(IX)",{"$nulls":3},"No. Of Shares Underlying Outstanding convertible securities\n(X)","No. of Shares Underlying Outstanding Warrants (Xi)","No. Of Shares Underlying Outstanding convertible securities and No. Of Warrants\n(Xi) (a)","Shareholding , as a % assuming full conversion of convertible securities (as a percentage of diluted share capital)\n(XI)= (VII)+(X)\nAs a % of (A+B+C2)","Number of Locked in shares\n(XII)",null,"Number of equity shares held in dematerialized form \n(XIV)","Reason for not providing PAN",{"$nulls":19},"Market Maker"]
[{"$nulls":12},"No of Voting (XIV)\nRights",null,null,"Total as\na % of\nTotal\nVoting\nrights",{"$nulls":27},"HUF"]
[{"$nulls":12},"Class\neg:\nX","Class\neg:y","Total",{"$nulls":5},"No.\n(a)","As a % of total Shares held\n(b)",{"$nulls":21},"Clearing Members"]
[{"$nulls":4},"B1(d)","Foreign Venture Capital Investors",{"$nulls":37},"NSDL or CDSL transit"]
[{"$nulls":10},{"$f":"+IFERROR(IF(COUNT(H13:J13),ROUND(SUM(H13:J13),0),\"\"),\"\")","v":""},{"$f":"+IFERROR(IF(COUNT(K13),ROUND(K13/'Shareholding Pattern'!$L$57*100,2),\"\"),\"\")","v":""},{"$f":"IF(H13=\"\",\"\",H13)","v":""},null,{"$f":"+IFERROR(IF(COUNT(M13:N13),ROUND(SUM(M13,N13),2),\"\"),\"\")","v":""},{"$f":"+IFERROR(IF(COUNT(O13),ROUND(O13/('Shareholding Pattern'!$P$58)*100,2),\"\"),\"\")","v":""},null,null,{"$f":"+IFERROR(IF(COUNT(Q13:R13),ROUND(SUM(Q13:R13),0),\"\"),\"\")","v":""},{"$f":"+IFERROR(IF(COUNT(K13,S13),ROUND(SUM(S13,K13)/SUM('Shareholding Pattern'!$L$57,'Shareholding Pattern'!$T$57)*100,2),\"\"),\"\")","v":""},null,{"$f":"+IFERROR(IF(COUNT(U13),ROUND(SUM(U13)/SUM(K13)*100,2),\"\"),0)","v":""},{"$nulls":6},{"$f":"IF(SUM(H13:W13)>0,1,0)","v":0},{"$f":"SUM(AC13:AC65535)","v":0},{"$nulls":13},"Employee welfare fund"]
[{"$nulls":6},"Disclosure of shareholder holding more than 1% of total number of shares",{"$nulls":36},"Overseas corporate bodies"]
[{"$nulls":43},"Private equity fund"]
[{"$nulls":5},"Click here to go back","Total",{"$f":"+IFERROR(IF(COUNT(H14:H15),ROUND(SUM(H14:H15),0),\"\"),\"\")","v":""},{"$f":"+IFERROR(IF(COUNT(I14:I15),ROUND(SUM(I14:I15),0),\"\"),\"\")","v":""},{"$f":"+IFERROR(IF(COUNT(J14:J15),ROUND(SUM(J14:J15),0),\"\"),\"\")","v":""},{"$f":"+IFERROR(IF(COUNT(K14:K15),ROUND(SUM(K14:K15),0),\"\"),\"\")","v":""},{"$f":"+IFERROR(IF(COUNT(K16),ROUND(K16/'Shareholding Pattern'!$L$57*100,2),\"\"),\"\")","v":""},{"$f":"+IFERROR(IF(COUNT(M14:M15),ROUND(SUM(M14:M15),0),\"\"),\"\")","v":""},{"$f":"+IFERROR(IF(COUNT(N14:N15),ROUND(SUM(N14:N15),0),\"\"),\"\")","v":""},{"$f":"+IFERROR(IF(COUNT(O14:O15),ROUND(SUM(O14:O15),0),\"\"),\"\")","v":""},{"$f":"+IFERROR(IF(COUNT(O16),ROUND(O16/('Shareholding Pattern'!$P$58)*100,2),\"\"),\"\")","v":""},{"$f":"+IFERROR(IF(COUNT(Q14:Q15),ROUND(SUM(Q14:Q15),0),\"\"),\"\")","v":""},{"$f":"+IFERROR(IF(COUNT(R14:R15),ROUND(SUM(R14:R15),0),\"\"),\"\")","v":""},{"$f":"+IFERROR(IF(COUNT(S14:S15),ROUND(SUM(S14:S15),0),\"\"),\"\")","v":""},{"$f":"+IFERROR(IF(COUNT(K16,S16),ROUND(SUM(S16,K16)/SUM('Shareholding Pattern'!$L$57,'Shareholding Pattern'!$T$57)*100,2),\"\"),\"\")","v":""},{"$f":"+IFERROR(IF(COUNT(U14:U15),ROUND(SUM(U14:U15),0),\"\"),\"\")","v":""},{"$f":"+IFERROR(IF(COUNT(U16),ROUND(SUM(U16)/SUM(K16)*100,2),\"\"),0)","v":""},{"$f":"+IFERROR(IF(COUNT(W14:W15),ROUND(SUM(W14:W15),0),\"\"),\"\")","v":""},{"$nulls":20},"Other"]

{"sheet":"FPI_Insti","index":19,"n_rows":16,"n_cols":44,"rows_kept":16,"hidden":true,"merged":[[8,4,10,4],[8,5,10,5],[8,6,10,6],[8,7,10,7],[8,8,10,8],[8,9,10,9],[8,10,10,10],[8,11,10,11],[8,12,8,15],[8,16,10,16],[8,17,10,17],[8,18,10,18],[8,19,10,19],[8,20,9,21],[8,22,10,22],[8,23,10,23],[9,12,9,14],[9,15,10,15]]}
[{"$nulls":8},0]
[{"$nulls":5},"Name of shareholder","Permanent account number of shareholder","Number of fully paid up equity shares","Number of partly paid-up equity shares","Number of shares underlying outstanding depository receipts","Total number of shares","Shareholding as a percentage of total number of shares held by promoters and public shareholders and custodians or DR holders","Number of voting rights held by same class of securities","Number of voting rights held by differential voting rights","Total Number of voting rights","Percentage of total number of voting rights","Number of shares underlying outstanding convertible securities","Number of warrant","Number of warrant and convertible securities","Total shareholding as a percentage assuming full conversion of convertible securities","Number of the locked-in-shares ","Locked-in-shares as a percentage of total number of shares","Number of equity shares held in dematerialized form","Reason for not providing PAN"]
[]
[]
[]
[]
[{"$nulls":43},"NRI"]
[{"$nulls":43},"Trusts"]
[{"$nulls":4},"Searial No.","Name\nof the \nShareholders\n     (I)","PAN \n(II)","No. of fully paid up equity shares held\n(IV)","No. Of Partly paid-up equity shares held\n(V)","No. Of shares underlying Depository Receipts\n(VI)","Total nos. shares\nheld\n(VII) = (IV)+(V)+ (VI)","Shareholding as a % of total no. of shares (calculated as per SCRR, 1957)\n(VIII)\nAs a % of (A+B+C2)","Number of Voting Rights held in each class of securities\n(IX)",{"$nulls":3},"No. Of Shares Underlying Outstanding convertible securities\n(X)","No. of Shares Underlying Outstanding Warrants (Xi)","No. Of Shares Underlying Outstanding convertible securities and No. Of Warrants\n(Xi) (a)","Shareholding , as a % assuming full conversion of convertible securities (as a percentage of diluted share capital)\n(XI)= (VII)+(X)\nAs a % of (A+B+C2)","Number of Locked in shares\n(XII)",null,"Number of equity shares held in dematerialized form \n(XIV)","Reason for not providing PAN",{"$nulls":19},"Market Maker"]
[{"$nulls":12},"No of Voting (XIV)\nRights",null,null,"Total as\na % of\nTotal\nVoting\nrights",{"$nulls":27},"HUF"]
[{"$nulls":12},"Class\neg:\nX","Class\neg:y","Total",{"$nulls":5},"No.\n(a)","As a % of total Shares held\n(b)",{"$nulls":21},"Clearing Members"]
[{"$nulls":4},"B1(e)","Foreign Portfolio Investors",{"$nulls":37},"NSDL or CDSL transit"]
[{"$nulls":10},{"$f":"+IFERROR(IF(COUNT(H13:J13),ROUND(SUM(H13:J13),0),\"\"),\"\")","v":""},{"$f":"+IFERROR(IF(COUNT(K13),ROUND(K13/'Shareholding Pattern'!$L$57*100,2),\"\"),\"\")","v":""},{"$f":"IF(H13=\"\",\"\",H13)","v":""},null,{"$f":"+IFERROR(IF(COUNT(M13:N13),ROUND(SUM(M13,N13),2),\"\"),\"\")","v":""},{"$f":"+IFERROR(IF(COUNT(O13),ROUND(O13/('Shareholding Pattern'!$P$58)*100,2),\"\"),\"\")","v":""},null,null,{"$f":"+IFERROR(IF(COUNT(Q13:R13),ROUND(SUM(Q13:R13),0),\"\"),\"\")","v":""},{"$f":"+IFERROR(IF(COUNT(K13,S13),ROUND(SUM(S13,K13)/SUM('Shareholding Pattern'!$L$57,'Shareholding Pattern'!$T$57)*100,2),\"\"),\"\")","v":""},null,{"$f":"+IFERROR(IF(COUNT(U13),ROUND(SUM(U13)/SUM(K13)*100,2),\"\"),0)","v":""},{"$nulls":6},{"$f":"IF(SUM(H13:W13)>0,1,0)","v":0},{"$f":"SUM(AC15:AC65535)","v":0},{"$nulls":13},"Employee welfare fund"]
[{"$nulls":6},"Disclosure of shareholder holding more than 1% of total number of shares",{"$nulls":36},"Overseas corporate bodies"]
[{"$nulls":43},"Private equity fund"]
[{"$nulls":5},"Click here to go back","Total",{"$f":"+IFERROR(IF(COUNT(H14:H15),ROUND(SUM(H14:H15),0),\"\"),\"\")","v":""},{"$f":"+IFERROR(IF(COUNT(I14:I15),ROUND(SUM(I14:I15),0),\"\"),\"\")","v":""},{"$f":"+IFERROR(IF(COUNT(J14:J15),ROUND(SUM(J14:J15),0),\"\"),\"\")","v":""},{"$f":"+IFERROR(IF(COUNT(K14:K15),ROUND(SUM(K14:K15),0),\"\"),\"\")","v":""},{"$f":"+IFERROR(IF(COUNT(K16),ROUND(K16/'Shareholding Pattern'!$L$57*100,2),\"\"),\"\")","v":""},{"$f":"+IFERROR(IF(COUNT(M14:M15),ROUND(SUM(M14:M15),0),\"\"),\"\")","v":""},{"$f":"+IFERROR(IF(COUNT(N14:N15),ROUND(SUM(N14:N15),0),\"\"),\"\")","v":""},{"$f":"+IFERROR(IF(COUNT(O14:O15),ROUND(SUM(O14:O15),0),\"\"),\"\")","v":""},{"$f":"+IFERROR(IF(COUNT(O16),ROUND(O16/('Shareholding Pattern'!$P$58)*100,2),\"\"),\"\")","v":""},{"$f":"+IFERROR(IF(COUNT(Q14:Q15),ROUND(SUM(Q14:Q15),0),\"\"),\"\")","v":""},{"$f":"+IFERROR(IF(COUNT(R14:R15),ROUND(SUM(R14:R15),0),\"\"),\"\")","v":""},{"$f":"+IFERROR(IF(COUNT(S14:S15),ROUND(SUM(S14:S15),0),\"\"),\"\")","v":""},{"$f":"+IFERROR(IF(COUNT(K16,S16),ROUND(SUM(S16,K16)/SUM('Shareholding Pattern'!$L$57,'Shareholding Pattern'!$T$57)*100,2),\"\"),\"\")","v":""},{"$f":"+IFERROR(IF(COUNT(U14:U15),ROUND(SUM(U14:U15),0),\"\"),\"\")","v":""},{"$f":"+IFERROR(IF(COUNT(U16),ROUND(SUM(U16)/SUM(K16)*100,2),\"\"),0)","v":""},{"$f":"+IFERROR(IF(COUNT(W14:W15),ROUND(SUM(W14:W15),0),\"\"),\"\")","v":""},{"$nulls":20},"Other"]

{"sheet":"Bank_Insti","index":20,"n_rows":16,"n_cols":44,"rows_kept":16,"merged":[[8,4,10,4],[8,5,10,5],[8,6,10,6],[8,7,10,7],[8,8,10,8],[8,9,10,9],[8,10,10,10],[8,11,10,11],[8,12,8,15],[8,16,10,16],[8,17,10,17],[8,18,10,18],[8,19,10,19],[8,20,9,21],[8,22,10,22],[8,23,10,23],[9,12,9,14],[9,15,10,15]]}
[{"$nulls":8},0]
[{"$nulls":5},"Name of shareholder","Permanent account number of shareholder","Number of fully paid up equity shares","Number of partly paid-up equity shares","Number of shares underlying outstanding depository receipts","Total number of shares","Shareholding as a percentage of total number of shares held by promoters and public shareholders and custodians or DR holders","Number of voting rights held by same class of securities","Number of voting rights held by differential voting rights","Total Number of voting rights","Percentage of total number of voting rights","Number of shares underlying outstanding convertible securities","Number of warrant","Number of warrant and convertible securities","Total shareholding as a percentage assuming full conversion of convertible securities","Number of the locked-in-shares ","Locked-in-shares as a percentage of total number of shares","Number of equity shares held in dematerialized form","Reason for not providing PAN"]
[]
[]
[]
[]
[{"$nulls":43},"NRI"]
[{"$nulls":43},"Trusts"]
[{"$nulls":4},"Searial No.","Name\nof the \nShareholders\n     (I)","PAN \n(II)","No. of fully paid up equity shares held\n(IV)","No. Of Partly paid-up equity shares held\n(V)","No. Of shares underlying Depository Receipts\n(VI)","Total nos. shares\nheld\n(VII) = (IV)+(V)+ (VI)","Shareholding as a % of total no. of shares (calculated as per SCRR, 1957)\n(VIII)\nAs a % of (A+B+C2)","Number of Voting Rights held in each class of securities\n(IX)",{"$nulls":3},"No. Of Shares Underlying Outstanding convertible securities\n(X)","No. of Shares Underlying Outstanding Warrants (Xi)","No. Of Shares Underlying Outstanding convertible securities and No. Of Warrants\n(Xi) (a)","Shareholding , as a % assuming full conversion of convertible securities (as a percentage of diluted share capital)\n(XI)= (VII)+(X)\nAs a % of (A+B+C2)","Number of Locked in shares\n(XII)",null,"Number of equity shares held in dematerialized form \n(XIV)","Reason for not providing PAN",{"$nulls":19},"Market Maker"]
[{"$nulls":12},"No of Voting (XIV)\nRights",null,null,"Total as\na % of\nTotal\nVoting\nrights",{"$nulls":27},"HUF"]
[{"$nulls":12},"Class\neg:\nX","Class\neg:y","Total",{"$nulls":5},"No.\n(a)","As a % of total Shares held\n(b)",{"$nulls":21},"Clearing Members"]
[{"$nulls":4},"B1(f)","Financial  Institutions/ Banks",{"$nulls":37},"NSDL or CDSL transit"]
[{"$nulls":10},{"$f":"+IFERROR(IF(COUNT(H13:J13),ROUND(SUM(H13:J13),0),\"\"),\"\")","v":""},{"$f":"+IFERROR(IF(COUNT(K13),ROUND(K13/'Shareholding Pattern'!$L$57*100,2),\"\"),\"\")","v":""},{"$f":"IF(H13=\"\",\"\",H13)","v":""},null,{"$f":"+IFERROR(IF(COUNT(M13:N13),ROUND(SUM(M13,N13),2),\"\"),\"\")","v":""},{"$f":"+IFERROR(IF(COUNT(O13),ROUND(O13/('Shareholding Pattern'!$P$58)*100,2),\"\"),\"\")","v":""},null,null,{"$f":"+IFERROR(IF(COUNT(Q13:R13),ROUND(SUM(Q13:R13),0),\"\"),\"\")","v":""},{"$f":"+IFERROR(IF(COUNT(K13,S13),ROUND(SUM(S13,K13)/SUM('Shareholding Pattern'!$L$57,'Shareholding Pattern'!$T$57)*100,2),\"\"),\"\")","v":""},null,{"$f":"+IFERROR(IF(COUNT(U13),ROUND(SUM(U13)/SUM(K13)*100,2),\"\"),0)","v":""},{"$nulls":6},{"$f":"IF(SUM(H13:W13)>0,1,0)","v":0},{"$f":"SUM(AC15:AC65535)","v":0},{"$nulls":13},"Employee welfare fund"]
[{"$nulls":6},"Disclosure of shareholder holding more than 1% of total number of shares",{"$nulls":36},"Overseas corporate bodies"]
[{"$nulls":43},"Private equity fund"]
[{"$nulls":5},"Click here to go back","Total",{"$f":"+IFERROR(IF(COUNT(H14:H15),ROUND(SUM(H14:H15),0),\"\"),\"\")","v":""},{"$f":"+IFERROR(IF(COUNT(I14:I15),ROUND(SUM(I14:I15),0),\"\"),\"\")","v":""},{"$f":"+IFERROR(IF(COUNT(J14:J15),ROUND(SUM(J14:J15),0),\"\"),\"\")","v":""},{"$f":"+IFERROR(IF(COUNT(K14:K15),ROUND(SUM(K14:K15),0),\"\"),\"\")","v":""},{"$f":"+IFERROR(IF(COUNT(K16),ROUND(K16/'Shareholding Pattern'!$L$57*100,2),\"\"),\"\")","v":""},{"$f":"+IFERROR(IF(COUNT(M14:M15),ROUND(SUM(M14:M15),0),\"\"),\"\")","v":""},{"$f":"+IFERROR(IF(COUNT(N14:N15),ROUND(SUM(N14:N15),0),\"\"),\"\")","v":""},{"$f":"+IFERROR(IF(COUNT(O14:O15),ROUND(SUM(O14:O15),0),\"\"),\"\")","v":""},{"$f":"+IFERROR(IF(COUNT(O16),ROUND(O16/('Shareholding Pattern'!$P$58)*100,2),\"\"),\"\")","v":""},{"$f":"+IFERROR(IF(COUNT(Q14:Q15),ROUND(SUM(Q14:Q15),0),\"\"),\"\")","v":""},{"$f":"+IFERROR(IF(COUNT(R14:R15),ROUND(SUM(R14:R15),0),\"\"),\"\")","v":""},{"$f":"+IFERROR(IF(COUNT(S14:S15),ROUND(SUM(S14:S15),0),\"\"),\"\")","v":""},{"$f":"+IFERROR(IF(COUNT(K16,S16),ROUND(SUM(S16,K16)/SUM('Shareholding Pattern'!$L$57,'Shareholding Pattern'!$T$57)*100,2),\"\"),\"\")","v":""},{"$f":"+IFERROR(IF(COUNT(U14:U15),ROUND(SUM(U14:U15),0),\"\"),\"\")","v":""},{"$f":"+IFERROR(IF(COUNT(U16),ROUND(SUM(U16)/SUM(K16)*100,2),\"\"),0)","v":""},{"$f":"+IFERROR(IF(COUNT(W14:W15),ROUND(SUM(W14:W15),0),\"\"),\"\")","v":""},{"$nulls":20},"Other"]

{"sheet":"Insurance","index":21,"n_rows":16,"n_cols":44,"rows_kept":16,"hidden":true,"merged":[[8,4,10,4],[8,5,10,5],[8,6,10,6],[8,7,10,7],[8,8,10,8],[8,9,10,9],[8,10,10,10],[8,11,10,11],[8,12,8,15],[8,16,10,16],[8,17,10,17],[8,18,10,18],[8,19,10,19],[8,20,9,21],[8,22,10,22],[8,23,10,23],[9,12,9,14],[9,15,10,15]]}
[{"$nulls":8},0]
[{"$nulls":5},"Name of shareholder","Permanent account number of shareholder","Number of fully paid up equity shares","Number of partly paid-up equity shares","Number of shares underlying outstanding depository receipts","Total number of shares","Shareholding as a percentage of total number of shares held by promoters and public shareholders and custodians or DR holders","Number of voting rights held by same class of securities","Number of voting rights held by differential voting rights","Total Number of voting rights","Percentage of total number of voting rights","Number of shares underlying outstanding convertible securities","Number of warrant","Number of warrant and convertible securities","Total shareholding as a percentage assuming full conversion of convertible securities","Number of the locked-in-shares ","Locked-in-shares as a percentage of total number of shares","Number of equity shares held in dematerialized form","Reason for not providing PAN"]
[]
[]
[]
[]
[{"$nulls":43},"NRI"]
[{"$nulls":43},"Trusts"]
[{"$nulls":4},"Searial No.","Name\nof the \nShareholders\n     (I)","PAN \n(II)","No. of fully paid up equity shares held\n(IV)","No. Of Partly paid-up equity shares held\n(V)","No. Of shares underlying Depository Receipts\n(VI)","Total nos. shares\nheld\n(VII) = (IV)+(V)+ (VI)","Shareholding as a % of total no. of shares (calculated as per SCRR, 1957)\n(VIII)\nAs a % of (A+B+C2)","Number of Voting Rights held in each class of securities\n(IX)",{"$nulls":3},"No. Of Shares Underlying Outstanding convertible securities\n(X)","No. of Shares Underlying Outstanding Warrants (Xi)","No. Of Shares Underlying Outstanding convertible securities and No. Of Warrants\n(Xi) (a)","Shareholding , as a % assuming full conversion of convertible securities (as a percentage of diluted share capital)\n(XI)= (VII)+(X)\nAs a % of (A+B+C2)","Number of Locked in shares\n(XII)",null,"Number of equity shares held in dematerialized form \n(XIV)","Reason for not providing PAN",{"$nulls":19},"Market Maker"]
[{"$nulls":12},"No of Voting (XIV)\nRights",null,null,"Total as\na % of\nTotal\nVoting\nrights",{"$nulls":27},"HUF"]
[{"$nulls":12},"Class\neg:\nX","Class\neg:y","Total",{"$nulls":5},"No.\n(a)","As a % of total Shares held\n(b)",{"$nulls":21},"Clearing Members"]
[{"$nulls":4},"B1(g)","Insurance  Companies",{"$nulls":37},"NSDL or CDSL transit"]
[{"$nulls":10},{"$f":"+IFERROR(IF(COUNT(H13:J13),ROUND(SUM(H13:J13),0),\"\"),\"\")","v":""},{"$f":"+IFERROR(IF(COUNT(K13),ROUND(K13/'Shareholding Pattern'!$L$57*100,2),\"\"),\"\")","v":""},{"$f":"IF(H13=\"\",\"\",H13)","v":""},null,{"$f":"+IFERROR(IF(COUNT(M13:N13),ROUND(SUM(M13,N13),2),\"\"),\"\")","v":""},{"$f":"+IFERROR(IF(COUNT(O13),ROUND(O13/('Shareholding Pattern'!$P$58)*100,2),\"\"),\"\")","v":""},null,null,{"$f":"+IFERROR(IF(COUNT(Q13:R13),ROUND(SUM(Q13:R13),0),\"\"),\"\")","v":""},{"$f":"+IFERROR(IF(COUNT(K13,S13),ROUND(SUM(S13,K13)/SUM('Shareholding Pattern'!$L$57,'Shareholding Pattern'!$T$57)*100,2),\"\"),\"\")","v":""},null,{"$f":"+IFERROR(IF(COUNT(U13),ROUND(SUM(U13)/SUM(K13)*100,2),\"\"),0)","v":""},{"$nulls":6},{"$f":"IF(SUM(H13:W13)>0,1,0)","v":0},{"$f":"SUM(AC15:AC65535)","v":0},{"$nulls":13},"Employee welfare fund"]
[{"$nulls":6},"\nDisclosure of shareholder holding more than 1% of total number of shares",{"$nulls":36},"Overseas corporate bodies"]
[{"$nulls":43},"Private equity fund"]
[{"$nulls":5},"Click here to go back","Total",{"$f":"+IFERROR(IF(COUNT(H14:H15),ROUND(SUM(H14:H15),0),\"\"),\"\")","v":""},{"$f":"+IFERROR(IF(COUNT(I14:I15),ROUND(SUM(I14:I15),0),\"\"),\"\")","v":""},{"$f":"+IFERROR(IF(COUNT(J14:J15),ROUND(SUM(J14:J15),0),\"\"),\"\")","v":""},{"$f":"+IFERROR(IF(COUNT(K14:K15),ROUND(SUM(K14:K15),0),\"\"),\"\")","v":""},{"$f":"+IFERROR(IF(COUNT(K16),ROUND(K16/'Shareholding Pattern'!$L$57*100,2),\"\"),\"\")","v":""},{"$f":"+IFERROR(IF(COUNT(M14:M15),ROUND(SUM(M14:M15),0),\"\"),\"\")","v":""},{"$f":"+IFERROR(IF(COUNT(N14:N15),ROUND(SUM(N14:N15),0),\"\"),\"\")","v":""},{"$f":"+IFERROR(IF(COUNT(O14:O15),ROUND(SUM(O14:O15),0),\"\"),\"\")","v":""},{"$f":"+IFERROR(IF(COUNT(O16),ROUND(O16/('Shareholding Pattern'!$P$58)*100,2),\"\"),\"\")","v":""},{"$f":"+IFERROR(IF(COUNT(Q14:Q15),ROUND(SUM(Q14:Q15),0),\"\"),\"\")","v":""},{"$f":"+IFERROR(IF(COUNT(R14:R15),ROUND(SUM(R14:R15),0),\"\"),\"\")","v":""},{"$f":"+IFERROR(IF(COUNT(S14:S15),ROUND(SUM(S14:S15),0),\"\"),\"\")","v":""},{"$f":"+IFERROR(IF(COUNT(K16,S16),ROUND(SUM(S16,K16)/SUM('Shareholding Pattern'!$L$57,'Shareholding Pattern'!$T$57)*100,2),\"\"),\"\")","v":""},{"$f":"+IFERROR(IF(COUNT(U14:U15),ROUND(SUM(U14:U15),0),\"\"),\"\")","v":""},{"$f":"+IFERROR(IF(COUNT(U16),ROUND(SUM(U16)/SUM(K16)*100,2),\"\"),0)","v":""},{"$f":"+IFERROR(IF(COUNT(W14:W15),ROUND(SUM(W14:W15),0),\"\"),\"\")","v":""},{"$nulls":20},"Other"]

{"sheet":"Pension","index":22,"n_rows":16,"n_cols":44,"rows_kept":16,"hidden":true,"merged":[[8,4,10,4],[8,5,10,5],[8,6,10,6],[8,7,10,7],[8,8,10,8],[8,9,10,9],[8,10,10,10],[8,11,10,11],[8,12,8,15],[8,16,10,16],[8,17,10,17],[8,18,10,18],[8,19,10,19],[8,20,9,21],[8,22,10,22],[8,23,10,23],[9,12,9,14],[9,15,10,15]]}
[{"$nulls":8},0]
[{"$nulls":5},"Name of shareholder","Permanent account number of shareholder","Number of fully paid up equity shares","Number of partly paid-up equity shares","Number of shares underlying outstanding depository receipts","Total number of shares","Shareholding as a percentage of total number of shares held by promoters and public shareholders and custodians or DR holders","Number of voting rights held by same class of securities","Number of voting rights held by differential voting rights","Total Number of voting rights","Percentage of total number of voting rights","Number of shares underlying outstanding convertible securities","Number of warrant","Number of warrant and convertible securities","Total shareholding as a percentage assuming full conversion of convertible securities","Number of the locked-in-shares ","Locked-in-shares as a percentage of total number of shares","Number of equity shares held in dematerialized form","Reason for not providing PAN"]
[]
[]
[]
[]
[{"$nulls":43},"NRI"]
[{"$nulls":43},"Trusts"]
[{"$nulls":4},"Searial No.","Name\nof the \nShareholders\n     (I)","PAN \n(II)","No. of fully paid up equity shares held\n(IV)","No. Of Partly paid-up equity shares held\n(V)","No. Of shares underlying Depository Receipts\n(VI)","Total nos. shares\nheld\n(VII) = (IV)+(V)+ (VI)","Shareholding as a % of total no. of shares (calculated as per SCRR, 1957)\n(VIII)\nAs a % of (A+B+C2)","Number of Voting Rights held in each class of securities\n(IX)",{"$nulls":3},"No. of Shares Underlying Outstanding Warrants (Xi)","No. Of Warrants\n(Xi)","No. Of Shares Underlying Outstanding convertible securities and No. Of Warrants\n(Xi) (a)","Shareholding , as a % assuming full conversion of convertible securities (as a percentage of diluted share capital)\n(XI)= (VII)+(X)\nAs a % of (A+B+C2)","Number of Locked in shares\n(XII)",null,"Number of equity shares held in dematerialized form \n(XIV)","Reason for not providing PAN",{"$nulls":19},"Market Maker"]
[{"$nulls":12},"No of Voting (XIV)\nRights",null,null,"Total as\na % of\nTotal\nVoting\nrights",{"$nulls":27},"HUF"]
[{"$nulls":12},"Class\neg:\nX","Class\neg:y","Total",{"$nulls":5},"No.\n(a)","As a % of total Shares held\n(b)",{"$nulls":21},"Clearing Members"]
[{"$nulls":4},"B1(h)","Provident Funds/ Pension Funds",{"$nulls":37},"NSDL or CDSL transit"]
[{"$nulls":10},{"$f":"+IFERROR(IF(COUNT(H13:J13),ROUND(SUM(H13:J13),0),\"\"),\"\")","v":""},{"$f":"+IFERROR(IF(COUNT(K13),ROUND(K13/'Shareholding Pattern'!$L$57*100,2),\"\"),\"\")","v":""},{"$f":"IF(H13=\"\",\"\",H13)","v":""},null,{"$f":"+IFERROR(IF(COUNT(M13:N13),ROUND(SUM(M13,N13),2),\"\"),\"\")","v":""},{"$f":"+IFERROR(IF(COUNT(O13),ROUND(O13/('Shareholding Pattern'!$P$58)*100,2),\"\"),\"\")","v":""},null,null,{"$f":"+IFERROR(IF(COUNT(Q13:R13),ROUND(SUM(Q13:R13),0),\"\"),\"\")","v":""},{"$f":"+IFERROR(IF(COUNT(K13,S13),ROUND(SUM(S13,K13)/SUM('Shareholding Pattern'!$L$57,'Shareholding Pattern'!$T$57)*100,2),\"\"),\"\")","v":""},null,{"$f":"+IFERROR(IF(COUNT(U13),ROUND(SUM(U13)/SUM(K13)*100,2),\"\"),0)","v":""},{"$nulls":6},{"$f":"IF(SUM(H13:W13)>0,1,0)","v":0},{"$f":"SUM(AC15:AC65535)","v":0},{"$nulls":13},"Employee welfare fund"]
[{"$nulls":6},"Disclosure of shareholder holding more than 1% of total number of shares",{"$nulls":36},"Overseas corporate bodies"]
[{"$nulls":43},"Private equity fund"]
[{"$nulls":5},"Click here to go back","Total",{"$f":"+IFERROR(IF(COUNT(H14:H15),ROUND(SUM(H14:H15),0),\"\"),\"\")","v":""},{"$f":"+IFERROR(IF(COUNT(I14:I15),ROUND(SUM(I14:I15),0),\"\"),\"\")","v":""},{"$f":"+IFERROR(IF(COUNT(J14:J15),ROUND(SUM(J14:J15),0),\"\"),\"\")","v":""},{"$f":"+IFERROR(IF(COUNT(K14:K15),ROUND(SUM(K14:K15),0),\"\"),\"\")","v":""},{"$f":"+IFERROR(IF(COUNT(K16),ROUND(K16/'Shareholding Pattern'!$L$57*100,2),\"\"),\"\")","v":""},{"$f":"+IFERROR(IF(COUNT(M14:M15),ROUND(SUM(M14:M15),0),\"\"),\"\")","v":""},{"$f":"+IFERROR(IF(COUNT(N14:N15),ROUND(SUM(N14:N15),0),\"\"),\"\")","v":""},{"$f":"+IFERROR(IF(COUNT(O14:O15),ROUND(SUM(O14:O15),0),\"\"),\"\")","v":""},{"$f":"+IFERROR(IF(COUNT(O16),ROUND(O16/('Shareholding Pattern'!$P$58)*100,2),\"\"),\"\")","v":""},{"$f":"+IFERROR(IF(COUNT(Q14:Q15),ROUND(SUM(Q14:Q15),0),\"\"),\"\")","v":""},{"$f":"+IFERROR(IF(COUNT(R14:R15),ROUND(SUM(R14:R15),0),\"\"),\"\")","v":""},{"$f":"+IFERROR(IF(COUNT(S14:S15),ROUND(SUM(S14:S15),0),\"\"),\"\")","v":""},{"$f":"+IFERROR(IF(COUNT(K16,S16),ROUND(SUM(S16,K16)/SUM('Shareholding Pattern'!$L$57,'Shareholding Pattern'!$T$57)*100,2),\"\"),\"\")","v":""},{"$f":"+IFERROR(IF(COUNT(U14:U15),ROUND(SUM(U14:U15),0),\"\"),\"\")","v":""},{"$f":"+IFERROR(IF(COUNT(U16),ROUND(SUM(U16)/SUM(K16)*100,2),\"\"),0)","v":""},{"$f":"+IFERROR(IF(COUNT(W14:W15),ROUND(SUM(W14:W15),0),\"\"),\"\")","v":""},{"$nulls":20},"Other"]

{"sheet":"Other_Insti","index":23,"n_rows":16,"n_cols":48,"rows_kept":16,"hidden":true,"merged":[[8,3,10,3],[8,4,10,4],[8,5,10,5],[8,6,10,6],[8,7,10,7],[8,8,10,8],[8,9,10,9],[8,10,10,10],[8,11,10,11],[8,12,10,12],[8,13,10,13],[8,14,8,17],[8,18,10,18],[8,19,10,19],[8,20,10,20],[8,21,10,21],[8,22,9,23],[8,24,10,24],[8,25,10,25],[9,14,9,16],[9,17,10,17]]}
[{"$nulls":8},0]
[{"$nulls":4},"Category of other institutions","Category or more than one percentage","Name of shareholder","Permanent account number of shareholder","Number of shareholders","Number of fully paid up equity shares","Number of partly paid-up equity shares","Number of shares underlying outstanding depository receipts","Total number of shares","Shareholding as a percentage of total number of shares held by promoters and public shareholders and custodians or DR holders","Number of voting rights held by same class of securities","Number of voting rights held by differential voting rights","Total Number of voting rights","Percentage of total number of voting rights","Number of shares underlying outstanding convertible securities","Number of warrant","Number of warrant and convertible securities","Total shareholding as a percentage assuming full conversion of convertible securities","Number of the locked-in-shares ","Locked-in-shares as a percentage of total number of shares","Number of equity shares held in dematerialized form","Reason for not providing PAN"]
[{"$nulls":8},{"$f":"+IFERROR(IF(COUNT(I13:I15),ROUND(SUMIF($F$13:I15,\"Category\",I13:I15),0),\"\"),\"\")","v":""},{"$f":"+IFERROR(IF(COUNT(J13:J15),ROUND(SUMIF($F$13:J15,\"Category\",J13:J15),0),\"\"),\"\")","v":""},{"$f":"+IFERROR(IF(COUNT(K13:K15),ROUND(SUMIF($F$13:K15,\"Category\",K13:K15),0),\"\"),\"\")","v":""},{"$f":"+IFERROR(IF(COUNT(L13:L15),ROUND(SUMIF($F$13:L15,\"Category\",L13:L15),0),\"\"),\"\")","v":""},{"$f":"+IFERROR(IF(COUNT(M13:M15),ROUND(SUMIF($F$13:M15,\"Category\",M13:M15),0),\"\"),\"\")","v":""},{"$f":"+IFERROR(IF(COUNT(N13:N15),ROUND(SUMIF($F$13:N15,\"Category\",N13:N15),2),\"\"),\"\")","v":""},{"$f":"+IFERROR(IF(COUNT(O13:O15),ROUND(SUMIF($F$13:O15,\"Category\",O13:O15),2),\"\"),\"\")","v":""},{"$f":"+IFERROR(IF(COUNT(P13:P15),ROUND(SUMIF($F$13:P15,\"Category\",P13:P15),0),\"\"),\"\")","v":""},{"$f":"+IFERROR(IF(COUNT(Q13:Q15),ROUND(SUMIF($F$13:Q15,\"Category\",Q13:Q15),0),\"\"),\"\")","v":""},{"$f":"+IFERROR(IF(COUNT(R13:R15),ROUND(SUMIF($F$13:R15,\"Category\",R13:R15),2),\"\"),\"\")","v":""},{"$f":"+IFERROR(IF(COUNT(S13:S15),ROUND(SUMIF($F$13:S15,\"Category\",S13:S15),0),\"\"),\"\")","v":""},{"$f":"+IFERROR(IF(COUNT(T13:T15),ROUND(SUMIF($F$13:T15,\"Category\",T13:T15),0),\"\"),\"\")","v":""},{"$f":"+IFERROR(IF(COUNT(U13:U15),ROUND(SUMIF($F$13:U15,\"Category\",U13:U15),0),\"\"),\"\")","v":""},{"$f":"+IFERROR(IF(COUNT(V13:V15),ROUND(SUMIF($F$13:V15,\"Category\",V13:V15),2),\"\"),\"\")","v":""},{"$f":"+IFERROR(IF(COUNT(W13:W15),ROUND(SUMIF($F$13:W15,\"Category\",W13:W15),0),\"\"),\"\")","v":""},{"$f":"+IFERROR(IF(COUNT(X13:X15),ROUND(SUMIF($F$13:X15,\"Category\",X13:X15),2),\"\"),\"\")","v":""},{"$f":"+IFERROR(IF(COUNT(Y13:Y15),ROUND(SUMIF($F$13:Y15,\"Category\",Y13:Y15),0),\"\"),\"\")","v":""},{"$nulls":6},"State industrial development Corporation","Provident Fund","Pension Fund","National Investment Fund","Insurance Companies ","Other"]
[{"$nulls":31},"NRI"]
[{"$nulls":31},"Trusts"]
[{"$nulls":31},"Market Maker"]
[{"$nulls":31},"HUF"]
[{"$nulls":31},"Clearing Members"]
[{"$nulls":3},"Searial No.","Category","Category / More than 1 percentage","Name\nof the \nShareholders\n     (I)","PAN \n(II)","No.\nof the \nShareholders\n     (I)","No. of fully paid up equity shares held\n(IV)","No. Of Partly paid-up equity shares held\n(V)","No. Of shares underlying Depository Receipts\n(VI)","Total nos. shares\nheld\n(VII) = (IV)+(V)+ (VI)","Shareholding as a % of total no. of shares (calculated as per SCRR, 1957)\n(VIII)\nAs a % of (A+B+C2)","Number of Voting Rights held in each class of securities\n(IX)",{"$nulls":3},"No. Of Shares Underlying Outstanding convertible securities\n(X)","No. of Shares Underlying Outstanding Warrants (Xi)","No. Of Shares Underlying Outstanding convertible securities and Warrants\n(X)","Shareholding , as a % assuming full conversion of convertible securities (as a percentage of diluted share capital)\n(XI)= (VII)+(X)\nAs a % of (A+B+C2)","Number of Locked in shares\n(XII)",null,"Number of equity shares held in dematerialized form \n(XIV)","Reason for not providing PAN",{"$nulls":6},"NSDL or CDSL transit",{"$nulls":14},"Category"]
[{"$nulls":14},"No of Voting (XIV)\nRights",null,null,"Total as\na % of\nTotal\nVoting\nrights",{"$nulls":14},"Employee welfare fund",{"$nulls":14},"More than 1 percentage of shareholding"]
[{"$nulls":14},"Class\neg:\nX","Class\neg:y","Total",{"$nulls":5},"No.\n(a)","As a % of total Shares held\n(b)",{"$nulls":8},"Overseas corporate bodies"]
[{"$nulls":3},"B1(i)","Any Other (specify)",{"$nulls":26},"Private equity fund"]
[{"$nulls":12},{"$f":"+IFERROR(IF(COUNT(J13:L13),ROUND(SUM(J13:L13),0),\"\"),\"\")","v":""},{"$f":"+IFERROR(IF(COUNT(M13),ROUND(M13/'Shareholding Pattern'!$L$57*100,2),\"\"),\"\")","v":""},{"$f":"IF(J13=\"\",\"\",J13)","v":""},null,{"$f":"+IFERROR(IF(COUNT(O13:P13),ROUND(SUM(O13,P13),2),\"\"),\"\")","v":""},{"$f":"+IFERROR(IF(COUNT(Q13),ROUND(Q13/('Shareholding Pattern'!$P$58)*100,2),\"\"),\"\")","v":""},null,null,{"$f":"+IFERROR(IF(COUNT(S13:T13),ROUND(SUM(S13:T13),0),\"\"),\"\")","v":""},{"$f":"+IFERROR(IF(COUNT(M13,U13),ROUND(SUM(U13,M13)/SUM('Shareholding Pattern'!$L$57,'Shareholding Pattern'!$T$57)*100,2),\"\"),\"\")","v":""},null,{"$f":"+IFERROR(IF(COUNT(W13),ROUND(SUM(W13)/SUM(M13)*100,2),\"\"),0)","v":""},{"$nulls":4},{"$f":"IF(SUM(H13:Y13)>0,1,0)","v":0},{"$f":"SUM(AC15:AC65535)","v":0},null,"Other"]
[]
[]
[{"$nulls":5},"Click here to go back",null,"Total",{"$f":"+IFERROR(IF(COUNT(I13:I15),ROUND(SUMIF($F$13:I15,\"Category\",I13:I15),0),\"\"),\"\")","v":""},{"$f":"+IFERROR(IF(COUNT(J13:J15),ROUND(SUMIF($F$13:J15,\"Category\",J13:J15),0),\"\"),\"\")","v":""},{"$f":"+IFERROR(IF(COUNT(K13:K15),ROUND(SUMIF($F$13:K15,\"Category\",K13:K15),0),\"\"),\"\")","v":""},{"$f":"+IFERROR(IF(COUNT(L13:L15),ROUND(SUMIF($F$13:L15,\"Category\",L13:L15),0),\"\"),\"\")","v":""},{"$f":"+IFERROR(IF(COUNT(M13:M15),ROUND(SUMIF($F$13:M15,\"Category\",M13:M15),0),\"\"),\"\")","v":""},{"$f":"+IFERROR(IF(COUNT(N13:N15),ROUND(SUMIF($F$13:N15,\"Category\",N13:N15),2),\"\"),\"\")","v":""},{"$f":"+IFERROR(IF(COUNT(O13:O15),ROUND(SUMIF($F$13:O15,\"Category\",O13:O15),0),\"\"),\"\")","v":""},{"$f":"+IFERROR(IF(COUNT(P13:P15),ROUND(SUMIF($F$13:P15,\"Category\",P13:P15),0),\"\"),\"\")","v":""},{"$f":"+IFERROR(IF(COUNT(Q13:Q15),ROUND(SUMIF($F$13:Q15,\"Category\",Q13:Q15),0),\"\"),\"\")","v":""},{"$f":"+IFERROR(IF(COUNT(R13:R15),ROUND(SUMIF($F$13:R15,\"Category\",R13:R15),2),\"\"),\"\")","v":""},{"$f":"+IFERROR(IF(COUNT(S13:S15),ROUND(SUMIF($F$13:S15,\"Category\",S13:S15),0),\"\"),\"\")","v":""},{"$f":"+IFERROR(IF(COUNT(T13:T15),ROUND(SUMIF($F$13:T15,\"Category\",T13:T15),0),\"\"),\"\")","v":""},{"$f":"+IFERROR(IF(COUNT(U13:U15),ROUND(SUMIF($F$13:U15,\"Category\",U13:U15),0),\"\"),\"\")","v":""},{"$f":"+IFERROR(IF(COUNT(V13:V15),ROUND(SUMIF($F$13:V15,\"Category\",V13:V15),2),\"\"),\"\")","v":""},{"$f":"+IFERROR(IF(COUNT(W13:W15),ROUND(SUMIF($F$13:W15,\"Category\",W13:W15),0),\"\"),\"\")","v":""},{"$f":"+IFERROR(IF(COUNT(W16),ROUND(SUM(W16)/SUM(M16)*100,2),\"\"),0)","v":""},{"$f":"+IFERROR(IF(COUNT(Y13:Y15),ROUND(SUMIF($F$13:Y15,\"Category\",Y13:Y15),0),\"\"),\"\")","v":""}]

{"sheet":"CG&SG&PI","index":24,"n_rows":16,"n_cols":30,"rows_kept":16,"hidden":true,"merged":[[8,4,10,4],[8,5,10,5],[8,6,10,6],[8,7,10,7],[8,8,10,8],[8,9,10,9],[8,10,10,10],[8,11,10,11],[8,12,8,15],[8,16,10,16],[8,17,10,17],[8,18,10,18],[8,19,10,19],[8,20,9,21],[8,22,10,22],[8,23,10,23],[9,12,9,14],[9,15,10,15]]}
[{"$nulls":8},0]
[{"$nulls":5},"Name of shareholder","Permanent account number of shareholder","Number of fully paid up equity shares","Number of partly paid-up equity shares","Number of shares underlying outstanding depository receipts","Total number of shares","Shareholding as a percentage of total number of shares held by promoters and public shareholders and custodians or DR holders","Number of voting rights held by same class of securities","Number of voting rights held by differential voting rights","Total Number of voting rights","Percentage of total number of voting rights","Number of shares underlying outstanding convertible securities","Number of warrant","Number of warrant and convertible securities","Total shareholding as a percentage assuming full conversion of convertible securities","Number of the locked-in-shares ","Locked-in-shares as a percentage of total number of shares","Number of equity shares held in dematerialized form","Reason for not providing PAN"]
[]
[]
[]
[]
[]
[]
[{"$nulls":4},"Searial No.","Name\nof the \nShareholders\n     (I)","PAN \n(II)","No. of fully paid up equity shares held\n(IV)","No. Of Partly paid-up equity shares held\n(V)","No. Of shares underlying Depository Receipts\n(VI)","Total nos. shares\nheld\n(VII) = (IV)+(V)+ (VI)","Shareholding as a % of total no. of shares (calculated as per SCRR, 1957)\n(VIII)\nAs a % of (A+B+C2)","Number of Voting Rights held in each class of securities\n(IX)",{"$nulls":3},"No. Of Shares Underlying Outstanding convertible securities\n(X)","No. of Shares Underlying Outstanding Warrants (Xi)","No. Of Shares Underlying Outstanding convertible securities and No. Of Warrants\n(Xi) (a)","Shareholding , as a % assuming full conversion of convertible securities (as a percentage of diluted share capital)\n(XI)= (VII)+(X)\nAs a % of (A+B+C2)","Number of Locked in shares\n(XII)",null,"Number of equity shares held in dematerialized form \n(XIV)","Reason for not providing PAN"]
[{"$nulls":12},"No of Voting (XIV)\nRights",null,null,"Total as\na % of\nTotal\nVoting\nrights"]
[{"$nulls":12},"Class\neg:\nX","Class\neg:y","Total",{"$nulls":5},"No.\n(a)","As a % of total Shares held\n(b)"]
[{"$nulls":4},"B2","Central  Government/  State  Government(s)/ President of India"]
[{"$nulls":10},{"$f":"+IFERROR(IF(COUNT(H13:J13),ROUND(SUM(H13:J13),0),\"\"),\"\")","v":""},{"$f":"+IFERROR(IF(COUNT(K13),ROUND(K13/'Shareholding Pattern'!$L$57*100,2),\"\"),\"\")","v":""},{"$f":"IF(H13=\"\",\"\",H13)","v":""},null,{"$f":"+IFERROR(IF(COUNT(M13:N13),ROUND(SUM(M13,N13),2),\"\"),\"\")","v":""},{"$f":"+IFERROR(IF(COUNT(O13),ROUND(O13/('Shareholding Pattern'!$P$58)*100,2),\"\"),\"\")","v":""},null,null,{"$f":"+IFERROR(IF(COUNT(Q13:R13),ROUND(SUM(Q13:R13),0),\"\"),\"\")","v":""},{"$f":"+IFERROR(IF(COUNT(K13,S13),ROUND(SUM(S13,K13)/SUM('Shareholding Pattern'!$L$57,'Shareholding Pattern'!$T$57)*100,2),\"\"),\"\")","v":""},null,{"$f":"+IFERROR(IF(COUNT(U13),ROUND(SUM(U13)/SUM(K13)*100,2),\"\"),0)","v":""},{"$nulls":6},{"$f":"IF(SUM(H13:W13)>0,1,0)","v":0},{"$f":"SUM(AC15:AC65535)","v":0}]
[{"$nulls":6},"Disclosure of shareholder holding more than 1% of total number of shares"]
[]
[{"$nulls":5},"Click here to go back","Total",{"$f":"+IFERROR(IF(COUNT(H14:H15),ROUND(SUM(H14:H15),0),\"\"),\"\")","v":""},{"$f":"+IFERROR(IF(COUNT(I14:I15),ROUND(SUM(I14:I15),0),\"\"),\"\")","v":""},{"$f":"+IFERROR(IF(COUNT(J14:J15),ROUND(SUM(J14:J15),0),\"\"),\"\")","v":""},{"$f":"+IFERROR(IF(COUNT(K14:K15),ROUND(SUM(K14:K15),0),\"\"),\"\")","v":""},{"$f":"+IFERROR(IF(COUNT(K16),ROUND(K16/'Shareholding Pattern'!$L$57*100,2),\"\"),\"\")","v":""},{"$f":"+IFERROR(IF(COUNT(M14:M15),ROUND(SUM(M14:M15),0),\"\"),\"\")","v":""},{"$f":"+IFERROR(IF(COUNT(N14:N15),ROUND(SUM(N14:N15),0),\"\"),\"\")","v":""},{"$f":"+IFERROR(IF(COUNT(O14:O15),ROUND(SUM(O14:O15),0),\"\"),\"\")","v":""},{"$f":"+IFERROR(IF(COUNT(O16),ROUND(O16/('Shareholding Pattern'!$P$58)*100,2),\"\"),\"\")","v":""},{"$f":"+IFERROR(IF(COUNT(Q14:Q15),ROUND(SUM(Q14:Q15),0),\"\"),\"\")","v":""},{"$f":"+IFERROR(IF(COUNT(R14:R15),ROUND(SUM(R14:R15),0),\"\"),\"\")","v":""},{"$f":"+IFERROR(IF(COUNT(S14:S15),ROUND(SUM(S14:S15),0),\"\"),\"\")","v":""},{"$f":"+IFERROR(IF(COUNT(K16,S16),ROUND(SUM(S16,K16)/SUM('Shareholding Pattern'!$L$57,'Shareholding Pattern'!$T$57)*100,2),\"\"),\"\")","v":""},{"$f":"+IFERROR(IF(COUNT(U14:U15),ROUND(SUM(U14:U15),0),\"\"),\"\")","v":""},{"$f":"+IFERROR(IF(COUNT(U16),ROUND(SUM(U16)/SUM(K16)*100,2),\"\"),0)","v":""},{"$f":"+IFERROR(IF(COUNT(W14:W15),ROUND(SUM(W14:W15),0),\"\"),\"\")","v":""},{"$f":"+IFERROR(IF(COUNT(X13:X15),ROUND(SUM(X13:X15),0),\"\"),\"\")","v":""}]

{"sheet":"Indivisual(aI)","index":25,"n_rows":16,"n_cols":30,"rows_kept":16,"hidden":true,"merged":[[8,4,10,4],[8,5,10,5],[8,6,10,6],[8,7,10,7],[8,8,10,8],[8,9,10,9],[8,10,10,10],[8,11,10,11],[8,12,8,15],[8,16,10,16],[8,17,10,17],[8,18,10,18],[8,19,10,19],[8,20,9,21],[8,22,10,22],[8,23,10,23],[9,12,9,14],[9,15,10,15]]}
[{"$nulls":8},0]
[{"$nulls":5},"Name of shareholder","Permanent account number of shareholder","Number of fully paid up equity shares","Number of partly paid-up equity shares","Number of shares underlying outstanding depository receipts","Total number of shares","Shareholding as a percentage of total number of shares held by promoters and public shareholders and custodians or DR holders","Number of voting rights held by same class of securities","Number of voting rights held by differential voting rights","Total Number of voting rights","Percentage of total number of voting rights","Number of shares underlying outstanding convertible securities","Number of warrant","Number of warrant and convertible securities","Total shareholding as a percentage assuming full conversion of convertible securities","Number of the locked-in-shares ","Locked-in-shares as a percentage of total number of shares","Number of equity shares held in dematerialized form","Reason for not providing PAN"]
[]
[]
[]
[]
[]
[]
[{"$nulls":4},"Searial No.","Name\nof the \nShareholders\n     (I)","PAN \n(II)","No. of fully paid up equity shares held\n(IV)","No. Of Partly paid-up equity shares held\n(V)","No. Of shares underlying Depository Receipts\n(VI)","Total nos. shares\nheld\n(VII) = (IV)+(V)+ (VI)","Shareholding as a % of total no. of shares (calculated as per SCRR, 1957)\n(VIII)\nAs a % of (A+B+C2)","Number of Voting Rights held in each class of securities\n(IX)",{"$nulls":3},"No. Of Shares Underlying Outstanding convertible securities\n(X)","No. of Shares Underlying Outstanding Warrants (Xi)","No. Of Shares Underlying Outstanding convertible securities and No. Of Warrants\n(Xi) (a)","Shareholding , as a % assuming full conversion of convertible securities (as a percentage of diluted share capital)\n(XI)= (VII)+(X)\nAs a % of (A+B+C2)","Number of Locked in shares\n(XII)",null,"Number of equity shares held in dematerialized form \n(XIV)","Reason for not providing PAN"]
[{"$nulls":12},"No of Voting (XIV)\nRights",null,null,"Total as\na % of\nTotal\nVoting\nrights"]
[{"$nulls":12},"Class\neg:\nX","Class\neg:y","Total",{"$nulls":5},"No.\n(a)","As a % of total Shares held\n(b)"]
[{"$nulls":4},"B3(a(i))","Individuals -  i.Individual shareholders holding nominal share capital up to Rs. 2 lakhs. "]
[{"$nulls":10},{"$f":"+IFERROR(IF(COUNT(H13:J13),ROUND(SUM(H13:J13),0),\"\"),\"\")","v":""},{"$f":"+IFERROR(IF(COUNT(K13),ROUND(K13/'Shareholding Pattern'!$L$57*100,2),\"\"),\"\")","v":""},{"$f":"IF(H13=\"\",\"\",H13)","v":""},null,{"$f":"+IFERROR(IF(COUNT(M13:N13),ROUND(SUM(M13,N13),2),\"\"),\"\")","v":""},{"$f":"+IFERROR(IF(COUNT(O13),ROUND(O13/('Shareholding Pattern'!$P$58)*100,2),\"\"),\"\")","v":""},null,null,{"$f":"+IFERROR(IF(COUNT(Q13:R13),ROUND(SUM(Q13:R13),0),\"\"),\"\")","v":""},{"$f":"+IFERROR(IF(COUNT(K13,S13),ROUND(SUM(S13,K13)/SUM('Shareholding Pattern'!$L$57,'Shareholding Pattern'!$T$57)*100,2),\"\"),\"\")","v":""},null,{"$f":"+IFERROR(IF(COUNT(U13),ROUND(SUM(U13)/SUM(K13)*100,2),\"\"),0)","v":""},{"$nulls":6},{"$f":"IF(SUM(H13:W13)>0,1,0)","v":0},{"$f":"SUM(AC15:AC65535)","v":0}]
[{"$nulls":6},"Disclosure of shareholder holding more than 1% of total number of shares"]
[]
[{"$nulls":5},"Click here to go back","Total",{"$f":"+IFERROR(IF(COUNT(H13:H15),ROUND(SUM(H13:H15),0),\"\"),\"\")","v":""},{"$f":"+IFERROR(IF(COUNT(I13:I15),ROUND(SUM(I13:I15),0),\"\"),\"\")","v":""},{"$f":"+IFERROR(IF(COUNT(J13:J15),ROUND(SUM(J13:J15),0),\"\"),\"\")","v":""},{"$f":"+IFERROR(IF(COUNT(K13:K15),ROUND(SUM(K13:K15),0),\"\"),\"\")","v":""},{"$f":"+IFERROR(IF(COUNT(K16),ROUND(K16/'Shareholding Pattern'!$L$57*100,2),\"\"),\"\")","v":""},{"$f":"+IFERROR(IF(COUNT(M13:M15),ROUND(SUM(M13:M15),0),\"\"),\"\")","v":""},{"$f":"+IFERROR(IF(COUNT(N13:N15),ROUND(SUM(N13:N15),0),\"\"),\"\")","v":""},{"$f":"+IFERROR(IF(COUNT(O13:O15),ROUND(SUM(O13:O15),0),\"\"),\"\")","v":""},{"$f":"+IFERROR(IF(COUNT(O16),ROUND(O16/('Shareholding Pattern'!$P$58)*100,2),\"\"),\"\")","v":""},{"$f":"+IFERROR(IF(COUNT(Q13:Q15),ROUND(SUM(Q13:Q15),0),\"\"),\"\")","v":""},{"$f":"+IFERROR(IF(COUNT(R13:R15),ROUND(SUM(R13:R15),0),\"\"),\"\")","v":""},{"$f":"+IFERROR(IF(COUNT(S13:S15),ROUND(SUM(S13:S15),0),\"\"),\"\")","v":""},{"$f":"+IFERROR(IF(COUNT(K16,S16),ROUND(SUM(S16,K16)/SUM('Shareholding Pattern'!$L$57,'Shareholding Pattern'!$T$57)*100,2),\"\"),\"\")","v":""},{"$f":"+IFERROR(IF(COUNT(U13:U15),ROUND(SUM(U13:U15),0),\"\"),\"\")","v":""},{"$f":"+IFERROR(IF(COUNT(U16),ROUND(SUM(U16)/SUM(K16)*100,2),\"\"),0)","v":""},{"$f":"+IFERROR(IF(COUNT(W13:W15),ROUND(SUM(W13:W15),0),\"\"),\"\")","v":""}]

{"sheet":"Indivisual(aII)","index":26,"n_rows":16,"n_cols":30,"rows_kept":16,"hidden":true,"merged":[[8,4,10,4],[8,5,10,5],[8,6,10,6],[8,7,10,7],[8,8,10,8],[8,9,10,9],[8,10,10,10],[8,11,10,11],[8,12,8,15],[8,16,10,16],[8,17,10,17],[8,18,10,18],[8,19,10,19],[8,20,9,21],[8,22,10,22],[8,23,10,23],[9,12,9,14],[9,15,10,15]]}
[{"$nulls":8},0]
[{"$nulls":5},"Name of shareholder","Permanent account number of shareholder","Number of fully paid up equity shares","Number of partly paid-up equity shares","Number of shares underlying outstanding depository receipts","Total number of shares","Shareholding as a percentage of total number of shares held by promoters and public shareholders and custodians or DR holders","Number of voting rights held by same class of securities","Number of voting rights held by differential voting rights","Total Number of voting rights","Percentage of total number of voting rights","Number of shares underlying outstanding convertible securities","Number of warrant","Number of warrant and convertible securities","Total shareholding as a percentage assuming full conversion of convertible securities","Number of the locked-in-shares ","Locked-in-shares as a percentage of total number of shares","Number of equity shares held in dematerialized form","Reason for not providing PAN"]
[]
[]
[]
[]
[]
[]
[{"$nulls":4},"Searial No.","Name\nof the \nShareholders\n     (I)","PAN \n(II)","No. of fully paid up equity shares held\n(IV)","No. Of Partly paid-up equity shares held\n(V)","No. Of shares underlying Depository Receipts\n(VI)","Total nos. shares\nheld\n(VII) = (IV)+(V)+ (VI)","Shareholding as a % of total no. of shares (calculated as per SCRR, 1957)\n(VIII)\nAs a % of (A+B+C2)","Number of Voting Rights held in each class of securities\n(IX)",{"$nulls":3},"No. Of Shares Underlying Outstanding convertible securities\n(X)","No. of Shares Underlying Outstanding Warrants (Xi)","No. Of Shares Underlying Outstanding convertible securities and No. Of Warrants\n(Xi) (a)","Shareholding , as a % assuming full conversion of convertible securities (as a percentage of diluted share capital)\n(XI)= (VII)+(X)\nAs a % of (A+B+C2)","Number of Locked in shares\n(XII)",null,"Number of equity shares held in dematerialized form \n(XIV)","Reason for not providing PAN"]
[{"$nulls":12},"No of Voting (XIV)\nRights",null,null,"Total as\na % of\nTotal\nVoting\nrights"]
[{"$nulls":12},"Class\neg:\nX","Class\neg:y","Total",{"$nulls":5},"No.\n(a)","As a % of total Shares held\n(b)"]
[{"$nulls":4},"B3(a(iI))","Individuals - ii. Individual shareholders holding nominal share capital in excess of Rs. 2 lakhs."]
[{"$nulls":10},{"$f":"+IFERROR(IF(COUNT(H13:J13),ROUND(SUM(H13:J13),0),\"\"),\"\")","v":""},{"$f":"+IFERROR(IF(COUNT(K13),ROUND(K13/'Shareholding Pattern'!$L$57*100,2),\"\"),\"\")","v":""},{"$f":"IF(H13=\"\",\"\",H13)","v":""},null,{"$f":"+IFERROR(IF(COUNT(M13:N13),ROUND(SUM(M13,N13),2),\"\"),\"\")","v":""},{"$f":"+IFERROR(IF(COUNT(O13),ROUND(O13/('Shareholding Pattern'!$P$58)*100,2),\"\"),\"\")","v":""},null,null,{"$f":"+IFERROR(IF(COUNT(Q13:R13),ROUND(SUM(Q13:R13),0),\"\"),\"\")","v":""},{"$f":"+IFERROR(IF(COUNT(K13,S13),ROUND(SUM(S13,K13)/SUM('Shareholding Pattern'!$L$57,'Shareholding Pattern'!$T$57)*100,2),\"\"),\"\")","v":""},null,{"$f":"+IFERROR(IF(COUNT(U13),ROUND(SUM(U13)/SUM(K13)*100,2),\"\"),0)","v":""},{"$nulls":6},{"$f":"IF(SUM(H13:W13)>0,1,0)","v":0},{"$f":"SUM(AC15:AC65535)","v":0}]
[{"$nulls":6},"\nDisclosure of shareholder holding more than 1% of total number of shares\n"]
[]
[{"$nulls":5},"Click here to go back","Total",{"$f":"+IFERROR(IF(COUNT(H14:H15),ROUND(SUM(H14:H15),0),\"\"),\"\")","v":""},{"$f":"+IFERROR(IF(COUNT(I14:I15),ROUND(SUM(I14:I15),0),\"\"),\"\")","v":""},{"$f":"+IFERROR(IF(COUNT(J14:J15),ROUND(SUM(J14:J15),0),\"\"),\"\")","v":""},{"$f":"+IFERROR(IF(COUNT(K14:K15),ROUND(SUM(K14:K15),0),\"\"),\"\")","v":""},{"$f":"+IFERROR(IF(COUNT(K16),ROUND(K16/'Shareholding Pattern'!$L$57*100,2),\"\"),\"\")","v":""},{"$f":"+IFERROR(IF(COUNT(M14:M15),ROUND(SUM(M14:M15),0),\"\"),\"\")","v":""},{"$f":"+IFERROR(IF(COUNT(N14:N15),ROUND(SUM(N14:N15),0),\"\"),\"\")","v":""},{"$f":"+IFERROR(IF(COUNT(O14:O15),ROUND(SUM(O14:O15),0),\"\"),\"\")","v":""},{"$f":"+IFERROR(IF(COUNT(O16),ROUND(O16/('Shareholding Pattern'!$P$58)*100,2),\"\"),\"\")","v":""},{"$f":"+IFERROR(IF(COUNT(Q14:Q15),ROUND(SUM(Q14:Q15),0),\"\"),\"\")","v":""},{"$f":"+IFERROR(IF(COUNT(R14:R15),ROUND(SUM(R14:R15),0),\"\"),\"\")","v":""},{"$f":"+IFERROR(IF(COUNT(S14:S15),ROUND(SUM(S14:S15),0),\"\"),\"\")","v":""},{"$f":"+IFERROR(IF(COUNT(K16,S16),ROUND(SUM(S16,K16)/SUM('Shareholding Pattern'!$L$57,'Shareholding Pattern'!$T$57)*100,2),\"\"),\"\")","v":""},{"$f":"+IFERROR(IF(COUNT(U14:U15),ROUND(SUM(U14:U15),0),\"\"),\"\")","v":""},{"$f":"+IFERROR(IF(COUNT(U16),ROUND(SUM(U16)/SUM(K16)*100,2),\"\"),0)","v":""},{"$f":"+IFERROR(IF(COUNT(W14:W15),ROUND(SUM(W14:W15),0),\"\"),\"\")","v":""}]

{"sheet":"NBFC","index":27,"n_rows":16,"n_cols":30,"rows_kept":16,"hidden":true,"merged":[[8,4,10,4],[8,5,10,5],[8,6,10,6],[8,7,10,7],[8,8,10,8],[8,9,10,9],[8,10,10,10],[8,11,10,11],[8,12,8,15],[8,16,10,16],[8,17,10,17],[8,18,10,18],[8,19,10,19],[8,20,9,21],[8,22,10,22],[8,23,10,23],[9,12,9,14],[9,15,10,15]]}
[{"$nulls":8},0]
[{"$nulls":5},"Name of shareholder","Permanent account number of shareholder","Number of fully paid up equity shares","Number of partly paid-up equity shares","Number of shares underlying outstanding depository receipts","Total number of shares","Shareholding as a percentage of total number of shares held by promoters and public shareholders and custodians or DR holders","Number of voting rights held by same class of securities","Number of voting rights held by differential voting rights","Total Number of voting rights","Percentage of total number of voting rights","Number of shares underlying outstanding convertible securities","Number of warrant","Number of warrant and convertible securities","Total shareholding as a percentage assuming full conversion of convertible securities","Number of the locked-in-shares ","Locked-in-shares as a percentage of total number of shares","Number of equity shares held in dematerialized form","Reason for not providing PAN"]
[]
[]
[]
[]
[]
[]
[{"$nulls":4},"Searial No.","Name\nof the \nShareholders\n     (I)","PAN \n(II)","No. of fully paid up equity shares held\n(IV)","No. Of Partly paid-up equity shares held\n(V)","No. Of shares underlying Depository Receipts\n(VI)","Total nos. shares\nheld\n(VII) = (IV)+(V)+ (VI)","Shareholding as a % of total no. of shares (calculated as per SCRR, 1957)\n(VIII)\nAs a % of (A+B+C2)","Number of Voting Rights held in each class of securities\n(IX)",{"$nulls":3},"No. Of Shares Underlying Outstanding convertible securities\n(X)","No. of Shares Underlying Outstanding Warrants (Xi)","No. Of Shares Underlying Outstanding convertible securities and No. Of Warrants\n(Xi) (a)","Shareholding , as a % assuming full conversion of convertible securities (as a percentage of diluted share capital)\n(XI)= (VII)+(X)\nAs a % of (A+B+C2)","Number of Locked in shares\n(XII)",null,"Number of equity shares held in dematerialized form \n(XIV)","Reason for not providing PAN"]
[{"$nulls":12},"No of Voting (XIV)\nRights",null,null,"Total as\na % of\nTotal\nVoting\nrights"]
[{"$nulls":12},"Class\neg:\nX","Class\neg:y","Total",{"$nulls":5},"No.\n(a)","As a % of total Shares held\n(b)"]
[{"$nulls":4},"B3(b)","NBFCs registered with RBI"]
[{"$nulls":10},{"$f":"+IFERROR(IF(COUNT(H13:J13),ROUND(SUM(H13:J13),0),\"\"),\"\")","v":""},{"$f":"+IFERROR(IF(COUNT(K13),ROUND(K13/'Shareholding Pattern'!$L$57*100,2),\"\"),\"\")","v":""},{"$f":"IF(H13=\"\",\"\",H13)","v":""},null,{"$f":"+IFERROR(IF(COUNT(M13:N13),ROUND(SUM(M13,N13),2),\"\"),\"\")","v":""},{"$f":"+IFERROR(IF(COUNT(O13),ROUND(O13/('Shareholding Pattern'!$P$58)*100,2),\"\"),\"\")","v":""},null,null,{"$f":"+IFERROR(IF(COUNT(Q13:R13),ROUND(SUM(Q13:R13),0),\"\"),\"\")","v":""},{"$f":"+IFERROR(IF(COUNT(K13,S13),ROUND(SUM(S13,K13)/SUM('Shareholding Pattern'!$L$57,'Shareholding Pattern'!$T$57)*100,2),\"\"),\"\")","v":""},null,{"$f":"+IFERROR(IF(COUNT(U13),ROUND(SUM(U13)/SUM(K13)*100,2),\"\"),0)","v":""},{"$nulls":6},{"$f":"IF(SUM(H13:W13)>0,1,0)","v":0},{"$f":"SUM(AC15:AC65535)","v":0}]
[{"$nulls":6},"\nDisclosure of shareholder holding more than 1% of total number of shares\n"]
[]
[{"$nulls":5},"Click here to go back","Total",{"$f":"+IFERROR(IF(COUNT(H13:H15),ROUND(SUM(H13:H15),0),\"\"),\"\")","v":""},{"$f":"+IFERROR(IF(COUNT(I13:I15),ROUND(SUM(I13:I15),0),\"\"),\"\")","v":""},{"$f":"+IFERROR(IF(COUNT(J13:J15),ROUND(SUM(J13:J15),0),\"\"),\"\")","v":""},{"$f":"+IFERROR(IF(COUNT(K13:K15),ROUND(SUM(K13:K15),0),\"\"),\"\")","v":""},{"$f":"+IFERROR(IF(COUNT(K16),ROUND(K16/'Shareholding Pattern'!$L$57*100,2),\"\"),\"\")","v":""},{"$f":"+IFERROR(IF(COUNT(M13:M15),ROUND(SUM(M13:M15),0),\"\"),\"\")","v":""},{"$f":"+IFERROR(IF(COUNT(N13:N15),ROUND(SUM(N13:N15),0),\"\"),\"\")","v":""},{"$f":"+IFERROR(IF(COUNT(O13:O15),ROUND(SUM(O13:O15),0),\"\"),\"\")","v":""},{"$f":"+IFERROR(IF(COUNT(O16),ROUND(O16/('Shareholding Pattern'!$P$58)*100,2),\"\"),\"\")","v":""},{"$f":"+IFERROR(IF(COUNT(Q13:Q15),ROUND(SUM(Q13:Q15),0),\"\"),\"\")","v":""},{"$f":"+IFERROR(IF(COUNT(R13:R15),ROUND(SUM(R13:R15),0),\"\"),\"\")","v":""},{"$f":"+IFERROR(IF(COUNT(S13:S15),ROUND(SUM(S13:S15),0),\"\"),\"\")","v":""},{"$f":"+IFERROR(IF(COUNT(K16,S16),ROUND(SUM(S16,K16)/SUM('Shareholding Pattern'!$L$57,'Shareholding Pattern'!$T$57)*100,2),\"\"),\"\")","v":""},{"$f":"+IFERROR(IF(COUNT(U13:U15),ROUND(SUM(U13:U15),0),\"\"),\"\")","v":""},{"$f":"+IFERROR(IF(COUNT(U16),ROUND(SUM(U16)/SUM(K16)*100,2),\"\"),0)","v":""},{"$f":"+IFERROR(IF(COUNT(W13:W15),ROUND(SUM(W13:W15),0),\"\"),\"\")","v":""}]

{"sheet":"EmpTrust","index":28,"n_rows":16,"n_cols":30,"rows_kept":16,"hidden":true,"merged":[[8,4,10,4],[8,5,10,5],[8,6,10,6],[8,7,10,7],[8,8,10,8],[8,9,10,9],[8,10,10,10],[8,11,10,11],[8,12,8,15],[8,16,10,16],[8,17,10,17],[8,18,10,18],[8,19,10,19],[8,20,9,21],[8,22,10,22],[8,23,10,23],[9,12,9,14],[9,15,10,15]]}
[{"$nulls":8},0]
[{"$nulls":5},"Name of shareholder","Permanent account number of shareholder","Number of fully paid up equity shares","Number of partly paid-up equity shares","Number of shares underlying outstanding depository receipts","Total number of shares","Shareholding as a percentage of total number of shares held by promoters and public shareholders and custodians or DR holders","Number of voting rights held by same class of securities","Number of voting rights held by differential voting rights","Total Number of voting rights","Percentage of total number of voting rights","Number of shares underlying outstanding convertible securities","Number of warrant","Number of warrant and convertible securities","Total shareholding as a percentage assuming full conversion of convertible securities","Number of the locked-in-shares ","Locked-in-shares as a percentage of total number of shares","Number of equity shares held in dematerialized form","Reason for not providing PAN"]
[]
[]
[]
[]
[]
[]
[{"$nulls":4},"Searial No.","Name\nof the \nShareholders\n     (I)","PAN \n(II)","No. of fully paid up equity shares held\n(IV)","No. Of Partly paid-up equity shares held\n(V)","No. Of shares underlying Depository Receipts\n(VI)","Total nos. shares\nheld\n(VII) = (IV)+(V)+ (VI)","Shareholding as a % of total no. of shares (calculated as per SCRR, 1957)\n(VIII)\nAs a % of (A+B+C2)","Number of Voting Rights held in each class of securities\n(IX)",{"$nulls":3},"No. Of Shares Underlying Outstanding convertible securities\n(X)","No. of Shares Underlying Outstanding Warrants (Xi)","No. Of Shares Underlying Outstanding convertible securities and No. Of Warrants\n(Xi) (a)","Shareholding , as a % assuming full conversion of convertible securities (as a percentage of diluted share capital)\n(XI)= (VII)+(X)\nAs a % of (A+B+C2)","Number of Locked in shares\n(XII)",null,"Number of equity shares held in dematerialized form \n(XIV)","Reason for not providing PAN"]
[{"$nulls":12},"No of Voting (XIV)\nRights",null,null,"Total as\na % of\nTotal\nVoting\nrights"]
[{"$nulls":12},"Class\neg:\nX","Class\neg:y","Total",{"$nulls":5},"No.\n(a)","As a % of total Shares held\n(b)"]
[{"$nulls":4},"B3(c)","Employee Trusts"]
[{"$nulls":10},{"$f":"+IFERROR(IF(COUNT(H13:J13),ROUND(SUM(H13:J13),0),\"\"),\"\")","v":""},{"$f":"+IFERROR(IF(COUNT(K13),ROUND(K13/'Shareholding Pattern'!$L$57*100,2),\"\"),\"\")","v":""},{"$f":"IF(H13=\"\",\"\",H13)","v":""},null,{"$f":"+IFERROR(IF(COUNT(M13:N13),ROUND(SUM(M13,N13),2),\"\"),\"\")","v":""},{"$f":"+IFERROR(IF(COUNT(O13),ROUND(O13/('Shareholding Pattern'!$P$58)*100,2),\"\"),\"\")","v":""},null,null,{"$f":"+IFERROR(IF(COUNT(Q13:R13),ROUND(SUM(Q13:R13),0),\"\"),\"\")","v":""},{"$f":"+IFERROR(IF(COUNT(K13,S13),ROUND(SUM(S13,K13)/SUM('Shareholding Pattern'!$L$57,'Shareholding Pattern'!$T$57)*100,2),\"\"),\"\")","v":""},null,{"$f":"+IFERROR(IF(COUNT(U13),ROUND(SUM(U13)/SUM(K13)*100,2),\"\"),0)","v":""},{"$nulls":6},{"$f":"IF(SUM(H13:W13)>0,1,0)","v":0},{"$f":"SUM(AC15:AC65535)","v":0}]
[{"$nulls":6},"Disclosure of shareholder holding more than 1% of total number of shares"]
[]
[{"$nulls":5},"Click here to go back","Total",{"$f":"+IFERROR(IF(COUNT(H13:H15),ROUND(SUM(H13:H15),0),\"\"),\"\")","v":""},{"$f":"+IFERROR(IF(COUNT(I13:I15),ROUND(SUM(I13:I15),0),\"\"),\"\")","v":""},{"$f":"+IFERROR(IF(COUNT(J13:J15),ROUND(SUM(J13:J15),0),\"\"),\"\")","v":""},{"$f":"+IFERROR(IF(COUNT(K13:K15),ROUND(SUM(K13:K15),0),\"\"),\"\")","v":""},{"$f":"+IFERROR(IF(COUNT(K16),ROUND(K16/'Shareholding Pattern'!$L$57*100,2),\"\"),\"\")","v":""},{"$f":"+IFERROR(IF(COUNT(M13:M15),ROUND(SUM(M13:M15),0),\"\"),\"\")","v":""},{"$f":"+IFERROR(IF(COUNT(N13:N15),ROUND(SUM(N13:N15),0),\"\"),\"\")","v":""},{"$f":"+IFERROR(IF(COUNT(O13:O15),ROUND(SUM(O13:O15),0),\"\"),\"\")","v":""},{"$f":"+IFERROR(IF(COUNT(O16),ROUND(O16/('Shareholding Pattern'!$P$58)*100,2),\"\"),\"\")","v":""},{"$f":"+IFERROR(IF(COUNT(Q13:Q15),ROUND(SUM(Q13:Q15),0),\"\"),\"\")","v":""},{"$f":"+IFERROR(IF(COUNT(R13:R15),ROUND(SUM(R13:R15),0),\"\"),\"\")","v":""},{"$f":"+IFERROR(IF(COUNT(S13:S15),ROUND(SUM(S13:S15),0),\"\"),\"\")","v":""},{"$f":"+IFERROR(IF(COUNT(K16,S16),ROUND(SUM(S16,K16)/SUM('Shareholding Pattern'!$L$57,'Shareholding Pattern'!$T$57)*100,2),\"\"),\"\")","v":""},{"$f":"+IFERROR(IF(COUNT(U13:U15),ROUND(SUM(U13:U15),0),\"\"),\"\")","v":""},{"$f":"+IFERROR(IF(COUNT(U16),ROUND(SUM(U16)/SUM(K16)*100,2),\"\"),0)","v":""},{"$f":"+IFERROR(IF(COUNT(W13:W15),ROUND(SUM(W13:W15),0),\"\"),\"\")","v":""}]

{"sheet":"OD","index":29,"n_rows":16,"n_cols":30,"rows_kept":16,"hidden":true,"merged":[[8,4,10,4],[8,5,10,5],[8,6,10,6],[8,7,10,7],[8,8,10,8],[8,9,10,9],[8,10,10,10],[8,11,10,11],[8,12,8,15],[8,16,10,16],[8,17,10,17],[8,18,10,18],[8,19,10,19],[8,20,9,21],[8,22,10,22],[8,23,10,23],[9,12,9,14],[9,15,10,15]]}
[{"$nulls":8},0]
[{"$nulls":5},"Name of shareholder","Permanent account number of shareholder","Number of fully paid up equity shares","Number of partly paid-up equity shares","Number of shares underlying outstanding depository receipts","Total number of shares","Shareholding as a percentage of total number of shares held by promoters and public shareholders and custodians or DR holders","Number of voting rights held by same class of securities","Number of voting rights held by differential voting rights","Total Number of voting rights","Percentage of total number of voting rights","Number of shares underlying outstanding convertible securities","Number of warrant","Number of warrant and convertible securities","Total shareholding as a percentage assuming full conversion of convertible securities","Number of the locked-in-shares ","Locked-in-shares as a percentage of total number of shares","Number of equity shares held in dematerialized form","Reason for not providing PAN"]
[]
[]
[]
[]
[]
[]
[{"$nulls":4},"Searial No.","Name\nof the \nShareholders\n     (I)","PAN \n(II)","No. of fully paid up equity shares held\n(IV)","No. Of Partly paid-up equity shares held\n(V)","No. Of shares underlying Depository Receipts\n(VI)","Total nos. shares\nheld\n(VII) = (IV)+(V)+ (VI)","Shareholding as a % of total no. of shares (calculated as per SCRR, 1957)\n(VIII)\nAs a % of (A+B+C2)","Number of Voting Rights held in each class of securities\n(IX)",{"$nulls":3},"No. Of Shares Underlying Outstanding convertible securities\n(X)","No. of Shares Underlying Outstanding Warrants (Xi)","No. Of Shares Underlying Outstanding convertible securities and No. Of Warrants\n(Xi) (a)","Shareholding , as a % assuming full conversion of convertible securities (as a percentage of diluted share capital)\n(XI)= (VII)+(X)\nAs a % of (A+B+C2)","Number of Locked in shares\n(XII)",null,"Number of equity shares held in dematerialized form \n(XIV)","Reason for not providing PAN"]
[{"$nulls":12},"No of Voting (XIV)\nRights",null,null,"Total as\na % of\nTotal\nVoting\nrights"]
[{"$nulls":12},"Class\neg:\nX","Class\neg:y","Total",{"$nulls":5},"No.\n(a)","As a % of total Shares held\n(b)"]
[{"$nulls":4},"B3(d)","Overseas Depositories (holding DRs) (balancing figure)"]
[{"$nulls":10},{"$f":"+IFERROR(IF(COUNT(H13:J13),ROUND(SUM(H13:J13),0),\"\"),\"\")","v":""},{"$f":"+IFERROR(IF(COUNT(K13),ROUND(K13/'Shareholding Pattern'!$L$57*100,2),\"\"),\"\")","v":""},{"$f":"IF(H13=\"\",\"\",H13)","v":""},null,{"$f":"+IFERROR(IF(COUNT(M13:N13),ROUND(SUM(M13,N13),2),\"\"),\"\")","v":""},{"$f":"+IFERROR(IF(COUNT(O13),ROUND(O13/('Shareholding Pattern'!$P$58)*100,2),\"\"),\"\")","v":""},null,null,{"$f":"+IFERROR(IF(COUNT(Q13:R13),ROUND(SUM(Q13:R13),0),\"\"),\"\")","v":""},{"$f":"+IFERROR(IF(COUNT(K13,S13),ROUND(SUM(S13,K13)/SUM('Shareholding Pattern'!$L$57,'Shareholding Pattern'!$T$57)*100,2),\"\"),\"\")","v":""},null,{"$f":"+IFERROR(IF(COUNT(U13),ROUND(SUM(U13)/SUM(K13)*100,2),\"\"),0)","v":""},{"$nulls":6},{"$f":"IF(SUM(H13:W13)>0,1,0)","v":0},{"$f":"SUM(AC15:AC65535)","v":0}]
[{"$nulls":6},"Disclosure of shareholder holding more than 1% of total number of shares"]
[]
[{"$nulls":5},"Click here to go back","Total",{"$f":"+IFERROR(IF(COUNT(H13:H15),ROUND(SUM(H13:H15),0),\"\"),\"\")","v":""},{"$f":"+IFERROR(IF(COUNT(I13:I15),ROUND(SUM(I13:I15),0),\"\"),\"\")","v":""},{"$f":"+IFERROR(IF(COUNT(J13:J15),ROUND(SUM(J13:J15),0),\"\"),\"\")","v":""},{"$f":"+IFERROR(IF(COUNT(K13:K15),ROUND(SUM(K13:K15),0),\"\"),\"\")","v":""},{"$f":"+IFERROR(IF(COUNT(K16),ROUND(K16/'Shareholding Pattern'!$L$57*100,2),\"\"),\"\")","v":""},{"$f":"+IFERROR(IF(COUNT(M13:M15),ROUND(SUM(M13:M15),0),\"\"),\"\")","v":""},{"$f":"+IFERROR(IF(COUNT(N13:N15),ROUND(SUM(N13:N15),0),\"\"),\"\")","v":""},{"$f":"+IFERROR(IF(COUNT(O13:O15),ROUND(SUM(O13:O15),0),\"\"),\"\")","v":""},{"$f":"+IFERROR(IF(COUNT(O16),ROUND(O16/('Shareholding Pattern'!$P$58)*100,2),\"\"),\"\")","v":""},{"$f":"+IFERROR(IF(COUNT(Q13:Q15),ROUND(SUM(Q13:Q15),0),\"\"),\"\")","v":""},{"$f":"+IFERROR(IF(COUNT(R13:R15),ROUND(SUM(R13:R15),0),\"\"),\"\")","v":""},{"$f":"+IFERROR(IF(COUNT(S13:S15),ROUND(SUM(S13:S15),0),\"\"),\"\")","v":""},{"$f":"+IFERROR(IF(COUNT(K16,S16),ROUND(SUM(S16,K16)/SUM('Shareholding Pattern'!$L$57,'Shareholding Pattern'!$T$57)*100,2),\"\"),\"\")","v":""},{"$f":"+IFERROR(IF(COUNT(U13:U15),ROUND(SUM(U13:U15),0),\"\"),\"\")","v":""},{"$f":"+IFERROR(IF(COUNT(U16),ROUND(SUM(U16)/SUM(K16)*100,2),\"\"),0)","v":""},{"$f":"+IFERROR(IF(COUNT(W13:W15),ROUND(SUM(W13:W15),0),\"\"),\"\")","v":""}]

{"sheet":"Other_NonInsti","index":30,"n_rows":16,"n_cols":53,"rows_kept":16,"hidden":true,"merged":[[8,3,10,3],[8,4,10,4],[8,5,10,5],[8,6,10,6],[8,7,10,7],[8,8,10,8],[8,9,10,9],[8,10,10,10],[8,11,10,11],[8,12,10,12],[8,13,10,13],[8,14,8,17],[8,18,10,18],[8,19,10,19],[8,20,10,20],[8,21,10,21],[8,22,9,23],[8,24,10,24],[8,25,10,25],[9,14,9,16],[9,17,10,17]]}
[{"$nulls":8},0,0,{"$nulls":20},"FCCB","Foreign Portfolio Investors (Category III)","Foreign Individuals","NRI","NRI – Repat","NRI – Non- Repat","Trusts","Unclaimed or Suspense or Escrow Account","Market Maker","HUF","Clearing Members","NSDL or CDSL transit","Employees","Societies","ESOP or ESOS or ESPS","Employee welfare fund","Overseas corporate bodies","Angel investors","Private equity fund","Director or Director's Relatives","Enemy Property","Bodies Corporate","Other"]
[{"$nulls":4},"Category of other non-institutions","Category or more than one percentage","Name of shareholder","Permanent account number of shareholder","Number of shareholders","Number of fully paid up equity shares","Number of partly paid-up equity shares","Number of shares underlying outstanding depository receipts","Total number of shares","Shareholding as a percentage of total number of shares held by promoters and public shareholders and custodians or DR holders","Number of voting rights held by same class of securities","Number of voting rights held by differential voting rights","Total Number of voting rights","Percentage of total number of voting rights","Number of shares underlying outstanding convertible securities","Number of warrant","Number of warrant and convertible securities","Total shareholding as a percentage assuming full conversion of convertible securities","Number of the locked-in-shares ","Locked-in-shares as a percentage of total number of shares","Number of equity shares held in dematerialized form","Reason for not providing PAN"]
[{"$nulls":8},{"$f":"+IFERROR(IF(COUNT(I13:I15),ROUND(SUMIF($F$13:I15,\"Category\",I13:I15),0),\"\"),\"\")","v":""},{"$f":"+IFERROR(IF(COUNT(J13:J15),ROUND(SUMIF($F$13:J15,\"Category\",J13:J15),0),\"\"),\"\")","v":""},{"$f":"+IFERROR(IF(COUNT(K13:K15),ROUND(SUMIF($F$13:K15,\"Category\",K13:K15),0),\"\"),\"\")","v":""},{"$f":"+IFERROR(IF(COUNT(L13:L15),ROUND(SUMIF($F$13:L15,\"Category\",L13:L15),0),\"\"),\"\")","v":""},{"$f":"+IFERROR(IF(COUNT(M13:M15),ROUND(SUMIF($F$13:M15,\"Category\",M13:M15),0),\"\"),\"\")","v":""},{"$f":"+IFERROR(IF(COUNT(N13:N15),ROUND(SUMIF($F$13:N15,\"Category\",N13:N15),2),\"\"),\"\")","v":""},{"$f":"+IFERROR(IF(COUNT(O13:O15),ROUND(SUMIF($F$13:O15,\"Category\",O13:O15),0),\"\"),\"\")","v":""},{"$f":"+IFERROR(IF(COUNT(P13:P15),ROUND(SUMIF($F$13:P15,\"Category\",P13:P15),0),\"\"),\"\")","v":""},{"$f":"+IFERROR(IF(COUNT(Q13:Q15),ROUND(SUMIF($F$13:Q15,\"Category\",Q13:Q15),0),\"\"),\"\")","v":""},{"$f":"+IFERROR(IF(COUNT(R13:R15),ROUND(SUMIF($F$13:R15,\"Category\",R13:R15),2),\"\"),\"\")","v":""},{"$f":"+IFERROR(IF(COUNT(S13:S15),ROUND(SUMIF($F$13:S15,\"Category\",S13:S15),0),\"\"),\"\")","v":""},{"$f":"+IFERROR(IF(COUNT(T13:T15),ROUND(SUMIF($F$13:T15,\"Category\",T13:T15),0),\"\"),\"\")","v":""},{"$f":"+IFERROR(IF(COUNT(U13:U15),ROUND(SUMIF($F$13:U15,\"Category\",U13:U15),0),\"\"),\"\")","v":""},{"$f":"+IFERROR(IF(COUNT(V13:V15),ROUND(SUMIF($F$13:V15,\"Category\",V13:V15),2),\"\"),\"\")","v":""},{"$f":"+IFERROR(IF(COUNT(W13:W15),ROUND(SUMIF($F$13:W15,\"Category\",W13:W15),0),\"\"),\"\")","v":""},{"$f":"+IFERROR(IF(COUNT(X13:X15),ROUND(SUMIF($F$13:X15,\"Category\",X13:X15),2),\"\"),\"\")","v":""},{"$f":"+IFERROR(IF(COUNT(Y13:Y15),ROUND(SUMIF($F$13:Y15,\"Category\",Y13:Y15),0),\"\"),\"\")","v":""}]
[]
[]
[]
[]
[]
[{"$nulls":3},"Searial No.","Category","Category / More than 1 percentage","Name\nof the \nShareholders\n     (I)","PAN \n(II)","No.\nof the \nShareholders\n     (I)","No. of fully paid up equity shares held\n(IV)","No. Of Partly paid-up equity shares held\n(V)","No. Of shares underlying Depository Receipts\n(VI)","Total nos. shares\nheld\n(VII) = (IV)+(V)+ (VI)","Shareholding as a % of total no. of shares (calculated as per SCRR, 1957)\n(VIII)\nAs a % of (A+B+C2)","Number of Voting Rights held in each class of securities\n(IX)",{"$nulls":3},"No. Of Shares Underlying Outstanding convertible securities\n(X)","No. of Shares Underlying Outstanding Warrants (Xi)","No. Of Shares Underlying Outstanding convertible securities and No. Of Warrants\n(Xi) (a)","Shareholding , as a % assuming full conversion of convertible securities (as a percentage of diluted share capital)\n(XI)= (VII)+(X)\nAs a % of (A+B+C2)","Number of Locked in shares\n(XII)",null,"Number of equity shares held in dematerialized form \n(XIV)","Reason for not providing PAN",{"$nulls":21},"Category"]
[{"$nulls":14},"No of Voting (XIV)\nRights",null,null,"Total as\na % of\nTotal\nVoting\nrights",{"$nulls":29},"More than 1 percentage of shareholding"]
[{"$nulls":14},"Class\neg:\nX","Class\neg:y","Total",{"$nulls":5},"No.\n(a)","As a % of total Shares held\n(b)"]
[{"$nulls":3},"B3(e)","Any Other (specify)"]
[{"$nulls":12},{"$f":"+IFERROR(IF(COUNT(J13:L13),ROUND(SUM(J13:L13),0),\"\"),\"\")","v":""},{"$f":"+IFERROR(IF(COUNT(M13),ROUND(M13/'Shareholding Pattern'!$L$57*100,2),\"\"),\"\")","v":""},{"$f":"IF(J13=\"\",\"\",J13)","v":""},null,{"$f":"+IFERROR(IF(COUNT(O13:P13),ROUND(SUM(O13,P13),2),\"\"),\"\")","v":""},{"$f":"+IFERROR(IF(COUNT(Q13),ROUND(Q13/('Shareholding Pattern'!$P$58)*100,2),\"\"),\"\")","v":""},null,null,{"$f":"+IFERROR(IF(COUNT(S13:T13),ROUND(SUM(S13:T13),0),\"\"),\"\")","v":""},{"$f":"+IFERROR(IF(COUNT(M13,U13),ROUND(SUM(U13,M13)/SUM('Shareholding Pattern'!$L$57,'Shareholding Pattern'!$T$57)*100,2),\"\"),\"\")","v":""},null,{"$f":"+IFERROR(IF(COUNT(W13),ROUND(SUM(W13)/SUM(M13)*100,2),\"\"),0)","v":""},{"$nulls":4},{"$f":"IF(SUM(H13:Y13)>0,1,0)","v":0},{"$f":"SUM(AC15:AC65534)","v":0}]
[{"$nulls":17},{"$f":"+IFERROR(IF(COUNT(Q14),ROUND(Q14/('Shareholding Pattern'!$P$58)*100,2),\"\"),\"\")","v":""}]
[]
[{"$nulls":6},"Click here to go back","Total",{"$f":"+IFERROR(IF(COUNT(I13:I15),ROUND(SUMIF($F$13:I15,\"Category\",I13:I15),0),\"\"),\"\")","v":""},{"$f":"+IFERROR(IF(COUNT(J13:J15),ROUND(SUMIF($F$13:J15,\"Category\",J13:J15),0),\"\"),\"\")","v":""},{"$f":"+IFERROR(IF(COUNT(K13:K15),ROUND(SUMIF($F$13:K15,\"Category\",K13:K15),0),\"\"),\"\")","v":""},{"$f":"+IFERROR(IF(COUNT(L13:L15),ROUND(SUMIF($F$13:L15,\"Category\",L13:L15),0),\"\"),\"\")","v":""},{"$f":"+IFERROR(IF(COUNT(M13:M15),ROUND(SUMIF($F$13:M15,\"Category\",M13:M15),0),\"\"),\"\")","v":""},{"$f":"+IFERROR(IF(COUNT(N13:N15),ROUND(SUMIF($F$13:N15,\"Category\",N13:N15),2),\"\"),\"\")","v":""},{"$f":"+IFERROR(IF(COUNT(O13:O15),ROUND(SUMIF($F$13:O15,\"Category\",O13:O15),0),\"\"),\"\")","v":""},{"$f":"+IFERROR(IF(COUNT(P13:P15),ROUND(SUMIF($F$13:P15,\"Category\",P13:P15),0),\"\"),\"\")","v":""},{"$f":"+IFERROR(IF(COUNT(Q13:Q15),ROUND(SUMIF($F$13:Q15,\"Category\",Q13:Q15),0),\"\"),\"\")","v":""},{"$f":"+IFERROR(IF(COUNT(R13:R15),ROUND(SUMIF($F$13:R15,\"Category\",R13:R15),2),\"\"),\"\")","v":""},{"$f":"+IFERROR(IF(COUNT(S13:S15),ROUND(SUMIF($F$13:S15,\"Category\",S13:S15),0),\"\"),\"\")","v":""},{"$f":"+IFERROR(IF(COUNT(T13:T15),ROUND(SUMIF($F$13:T15,\"Category\",T13:T15),0),\"\"),\"\")","v":""},{"$f":"+IFERROR(IF(COUNT(U13:U15),ROUND(SUMIF($F$13:U15,\"Category\",U13:U15),0),\"\"),\"\")","v":""},{"$f":"+IFERROR(IF(COUNT(V13:V15),ROUND(SUMIF($F$13:V15,\"Category\",V13:V15),2),\"\"),\"\")","v":""},{"$f":"+IFERROR(IF(COUNT(W13:W15),ROUND(SUMIF($F$13:W15,\"Category\",W13:W15),0),\"\"),\"\")","v":""},{"$f":"+IFERROR(IF(COUNT(W16),ROUND(SUM(W16)/SUM(M16)*100,2),\"\"),0)","v":""},{"$f":"+IFERROR(IF(COUNT(Y13:Y15),ROUND(SUMIF($F$13:Y15,\"Category\",Y13:Y15),0),\"\"),\"\")","v":""}]

{"sheet":"DRHolder","index":31,"n_rows":16,"n_cols":30,"rows_kept":16,"hidden":true,"merged":[[8,2,10,2],[8,3,10,3],[8,4,10,4],[8,5,10,5],[8,6,10,6],[8,7,10,7],[8,8,10,8],[8,9,10,9],[8,10,10,10],[8,11,10,11],[8,12,10,12],[8,13,8,16],[8,17,10,17],[8,18,10,18],[8,19,10,19],[8,20,10,20],[8,21,9,22],[8,23,10,23],[8,24,10,24],[9,13,9,15],[9,16,10,16]]}
[{"$nulls":8},0]
[{"$nulls":3},"Type of depository receipts","Name of the bank","Name of shareholder","Permanent account number of shareholder","Number of shareholders","Number of fully paid up equity shares","Number of partly paid-up equity shares","Number of shares underlying outstanding depository receipts","Total number of shares","Shareholding as a percentage of total number of shares held by promoters and public shareholders and custodians or DR holders","Number of voting rights held by same class of securities","Number of voting rights held by differential voting rights","Total Number of voting rights","Percentage of total number of voting rights","Number of shares underlying outstanding convertible securities","Number of warrant","Number of warrant and convertible securities","Total shareholding as a percentage assuming full conversion of convertible securities","Number of the locked-in-shares ","Locked-in-shares as a percentage of total number of shares","Number of equity shares held in dematerialized form","Reason for not providing PAN",{"$nulls":3},"GDR"]
[{"$nulls":28},"GDS"]
[{"$nulls":28},"ADR"]
[{"$nulls":28},"ADS"]
[{"$nulls":28},"SDR"]
[{"$nulls":28},"Other"]
[]
[null,null,"Serial No.","Category","Bank Name","Name\nof the \nShareholders\n     (I)","PAN \n(II)","No.\nof the \nShareholders\n     (I)","No. of fully paid up equity shares held\n(IV)","No. Of Partly paid-up equity shares held\n(V)","No. Of shares underlying Depository Receipts\n(VI)","Total nos. shares\nheld\n(VII) = (IV)+(V)+ (VI)","Shareholding as a % of total no. of shares (calculated as per SCRR, 1957)\n(VIII)\nAs a % of (A+B+C2)","Number of Voting Rights held in each class of securities\n(IX)",{"$nulls":3},"No. Of Shares Underlying Outstanding convertible securities\n(X)","No. of Shares Underlying Outstanding Warrants (Xi)","No. Of Shares Underlying Outstanding convertible securities and No. Of Warrants\n(Xi) (a)","Shareholding , as a % assuming full conversion of convertible securities (as a percentage of diluted share capital)\n(XI)= (VII)+(X)\nAs a % of (A+B+C2)","Number of Locked in shares\n(XII)",null,"Number of equity shares held in dematerialized form \n(XIV)","Reason for not providing PAN"]
[{"$nulls":13},"No of Voting (XIV)\nRights",null,null,"Total as\na % of\nTotal\nVoting\nrights"]
[{"$nulls":13},"Class\neg:\nX","Class\neg:y","Total",{"$nulls":5},"No.\n(a)","As a % of total Shares held\n(b)"]
[null,null,"C1","Custodian/DR  Holder - Name of DR Holders  (If Available)"]
[{"$nulls":7},1,{"$nulls":3},{"$f":"+IFERROR(IF(COUNT(I13:K13),ROUND(SUM(I13:K13),0),\"\"),\"\")","v":""},null,{"$f":"IF(I13=\"\",\"\",I13)","v":""},null,{"$f":"+IFERROR(IF(COUNT(N13:O13),ROUND(SUM(N13,O13),2),\"\"),\"\")","v":""},{"$f":"+IFERROR(IF(COUNT(P13),ROUND(P13/('Shareholding Pattern'!$P$58)*100,2),\"\"),\"\")","v":""},null,null,{"$f":"+IFERROR(IF(COUNT(R13:S13),ROUND(SUM(R13:S13),2),\"\"),\"\")","v":""},null,null,{"$f":"+IFERROR(IF(V13=\"\",\"\",(+IF(V13=0,0,IF(COUNT(V13,L13),ROUND(SUM(V13)/SUM(L13)*100,2),\"\")))),\"\")","v":""},{"$nulls":5},{"$f":"IF(SUM(H13:X13)>0,1,0)","v":1},{"$f":"SUM(AC15:AC65535)","v":0}]
[{"$nulls":4},"Disclosure of shareholder holding more than 1% of total number of shares"]
[{"$nulls":12},{"$f":"+IFERROR(IF(COUNT(L15),ROUND(L15/('Shareholding Pattern'!$L$57)*100,2),\"\"),\"\")","v":""},{"$nulls":3},{"$f":"+IFERROR(IF(COUNT(P15),ROUND(P15/('Shareholding Pattern'!$P$58)*100,2),\"\"),\"\")","v":""},{"$nulls":3},{"$f":"+IFERROR(IF(COUNT(L15,T15),ROUND(SUM(T15,L15)/SUM('Shareholding Pattern'!$L$57,'Shareholding Pattern'!$T$57)*100,2),\"\"),\"\")","v":""}]
[{"$nulls":5},"Click here to go back","Total",{"$f":"+IFERROR(IF(COUNT(H14:H15),ROUND(SUM(H14:H15),0),\"\"),\"\")","v":""},{"$f":"+IFERROR(IF(COUNT(I13:I15),ROUND(SUM(I13:I15),0),\"\"),\"\")","v":""},{"$f":"+IFERROR(IF(COUNT(J13:J15),ROUND(SUM(J13:J15),0),\"\"),\"\")","v":""},{"$f":"+IFERROR(IF(COUNT(K13:K15),ROUND(SUM(K13:K15),0),\"\"),\"\")","v":""},{"$f":"+IFERROR(IF(COUNT(L13:L15),ROUND(SUM(L13:L15),0),\"\"),\"\")","v":""},null,{"$f":"+IFERROR(IF(COUNT(N13:N15),ROUND(SUM(N13:N15),0),\"\"),\"\")","v":""},{"$f":"+IFERROR(IF(COUNT(O13:O15),ROUND(SUM(O13:O15),0),\"\"),\"\")","v":""},{"$f":"+IFERROR(IF(COUNT(P13:P15),ROUND(SUM(P13:P15),0),\"\"),\"\")","v":""},{"$f":"+IFERROR(IF(COUNT(P16),ROUND(P16/('Shareholding Pattern'!$P$58)*100,2),\"\"),\"\")","v":""},{"$f":"+IFERROR(IF(COUNT(R13:R15),ROUND(SUM(R13:R15),0),\"\"),\"\")","v":""},{"$f":"+IFERROR(IF(COUNT(S13:S15),ROUND(SUM(S13:S15),0),\"\"),\"\")","v":""},{"$f":"+IFERROR(IF(COUNT(T13:T15),ROUND(SUM(T13:T15),0),\"\"),\"\")","v":""},null,{"$f":"+IFERROR(IF(COUNT(V13:V15),ROUND(SUM(V13:V15),0),\"\"),\"\")","v":""},{"$f":"+IFERROR(IF(V16=\"\",\"\",(+IF(V16=0,0,IF(COUNT(V16,L16),ROUND(SUM(V16)/SUM(L16)*100,2),\"\")))),\"\")","v":""},{"$f":"+IFERROR(IF(COUNT(X13:X15),ROUND(SUM(X13:X15),0),\"\"),\"\")","v":""}]

{"sheet":"EBT","index":32,"n_rows":16,"n_cols":30,"rows_kept":16,"hidden":true,"merged":[[8,3,10,3],[8,4,10,4],[8,5,10,5],[8,6,10,6],[8,7,10,7],[8,8,10,8],[8,9,10,9],[8,10,10,10],[8,11,10,11],[8,12,8,15],[8,16,10,16],[8,17,10,17],[8,18,10,18],[8,19,10,19],[8,20,9,21],[8,22,10,22],[8,23,10,23],[9,12,9,14],[9,15,10,15]]}
[{"$nulls":8},0]
[{"$nulls":4},"Name of shareholder","Permanent account number of shareholder","Number of shareholders","Number of fully paid up equity shares","Number of partly paid-up equity shares","Number of shares underlying outstanding depository receipts","Total number of shares","Shareholding as a percentage of total number of shares held by promoters and public shareholders and custodians or DR holders","Number of voting rights held by same class of securities","Number of voting rights held by differential voting rights","Total Number of voting rights","Percentage of total number of voting rights","Number of shares underlying outstanding convertible securities","Number of warrant","Number of warrant and convertible securities","Total shareholding as a percentage assuming full conversion of convertible securities","Number of the locked-in-shares ","Locked-in-shares as a percentage of total number of shares","Number of equity shares held in dematerialized form","Reason for not providing PAN"]
[]
[]
[]
[]
[]
[]
[{"$nulls":3},"Searial No.","Name\nof the \nShareholders\n     (I)","PAN \n(II)","No.\nof the \nShareholders\n     (I)","No. of fully paid up equity shares held\n(IV)","No. Of Partly paid-up equity shares held\n(V)","No. Of shares underlying Depository Receipts\n(VI)","Total nos. shares\nheld\n(VII) = (IV)+(V)+ (VI)","Shareholding as a % of total no. of shares (calculated as per SCRR, 1957)\n(VIII)\nAs a % of (A+B+C2)","Number of Voting Rights held in each class of securities\n(IX)",{"$nulls":3},"No. Of Shares Underlying Outstanding convertible securities\n(X)","No. of Shares Underlying Outstanding Warrants (Xi)","No. Of Shares Underlying Outstanding convertible securities and No. Of Warrants\n(Xi) (a)","Shareholding , as a % assuming full conversion of convertible securities (as a percentage of diluted share capital)\n(XI)= (VII)+(X)\nAs a % of (A+B+C2)","Number of Locked in shares\n(XII)",null,"Number of equity shares held in dematerialized form \n(XIV)","Reason for not providing PAN"]
[{"$nulls":12},"No of Voting (XIV)\nRights",null,null,"Total as\na % of\nTotal\nVoting\nrights"]
[{"$nulls":12},"Class\neg:\nX","Class\neg:y","Total",{"$nulls":5},"No.\n(a)","As a % of total Shares held\n(b)"]
[{"$nulls":3},"C2","Employee Benefit Trust (under SEBI (Share based Employee Benefit) Regulations, 2014)"]
[{"$nulls":6},1,{"$nulls":3},{"$f":"+IFERROR(IF(COUNT(H13:J13),ROUND(SUM(H13:J13),0),\"\"),\"\")","v":""},{"$f":"+IFERROR(IF(COUNT(K13),ROUND(K13/'Shareholding Pattern'!$L$57*100,2),\"\"),\"\")","v":""},{"$f":"IF(H13=\"\",\"\",H13)","v":""},null,{"$f":"+IFERROR(IF(COUNT(M13:N13),ROUND(SUM(M13,N13),0),\"\"),\"\")","v":""},{"$f":"+IFERROR(IF(COUNT(O13),ROUND(O13/('Shareholding Pattern'!$P$58)*100,2),\"\"),\"\")","v":""},null,null,{"$f":"+IFERROR(IF(COUNT(Q13:R13),ROUND(SUM(Q13:R13),0),\"\"),\"\")","v":""},{"$f":"+IFERROR(IF(COUNT(K13,S13),ROUND(SUM(S13,K13)/SUM('Shareholding Pattern'!$L$57,'Shareholding Pattern'!$T$57)*100,2),\"\"),\"\")","v":""},null,{"$f":"+IFERROR(IF(U13=\"\",\"\",(IF(COUNT(U13,K13),ROUND(SUM(U13)/SUM(K13)*100,2),\"\"))),\"\")","v":""},{"$nulls":6},{"$f":"IF(SUM(H13:W13)>0,1,0)","v":0},{"$f":"SUM(AC15:AC65535)","v":0}]
[{"$nulls":5},"Disclosure of shareholder holding more than 1% of total number of shares\n"]
[]
[{"$nulls":4},"Click here to go back","Total",{"$f":"+IFERROR(IF(COUNT(G14:G15),ROUND(SUM(G14:G15),0),\"\"),\"\")","v":""},{"$f":"+IFERROR(IF(COUNT(H13:H15),ROUND(SUM(H13:H15),0),\"\"),\"\")","v":""},{"$f":"+IFERROR(IF(COUNT(I13:I15),ROUND(SUM(I13:I15),0),\"\"),\"\")","v":""},{"$f":"+IFERROR(IF(COUNT(J13:J15),ROUND(SUM(J13:J15),0),\"\"),\"\")","v":""},{"$f":"+IFERROR(IF(COUNT(K13:K15),ROUND(SUM(K13:K15),0),\"\"),\"\")","v":""},{"$f":"+IFERROR(IF(COUNT(K16),ROUND(K16/'Shareholding Pattern'!$L$57*100,2),\"\"),\"\")","v":""},{"$f":"+IFERROR(IF(COUNT(M13:M15),ROUND(SUM(M13:M15),0),\"\"),\"\")","v":""},{"$f":"+IFERROR(IF(COUNT(N13:N15),ROUND(SUM(N13:N15),0),\"\"),\"\")","v":""},{"$f":"+IFERROR(IF(COUNT(O13:O15),ROUND(SUM(O13:O15),0),\"\"),\"\")","v":""},{"$f":"+IFERROR(IF(COUNT(O16),ROUND(O16/('Shareholding Pattern'!$P$58)*100,2),\"\"),\"\")","v":""},{"$f":"+IFERROR(IF(COUNT(Q13:Q15),ROUND(SUM(Q13:Q15),0),\"\"),\"\")","v":""},{"$f":"+IFERROR(IF(COUNT(R13:R15),ROUND(SUM(R13:R15),0),\"\"),\"\")","v":""},{"$f":"+IFERROR(IF(COUNT(S13:S15),ROUND(SUM(S13:S15),0),\"\"),\"\")","v":""},{"$f":"+IFERROR(IF(COUNT(K16,S16),ROUND(SUM(S16,K16)/SUM('Shareholding Pattern'!$L$57,'Shareholding Pattern'!$T$57)*100,2),\"\"),\"\")","v":""},{"$f":"+IFERROR(IF(COUNT(U13:U15),ROUND(SUM(U13:U15),0),\"\"),\"\")","v":""},{"$f":"+IFERROR(IF(COUNT(U16,K16),ROUND(SUM(U16)/SUM(K16)*100,2),\"\"),0)","v":""},{"$f":"+IFERROR(IF(COUNT(W13:W15),ROUND(SUM(W13:W15),0),\"\"),\"\")","v":""}]

{"sheet":"Unclaimed_Prom","index":33,"n_rows":14,"n_cols":9,"rows_kept":14,"hidden":true,"merged":[[8,4,8,8],[9,4,11,4],[9,5,11,5],[9,6,11,6],[9,7,11,7],[9,8,11,8]]}
[{"$nulls":8},0]
{"$rows_empty":7}
[{"$nulls":4},"Details of Shares which remain unclaimed for Promoter & Promoter Group                    "]
[{"$nulls":4},"Searial No.","Number of shareholders","Outstanding shares held in demat or unclaimed suspense account","Voting rights which are frozen","Disclosure of notes on shares which remain unclaimed for promoter and promoter group"]
[]
[]
[]
[{"$nulls":8},"Click here to go back "]

{"sheet":"TextBlock","index":34,"n_rows":14,"n_cols":5,"rows_kept":14,"hidden":true}
[{"$nulls":4},14]
[]
[null,"115097099100115097"]
[null,"115097100097115"]
[null,"100097115100"]
[null,"115097100097115"]
[null,"080065078032078079084032065086065073076065066076069"]
[null,"110111116032097118097105108097098108101"]
[null,"110111116032097118097105108097118098108101"]
[null,"110111116032097118097105108097098108101"]
[null,"110111116032097118097105108097098108101"]
[null,"110111116032097118097105108097098108101"]
[null,"083072065082069072079076068069082083032078065077069032073083032082065074085032077065071072065078065078073032058"]
[null,"083072065082069072079076068069082083032078065077069032073083032082065074085032077065071072065078065078073032"]

{"sheet":"PAC_Public","index":35,"n_rows":14,"n_cols":9,"rows_kept":14,"hidden":true,"merged":[[8,4,8,7],[9,4,11,4],[9,5,11,5],[9,6,11,6],[9,7,11,7]]}
[{"$nulls":8},0]
{"$rows_empty":7}
[{"$nulls":4},"Details of the shareholders acting as persons in Concert for Public"]
[{"$nulls":4},"Searial No.","Name of the PAC","Number of shares","Percentage of shareholding by PAC"]
[]
[]
[]
[{"$nulls":7},"Cick here to go back"]

{"sheet":"Unclaimed_Public","index":36,"n_rows":14,"n_cols":9,"rows_kept":14,"hidden":true,"merged":[[8,4,8,7],[9,4,11,4],[9,5,11,5],[9,6,11,6],[9,7,11,7],[9,8,11,8]]}
[{"$nulls":8},0]
{"$rows_empty":7}
[{"$nulls":4},"Details of Shares which remain unclaimed for Public"]
[{"$nulls":4},"Searial No.","Number of shareholders","Outstanding shares held in demat or unclaimed suspense account","voting rights which are frozen","Disclosure of notes on shares which remain unclaimed for public shareholders"]
[]
[]
[]
[{"$nulls":8},"Click here to go back"]